Workbook

Sheet Subscription
A1: # | B1: Title | C1: Artist | D1: Issue | E1: Type | F1: Collection | G1: Quality
A2: 1444 | B2: Cock Sleeve Recommendation | C2: 212 | D2: Kairakuten BEAST 2017-04 | E2: Chapter
A3: 1172 | B3: Introduction | C3: 212 | D3: Kairakuten BEAST 2017-02 | E3: Chapter
A4: 199 | B4: Bug Zapper | C4: 40010 Prototype | D4: Kairakuten 2015-12 | E4: Chapter
A5: 844 | B5: Dac Dac ★ Screen | C5: 40010 Prototype | D5: Kairakuten 2016-10 | E5: Chapter
A6: 488 | B6: Koyori Report | C6: 40010 Prototype | D6: Kairakuten 2016-05 | E6: Chapter
A7: 929 | B7: Loose Yui | C7: 40010 Prototype | D7: Kairakuten 2015-08 | E7: Chapter | F7: Loose Yui
A8: 1275 | B8: Let Me In? | C8: A-10 | D8: X-Eros #50 | E8: Chapter
A9: 1184 | B9: Slight Fever Lesson | C9: Abe Manabu | D9: Kairakuten BEAST 2017-01 | E9: Chapter
A10: 1321 | B10: Shelter | C10: AHOBAKA | D10: Shitsurakuten 2017-02 | E10: Chapter
A11: 550 | B11: You're Cute | C11: Aimaitei Umami | D11: Shitsurakuten 2016-05 | E11: Chapter
A12: 656 | B12: Deflowered Maiden | C12: Aiue Oka | D12: X-Eros #43 | E12: Chapter | F12: Maidens
A13: 420 | B13: Dreaming Maiden | C13: Aiue Oka | D13: X-Eros #40 | E13: Chapter | F13: Maidens
A14: 12 | B14: Girlfriend Next Door | C14: Aiue Oka | D14: X-Eros #32 | E14: Chapter | F14: Girlfriend
A15: 811 | B15: Mingling Maidens | C15: Aiue Oka | D15: X-Eros #45 | E15: Chapter | F15: Maidens
A16: 137 | B16: Moonflower | C16: Aiue Oka | D16: X-Eros #35 | E16: Chapter
A17: 227 | B17: Soiled Girlfriend | C17: Aiue Oka | D17: X-Eros #37 | E17: Chapter | F17: Girlfriend
A18: 1026 | B18: Summer Fuck | C18: Aiue Oka | D18: X-Eros #48 | E18: Chapter
A19: 1323 | B19: Anytime, Anywhere, with Anyone | C19: Aiya | D19: Kairakuten 2017-01 | E19: Chapter
A20: 1044 | B20: Curve | C20: Akagi Asahito | D20: Kairakuten BEAST 2016-12 | E20: Chapter
A21: 1258 | B21: No-Man!? | C21: Akagi Asahito | D21: Kairakuten BEAST 2017-02 | E21: Chapter
A22: 1362 | B22: President Exposed | C22: Akagi Asahito | D22: Kairakuten BEAST 2017-03 | E22: Chapter
A23: 1194 | B23: Retro Film | C23: Akagi Asahito | D23: Kairakuten BEAST 2017-01 | E23: Chapter
A24: 1397 | B24: Sakura-Colored | C24: Akagi Asahito | D24: Kairakuten BEAST 2017-04 | E24: Chapter
A25: 266 | B25: Liberator | C25: Akai Mato | D25: Kairakuten 2016-01 | E25: Chapter | F25: Liberator
A26: 751 | B26: Liberators | C26: Akai Mato | D26: Kairakuten 2016-08 | E26: Chapter | F26: Liberator
A27: 847 | B27: Sakura's Hole | C27: Aki Kitahara | D27: X-Eros #46 | E27: Chapter
A28: 1055 | B28: A Sister for Each Season: season1 | C28: Akinosora | D28: X-Eros #49 | E28: Chapter | F28: A Sister for Each Season
A29: 1442 | B29: A Sister for Each Season: season2 | C29: Akinosora | D29: X-Eros #52 | E29: Chapter | F29: A Sister for Each Season
A30: 23 | B30: Bougainvillea | C30: Akinosora | D30: X-Eros #31 | E30: Chapter
A31: 902 | B31: Just a Repetition of Love | C31: Akinosora | D31: X-Eros #47 | E31: Chapter
A32: 121 | B32: Let Your Smile Bloom Chapter 2 | C32: Akinosora | D32: X-Eros #34 | E32: Chapter | F32: Let Your Smile Bloom
A33: 256 | B33: Let Your Smile Bloom Chapter 3 | C33: Akinosora | D33: X-Eros #37 | E33: Chapter | F33: Let Your Smile Bloom
A34: 435 | B34: Let Your Smile Bloom Chapter 4 | C34: Akinosora | D34: X-Eros #40 | E34: Chapter | F34: Let Your Smile Bloom
A35: 561 | B35: Let Your Smile Bloom Finale | C35: Akinosora | D35: X-Eros #42 | E35: Chapter | F35: Let Your Smile Bloom
A36: 707 | B36: Perfect Beach Day | C36: Akinosora | D36: X-Eros #44 | E36: Chapter
A37: 111 | B37: Achieving Your Dreams | C37: Akitsuki Itsuki | D37: X-Eros #35 | E37: Chapter
A38: 926 | B38: Complete Offline Photo Reference | C38: Akitsuki Itsuki | D38: X-Eros #47 | E38: Chapter
A39: 1428 | B39: Easy on the Corrections | C39: Akitsuki Itsuki | D39: X-Eros #50 | E39: Chapter
A40: 1387 | B40: Flunk the Written, Ace the Practical | C40: Akitsuki Itsuki | D40: X-Eros #52 | E40: Chapter
A41: 282 | B41: Show Me Your Transformation | C41: Akitsuki Itsuki | D41: X-Eros #30 | E41: Chapter
A42: 506 | B42: Tipsy Dead Drunk Self-Intoxication | C42: Akitsuki Itsuki | D42: X-Eros #41 | E42: Chapter
A43: 449 | B43: Behind Shadow | C43: Akiya Akira | D43: Kairakuten 2016-04 | E43: Chapter
A44: 989 | B44: Disturb!! | C44: Akiya Akira | D44: Kairakuten 2016-11 | E44: Chapter
A45: 318 | B45: Drive Me Crazy | C45: Akiya Akira | D45: Kairakuten 2016-02 | E45: Chapter
A46: 829 | B46: Find Out | C46: Akiya Akira | D46: Kairakuten 2016-09 | E46: Chapter
A47: 151 | B47: First Session | C47: Akiya Akira | D47: Kairakuten 2015-06 | E47: Chapter
... A50: 1166 | B50: Occult Cupid | C50: Alp | D50: X-Eros #50 | E50: Chapter
A51: 337 | B51: Managing Director Kishi Jurina's Fall | C51: Amano Ameno | D51: X-Eros #38 | E51: Chapter | F51: Managing Director Kishi Jurina
A52: 134 | B52: Managing Director Kishi Jurina's Reprimand | C52: Amano Ameno | D52: X-Eros #35 | E52: Chapter | F52: Managing Director Kishi Jurina
A53: 15 | B53: How to Properly Discipline Your Pet | C53: Amezawa Koma | D53: X-Eros #34 | E53: Chapter
A54: 683 | B54: Morning Maid | C54: Amezawa Koma | D54: X-Eros #44 | E54: Chapter
A55: 468 | B55: Our Secret | C55: Amezawa Koma | D55: X-Eros #41 | E55: Chapter
A56: 244 | B56: Practice Fetishism | C56: Amezawa Koma | D56: X-Eros #37 | E56: Chapter
A57: 1084 | B57: Spirit Girl | C57: Amezawa Koma | D57: X-Eros #49 | E57: Chapter
A58: 338 | B58: Winter Vacance | C58: Amezawa Koma | D58: X-Eros #39 | E58: Chapter
A59: 398 | B59: Boob Canvas | C59: Andou Shuki | D59: Kairakuten 2015-09 | E59: Chapter
A60: 1409 | B60: Heart Teach | C60: Ao Banana | D60: Shitsurakuten 2017-03 | E60: Chapter | F60: Kozue Does Her Best ❤︎
A61: 1064 | B61: Kozue Does Her Best ❤︎ | C61: Ao Banana | D61: Shitsurakuten 2016-12 | E61: Chapter | F61: Kozue Does Her Best ❤︎
A62: 476 | B62: Naughty Bath Matsuri-chan | C62: Ao Banana | D62: Shitsurakuten 2016-04 | E62: Chapter
A63: 618 | B63: Pleasurable Work | C63: Ao Banana | D63: Shitsurakuten 2016-06 | E63: Chapter
A64: 906 | B64: Runaway Regulations | C64: Ao Banana | D64: Shitsurakuten 2016-10 | E64: Chapter
A65: 1273 | B65: Give Our Lives Some Warmth | C65: Aoi Miharu | D65: X-Eros #50 | E65: Chapter
A66: 1014 | B66: Pit Immoral | C66: Aoi Miharu | D66: X-Eros #48 | E66: Chapter
A67: 1435 | B67: repaint | C67: Aoi Miharu | D67: X-Eros #52 | E67: Chapter
A68: 1191 | B68: Secret Precious Memories | C68: Aoi Miharu | D68: X-Eros #46 | E68: Chapter
A69: 782 | B69: Chigasaki-san's Medical Condition | C69: Araiguma | D69: X-Eros #44 | E69: Chapter
A70: 1127 | B70: Ellie My Love ♥ | C70: Araiguma | D70: X-Eros #46 | E70: Chapter
A71: 1192 | B71: Confession Comes After Sex | C71: Arakure | D71: Shitsurakuten 2017-01 | E71: Chapter
A72: 1088 | B72: Active ❤ Passive | C72: Aramaki Echizen | D72: X-Eros #48 | E72: Chapter
A73: 1406 | B73: Flavor Analysis | C73: Aramaki Echizen | D73: X-Eros #52 | E73: Chapter
... A80: 985 | B80: Uninvited Neira-san! | C80: Arearee | D80: X-Eros #43 | E80: Chapter
A81: 567 | B81: Enticing ♥ Twins #01 | C81: Arekusa Mahoone | D81: X-Eros #42 | E81: Chapter | F81: Enticing ♥ Twins
A82: 712 | B82: Enticing ♥ Twins #1.5 | C82: Arekusa Mahoone | D82: X-Eros #44 | E82: Chapter | F82: Enticing ♥ Twins
A83: 833 | B83: Active Idol Clothed Erotica Appreciation Party | C83: Arinotowatari | D83: X-Eros #45 | E83: Chapter
A84: 1082 | B84: Mogami-san Is in Control of My Orgasms | C84: Arinotowatari | D84: X-Eros #48 | E84: Chapter
A85: 642 | B85: Punishment Molester Train | C85: Arinotowatari | D85: X-Eros #43 | E85: Chapter
A86: 82 | B86: Emergence | C86: Asagiaya | D86: Kairakuten 2015-10 | E86: Chapter
A87: 206 | B87: Playful Maria | C87: Asagiaya | D87: Kairakuten 2015-07 | E87: Chapter
A88: 905 | B88: Nitta's Bravery | C88: Ash Yokoshima | D88: X-Eros #47 | E88: Chapter
A89: 807 | B89: Unit Cum-Dump (Temp) | C89: Ash Yokoshima | D89: X-Eros #33 | E89: Chapter
A90: 334 | B90: Bet the Bunny | C90: Ashiomi Masato | D90: Kairakuten 2016-02 | E90: Chapter
A91: 397 | B91: Minamida Lips Clinic | C91: Ashiomi Masato | D91: Kairakuten 2015-08 | E91: Chapter
A92: 492 | B92: My Alarm Clock | C92: Ashiomi Masato | D92: Kairakuten 2016-05 | E92: Chapter
A93: 165 | B93: Precious Memory | C93: Ashiomi Masato | D93: Kairakuten 2015-11 | E93: Chapter
A94: 933 | B94: Relaxation Flight | C94: Ashiomi Masato | D94: Kairakuten 2016-11 | E94: Chapter
... A105: 360 | B105: clover | C105: Azuma Tesshin | D105: Kairakuten 2016-03 | E105: Chapter
A106: 1253 | B106: Dear School Sex Life ~The Case of Chie-sensei~ | C106: Azuma Tesshin | D106: X-Eros #51 | E106: Chapter | F106: Dear School Sex Life
A107: 1254 | B107: Dear School Sex Life ~The Case of Mami-sensei~ | C107: Azuma Tesshin | D107: Kairakuten 2017-03 | E107: Chapter | F107: Dear School Sex Life
A108: 955 | B108: Delinquent Wife | C108: Azuma Tesshin | D108: Kairakuten 2016-11 | E108: Chapter
A109: 189 | B109: Home Town | C109: Azuma Tesshin | D109: Kairakuten 2015-12 | E109: Chapter
A110: 1200 | B110: Kotatsu | C110: Azuma Tesshin | D110: Kairakuten 2017-01 | E110: Chapter
A111: 975 | B111: Little Sister | C111: Azuma Tesshin | D111: X-Eros #48 | E111: Chapter
A112: 258 | B112: Misumi-san Wants to Diet!! | C112: Azuma Tesshin | D112: Kairakuten 2015-06 | E112: Chapter
A113: 333 | B113: Stairway to Adulthood | C113: Azuma Tesshin | D113: X-Eros #38 | E113: Chapter
A114: 213 | B114: That Summer Day | C114: Azuma Tesshin | D114: Kairakuten 2015-09 | E114: Chapter | F114: That Summer Day
A115: 484 | B115: The Day After That Summer Day | C115: Azuma Tesshin | D115: Kairakuten 2016-05 | E115: Chapter
A116: 220 | B116: Lady Cafe | C116: Baksheesh AT | D116: X-Eros #34 | E116: Chapter
A117: 512 | B117: Net Idol Marin-tan | C117: Baksheesh AT | D117: X-Eros #41 | E117: Chapter
A118: 810 | B118: Sister Juice Cock | C118: Baksheesh AT | D118: X-Eros #45 | E118: Chapter
...

Sheet Artist
A1: Artist | B1: Great | C1: Good | D1: Ok | E1: Meh | F1: Ok or better % | G1: Weighted Score | H1: Relative Rating | I1: Rated
A2: Overall | B2: =SUM(B4:B430) -> 0 | C2: =SUM(C4:C430) -> 0 | D2: =SUM(D4:D430) -> 0 | E2: =SUM(E4:E430) -> 0 | F2: =SUM(B2+C2+D2)/I2 -> #DIV/0! | I2: =B2+C2+D2+E2 -> 0
A3: Individual Artists with x>0 of | B3: =COUNTIF(B4:B430,">0") -> 0 | C3: =COUNTIF(C4:C430,">0")/I3 -> 0 | D3: =COUNTIF(D4:D430,">0")/I3 -> 0 | E3: =COUNTIF(E4:E430,">0")/I3 -> 0 | F3: =COUNTIF(B4:D430,">0")/I3 -> 0 | I3: 427
A4: 212 | B4: =COUNTIFS(Subscription!C:C, A4,Subscription!G:G, "Great") -> 0 | C4: =COUNTIFS(Subscription!C:C, A4,Subscription!G:G, "Good") -> 0 | D4: =COUNTIFS(Subscription!C:C, A4,Subscription!G:G, "Ok") -> 0 | E4: =COUNTIFS(Subscription!C:C, A4,Subscription!G:G, "Meh") -> 0 | F4: =SUM(B4+C4+D4)/I4 -> #DIV/0! | G4: =SUM((B4*4)+(C4*2)+(D4)) -> 0 | H4: =((G4+1.9208)/(G4+E4)-1.96*SQRT((G4*E4)/(G4+E4)+0.9604)/(G4+E4))/(1+3.8416/(G4+E4))*100 -> #DIV/0! | I4: =B4+C4+D4+E4 -> 0
A5: 108-Go | B5: =COUNTIFS(Subscription!C:C, A5,Subscription!G:G, "Great") -> 0 | C5: =COUNTIFS(Subscription!C:C, A5,Subscription!G:G, "Good") -> 0 | D5: =COUNTIFS(Subscription!C:C, A5,Subscription!G:G, "Ok") -> 0 | E5: =COUNTIFS(Subscription!C:C, A5,Subscription!G:G, "Meh") -> 0 | F5: =SUM(B5+C5+D5)/I5 -> #DIV/0! | G5: =SUM((B5*4)+(C5*2)+(D5)) -> 0 | H5: =((G5+1.9208)/(G5+E5)-1.96*SQRT((G5*E5)/(G5+E5)+0.9604)/(G5+E5))/(1+3.8416/(G5+E5))*100 -> #DIV/0! | I5: =B5+C5+D5+E5 -> 0
A6: 40010 Prototype | B6: =COUNTIFS(Subscription!C:C, A6,Subscription!G:G, "Great") -> 0 | C6: =COUNTIFS(Subscription!C:C, A6,Subscription!G:G, "Good") -> 0 | D6: =COUNTIFS(Subscription!C:C, A6,Subscription!G:G, "Ok") -> 0 | E6: =COUNTIFS(Subscription!C:C, A6,Subscription!G:G, "Meh") -> 0 | F6: =SUM(B6+C6+D6)/I6 -> #DIV/0! | G6: =SUM((B6*4)+(C6*2)+(D6)) -> 0 | H6: =((G6+1.9208)/(G6+E6)-1.96*SQRT((G6*E6)/(G6+E6)+0.9604)/(G6+E6))/(1+3.8416/(G6+E6))*100 -> #DIV/0! | I6: =B6+C6+D6+E6 -> 0
A7: A-10 | B7: =COUNTIFS(Subscription!C:C, A7,Subscription!G:G, "Great") -> 0 | C7: =COUNTIFS(Subscription!C:C, A7,Subscription!G:G, "Good") -> 0 | D7: =COUNTIFS(Subscription!C:C, A7,Subscription!G:G, "Ok") -> 0 | E7: =COUNTIFS(Subscription!C:C, A7,Subscription!G:G, "Meh") -> 0 | F7: =SUM(B7+C7+D7)/I7 -> #DIV/0! | G7: =SUM((B7*4)+(C7*2)+(D7)) -> 0 | H7: =((G7+1.9208)/(G7+E7)-1.96*SQRT((G7*E7)/(G7+E7)+0.9604)/(G7+E7))/(1+3.8416/(G7+E7))*100 -> #DIV/0! | I7: =B7+C7+D7+E7 -> 0
A8: Abe Manabu | B8: =COUNTIFS(Subscription!C:C, A8,Subscription!G:G, "Great") -> 0 | C8: =COUNTIFS(Subscription!C:C, A8,Subscription!G:G, "Good") -> 0 | D8: =COUNTIFS(Subscription!C:C, A8,Subscription!G:G, "Ok") -> 0 | E8: =COUNTIFS(Subscription!C:C, A8,Subscription!G:G, "Meh") -> 0 | F8: =SUM(B8+C8+D8)/I8 -> #DIV/0! | G8: =SUM((B8*4)+(C8*2)+(D8)) -> 0 | H8: =((G8+1.9208)/(G8+E8)-1.96*SQRT((G8*E8)/(G8+E8)+0.9604)/(G8+E8))/(1+3.8416/(G8+E8))*100 -> #DIV/0! | I8: =B8+C8+D8+E8 -> 0
A9: AHOBAKA | B9: =COUNTIFS(Subscription!C:C, A9,Subscription!G:G, "Great") -> 0 | C9: =COUNTIFS(Subscription!C:C, A9,Subscription!G:G, "Good") -> 0 | D9: =COUNTIFS(Subscription!C:C, A9,Subscription!G:G, "Ok") -> 0 | E9: =COUNTIFS(Subscription!C:C, A9,Subscription!G:G, "Meh") -> 0 | F9: =SUM(B9+C9+D9)/I9 -> #DIV/0! | G9: =SUM((B9*4)+(C9*2)+(D9)) -> 0 | H9: =((G9+1.9208)/(G9+E9)-1.96*SQRT((G9*E9)/(G9+E9)+0.9604)/(G9+E9))/(1+3.8416/(G9+E9))*100 -> #DIV/0! | I9: =B9+C9+D9+E9 -> 0
A10: Aimaitei Umami | B10: =COUNTIFS(Subscription!C:C, A10,Subscription!G:G, "Great") -> 0 | C10: =COUNTIFS(Subscription!C:C, A10,Subscription!G:G, "Good") -> 0 | D10: =COUNTIFS(Subscription!C:C, A10,Subscription!G:G, "Ok") -> 0 | E10: =COUNTIFS(Subscription!C:C, A10,Subscription!G:G, "Meh") -> 0 | F10: =SUM(B10+C10+D10)/I10 -> #DIV/0! | G10: =SUM((B10*4)+(C10*2)+(D10)) -> 0 | H10: =((G10+1.9208)/(G10+E10)-1.96*SQRT((G10*E10)/(G10+E10)+0.9604)/(G10+E10))/(1+3.8416/(G10+E10))*100 -> #DIV/0! | I10: =B10+C10+D10+E10 -> 0
A11: Aiue Oka | B11: =COUNTIFS(Subscription!C:C, A11,Subscription!G:G, "Great") -> 0 | C11: =COUNTIFS(Subscription!C:C, A11,Subscription!G:G, "Good") -> 0 | D11: =COUNTIFS(Subscription!C:C, A11,Subscription!G:G, "Ok") -> 0 | E11: =COUNTIFS(Subscription!C:C, A11,Subscription!G:G, "Meh") -> 0 | F11: =SUM(B11+C11+D11)/I11 -> #DIV/0! | G11: =SUM((B11*4)+(C11*2)+(D11)) -> 0 | H11: =((G11+1.9208)/(G11+E11)-1.96*SQRT((G11*E11)/(G11+E11)+0.9604)/(G11+E11))/(1+3.8416/(G11+E11))*100 -> #DIV/0! | I11: =B11+C11+D11+E11 -> 0
A12: Aiya | B12: =COUNTIFS(Subscription!C:C, A12,Subscription!G:G, "Great") -> 0 | C12: =COUNTIFS(Subscription!C:C, A12,Subscription!G:G, "Good") -> 0 | D12: =COUNTIFS(Subscription!C:C, A12,Subscription!G:G, "Ok") -> 0 | E12: =COUNTIFS(Subscription!C:C, A12,Subscription!G:G, "Meh") -> 0 | F12: =SUM(B12+C12+D12)/I12 -> #DIV/0! | G12: =SUM((B12*4)+(C12*2)+(D12)) -> 0 | H12: =((G12+1.9208)/(G12+E12)-1.96*SQRT((G12*E12)/(G12+E12)+0.9604)/(G12+E12))/(1+3.8416/(G12+E12))*100 -> #DIV/0! | I12: =B12+C12+D12+E12 -> 0
A13: Akagi Asahito | B13: =COUNTIFS(Subscription!C:C, A13,Subscription!G:G, "Great") -> 0 | C13: =COUNTIFS(Subscription!C:C, A13,Subscription!G:G, "Good") -> 0 | D13: =COUNTIFS(Subscription!C:C, A13,Subscription!G:G, "Ok") -> 0 | E13: =COUNTIFS(Subscription!C:C, A13,Subscription!G:G, "Meh") -> 0 | F13: =SUM(B13+C13+D13)/I13 -> #DIV/0! | G13: =SUM((B13*4)+(C13*2)+(D13)) -> 0 | H13: =((G13+1.9208)/(G13+E13)-1.96*SQRT((G13*E13)/(G13+E13)+0.9604)/(G13+E13))/(1+3.8416/(G13+E13))*100 -> #DIV/0! | I13: =B13+C13+D13+E13 -> 0
A14: Akai Mato | B14: =COUNTIFS(Subscription!C:C, A14,Subscription!G:G, "Great") -> 0 | C14: =COUNTIFS(Subscription!C:C, A14,Subscription!G:G, "Good") -> 0 | D14: =COUNTIFS(Subscription!C:C, A14,Subscription!G:G, "Ok") -> 0 | E14: =COUNTIFS(Subscription!C:C, A14,Subscription!G:G, "Meh") -> 0 | F14: =SUM(B14+C14+D14)/I14 -> #DIV/0! | G14: =SUM((B14*4)+(C14*2)+(D14)) -> 0 | H14: =((G14+1.9208)/(G14+E14)-1.96*SQRT((G14*E14)/(G14+E14)+0.9604)/(G14+E14))/(1+3.8416/(G14+E14))*100 -> #DIV/0! | I14: =B14+C14+D14+E14 -> 0
A15: Aki Kitahara | B15: =COUNTIFS(Subscription!C:C, A15,Subscription!G:G, "Great") -> 0 | C15: =COUNTIFS(Subscription!C:C, A15,Subscription!G:G, "Good") -> 0 | D15: =COUNTIFS(Subscription!C:C, A15,Subscription!G:G, "Ok") -> 0 | E15: =COUNTIFS(Subscription!C:C, A15,Subscription!G:G, "Meh") -> 0 | F15: =SUM(B15+C15+D15)/I15 -> #DIV/0! | G15: =SUM((B15*4)+(C15*2)+(D15)) -> 0 | H15: =((G15+1.9208)/(G15+E15)-1.96*SQRT((G15*E15)/(G15+E15)+0.9604)/(G15+E15))/(1+3.8416/(G15+E15))*100 -> #DIV/0! | I15: =B15+C15+D15+E15 -> 0
A16: Akinosora | B16: =COUNTIFS(Subscription!C:C, A16,Subscription!G:G, "Great") -> 0 | C16: =COUNTIFS(Subscription!C:C, A16,Subscription!G:G, "Good") -> 0 | D16: =COUNTIFS(Subscription!C:C, A16,Subscription!G:G, "Ok") -> 0 | E16: =COUNTIFS(Subscription!C:C, A16,Subscription!G:G, "Meh") -> 0 | F16: =SUM(B16+C16+D16)/I16 -> #DIV/0! | G16: =SUM((B16*4)+(C16*2)+(D16)) -> 0 | H16: =((G16+1.9208)/(G16+E16)-1.96*SQRT((G16*E16)/(G16+E16)+0.9604)/(G16+E16))/(1+3.8416/(G16+E16))*100 -> #DIV/0! | I16: =B16+C16+D16+E16 -> 0
... A430: Zanji | B430: =COUNTIFS(Subscription!C:C, A430,Subscription!G:G, "Great") -> 0 | C430: =COUNTIFS(Subscription!C:C, A430,Subscription!G:G, "Good") -> 0 | D430: =COUNTIFS(Subscription!C:C, A430,Subscription!G:G, "Ok") -> 0 | E430: =COUNTIFS(Subscription!C:C, A430,Subscription!G:G, "Meh") -> 0 | F430: =SUM(B430+C430+D430)/I430 -> #DIV/0! | G430: =SUM((B430*4)+(C430*2)+(D430)) -> 0 | H430: =((G430+1.9208)/(G430+E430)-1.96*SQRT((G430*E430)/(G430+E430)+0.9604)/(G430+E430))/(1+3.8416/(G430+E430))*100 -> #DIV/0! | I430: =B430+C430+D430+E430 -> 0

Sheet Magazine
A1: Magazine Issue | B1: Great | C1: Good | D1: Ok | E1: Meh | F1: Ok or better % | G1: Rated
A2: Overall | B2: =SUM(B3:B6) -> 0 | C2: =SUM(C3:C6) -> 0 | D2: =SUM(D3:D6) -> 0 | E2: =SUM(E3:E6) -> 0 | F2: =SUM(B2+C2+D2)/G2 -> #DIV/0! | G2: =SUM(G3:G6) -> 0
A3: Kairakuten | B3: =SUM(B7:B37) -> 0 | C3: =SUM(C7:C37) -> 0 | D3: =SUM(D7:D37) -> 0 | E3: =SUM(E7:E37) -> 0 | F3: =SUM(B3+C3+D3)/G3 -> #DIV/0! | G3: =B3+C3+D3+E3 -> 0
A4: Kairakuten BEAST | B4: =SUM(B38:B50) -> 0 | C4: =SUM(C38:C50) -> 0 | D4: =SUM(D38:D50) -> 0 | E4: =SUM(E38:E50) -> 0 | F4: =SUM(B4+C4+D4)/G4 -> #DIV/0! | G4: =B4+C4+D4+E4 -> 0
A5: Shitsurakuten | B5: =SUM(B51:B71) -> 0 | C5: =SUM(C51:C71) -> 0 | D5: =SUM(D51:D71) -> 0 | E5: =SUM(E51:E71) -> 0 | F5: =SUM(B5+C5+D5)/G5 -> #DIV/0! | G5: =B5+C5+D5+E5 -> 0
A6: X-Eros | B6: =SUM(B72:B104) -> 0 | C6: =SUM(C72:C104) -> 0 | D6: =SUM(D72:D104) -> 0 | E6: =SUM(E72:E104) -> 0 | F6: =SUM(B6+C6+D6)/G6 -> #DIV/0! | G6: =B6+C6+D6+E6 -> 0
A7: Kairakuten 2015-06 | B7: =COUNTIFS(Subscription!D:D, A7,Subscription!G:G, "Great") -> 0 | C7: =COUNTIFS(Subscription!D:D, A7,Subscription!G:G, "Good") -> 0 | D7: =COUNTIFS(Subscription!D:D, A7,Subscription!G:G, "Ok") -> 0 | E7: =COUNTIFS(Subscription!D:D, A7,Subscription!G:G, "Meh") -> 0 | F7: =SUM(B7+C7+D7)/G7 -> #DIV/0! | G7: =SUM(B7+C7+D7+E7) -> 0
A8: Kairakuten 2015-07 | B8: =COUNTIFS(Subscription!D:D, A8,Subscription!G:G, "Great") -> 0 | C8: =COUNTIFS(Subscription!D:D, A8,Subscription!G:G, "Good") -> 0 | D8: =COUNTIFS(Subscription!D:D, A8,Subscription!G:G, "Ok") -> 0 | E8: =COUNTIFS(Subscription!D:D, A8,Subscription!G:G, "Meh") -> 0 | F8: =SUM(B8+C8+D8)/G8 -> #DIV/0! | G8: =SUM(B8+C8+D8+E8) -> 0
A9: Kairakuten 2015-08 | B9: =COUNTIFS(Subscription!D:D, A9,Subscription!G:G, "Great") -> 0 | C9: =COUNTIFS(Subscription!D:D, A9,Subscription!G:G, "Good") -> 0 | D9: =COUNTIFS(Subscription!D:D, A9,Subscription!G:G, "Ok") -> 0 | E9: =COUNTIFS(Subscription!D:D, A9,Subscription!G:G, "Meh") -> 0 | F9: =SUM(B9+C9+D9)/G9 -> #DIV/0! | G9: =SUM(B9+C9+D9+E9) -> 0
A10: Kairakuten 2015-09 | B10: =COUNTIFS(Subscription!D:D, A10,Subscription!G:G, "Great") -> 0 | C10: =COUNTIFS(Subscription!D:D, A10,Subscription!G:G, "Good") -> 0 | D10: =COUNTIFS(Subscription!D:D, A10,Subscription!G:G, "Ok") -> 0 | E10: =COUNTIFS(Subscription!D:D, A10,Subscription!G:G, "Meh") -> 0 | F10: =SUM(B10+C10+D10)/G10 -> #DIV/0! | G10: =SUM(B10+C10+D10+E10) -> 0
A11: Kairakuten 2015-10 | B11: =COUNTIFS(Subscription!D:D, A11,Subscription!G:G, "Great") -> 0 | C11: =COUNTIFS(Subscription!D:D, A11,Subscription!G:G, "Good") -> 0 | D11: =COUNTIFS(Subscription!D:D, A11,Subscription!G:G, "Ok") -> 0 | E11: =COUNTIFS(Subscription!D:D, A11,Subscription!G:G, "Meh") -> 0 | F11: =SUM(B11+C11+D11)/G11 -> #DIV/0! | G11: =SUM(B11+C11+D11+E11) -> 0
A12: Kairakuten 2015-11 | B12: =COUNTIFS(Subscription!D:D, A12,Subscription!G:G, "Great") -> 0 | C12: =COUNTIFS(Subscription!D:D, A12,Subscription!G:G, "Good") -> 0 | D12: =COUNTIFS(Subscription!D:D, A12,Subscription!G:G, "Ok") -> 0 | E12: =COUNTIFS(Subscription!D:D, A12,Subscription!G:G, "Meh") -> 0 | F12: =SUM(B12+C12+D12)/G12 -> #DIV/0! | G12: =SUM(B12+C12+D12+E12) -> 0
A13: Kairakuten 2015-12 | B13: =COUNTIFS(Subscription!D:D, A13,Subscription!G:G, "Great") -> 0 | C13: =COUNTIFS(Subscription!D:D, A13,Subscription!G:G, "Good") -> 0 | D13: =COUNTIFS(Subscription!D:D, A13,Subscription!G:G, "Ok") -> 0 | E13: =COUNTIFS(Subscription!D:D, A13,Subscription!G:G, "Meh") -> 0 | F13: =SUM(B13+C13+D13)/G13 -> #DIV/0! | G13: =SUM(B13+C13+D13+E13) -> 0
A14: Kairakuten 2016-01 | B14: =COUNTIFS(Subscription!D:D, A14,Subscription!G:G, "Great") -> 0 | C14: =COUNTIFS(Subscription!D:D, A14,Subscription!G:G, "Good") -> 0 | D14: =COUNTIFS(Subscription!D:D, A14,Subscription!G:G, "Ok") -> 0 | E14: =COUNTIFS(Subscription!D:D, A14,Subscription!G:G, "Meh") -> 0 | F14: =SUM(B14+C14+D14)/G14 -> #DIV/0! | G14: =SUM(B14+C14+D14+E14) -> 0
A15: Kairakuten 2016-02 | B15: =COUNTIFS(Subscription!D:D, A15,Subscription!G:G, "Great") -> 0 | C15: =COUNTIFS(Subscription!D:D, A15,Subscription!G:G, "Good") -> 0 | D15: =COUNTIFS(Subscription!D:D, A15,Subscription!G:G, "Ok") -> 0 | E15: =COUNTIFS(Subscription!D:D, A15,Subscription!G:G, "Meh") -> 0 | F15: =SUM(B15+C15+D15)/G15 -> #DIV/0! | G15: =SUM(B15+C15+D15+E15) -> 0
A16: Kairakuten 2016-03 | B16: =COUNTIFS(Subscription!D:D, A16,Subscription!G:G, "Great") -> 0 | C16: =COUNTIFS(Subscription!D:D, A16,Subscription!G:G, "Good") -> 0 | D16: =COUNTIFS(Subscription!D:D, A16,Subscription!G:G, "Ok") -> 0 | E16: =COUNTIFS(Subscription!D:D, A16,Subscription!G:G, "Meh") -> 0 | F16: =SUM(B16+C16+D16)/G16 -> #DIV/0! | G16: =SUM(B16+C16+D16+E16) -> 0
A17: Kairakuten 2016-04 | B17: =COUNTIFS(Subscription!D:D, A17,Subscription!G:G, "Great") -> 0 | C17: =COUNTIFS(Subscription!D:D, A17,Subscription!G:G, "Good") -> 0 | D17: =COUNTIFS(Subscription!D:D, A17,Subscription!G:G, "Ok") -> 0 | E17: =COUNTIFS(Subscription!D:D, A17,Subscription!G:G, "Meh") -> 0 | F17: =SUM(B17+C17+D17)/G17 -> #DIV/0! | G17: =SUM(B17+C17+D17+E17) -> 0
A18: Kairakuten 2016-05 | B18: =COUNTIFS(Subscription!D:D, A18,Subscription!G:G, "Great") -> 0 | C18: =COUNTIFS(Subscription!D:D, A18,Subscription!G:G, "Good") -> 0 | D18: =COUNTIFS(Subscription!D:D, A18,Subscription!G:G, "Ok") -> 0 | E18: =COUNTIFS(Subscription!D:D, A18,Subscription!G:G, "Meh") -> 0 | F18: =SUM(B18+C18+D18)/G18 -> #DIV/0! | G18: =SUM(B18+C18+D18+E18) -> 0
... A104: X-Eros #62 | B104: =COUNTIFS(Subscription!D:D, A104,Subscription!G:G, "Great") -> 0 | C104: =COUNTIFS(Subscription!D:D, A104,Subscription!G:G, "Good") -> 0 | D104: =COUNTIFS(Subscription!D:D, A104,Subscription!G:G, "Ok") -> 0 | E104: =COUNTIFS(Subscription!D:D, A104,Subscription!G:G, "Meh") -> 0 | F104: =SUM(B104+C104+D104)/G104 -> #DIV/0! | G104: =SUM(B104+C104+D104+E104) -> 0

Sheet Type
A1: Type | B1: Great | C1: Good | D1: Ok | E1: Meh | F1: Ok or better % | G1: Rated
A2: Chapter | B2: =COUNTIFS(Subscription!E:E, A2,Subscription!G:G, "Great") -> 0 | C2: =COUNTIFS(Subscription!E:E, A2,Subscription!G:G, "Good") -> 0 | D2: =COUNTIFS(Subscription!E:E, A2,Subscription!G:G, "Ok") -> 0 | E2: =COUNTIFS(Subscription!E:E, A2,Subscription!G:G, "Meh") -> 0 | F2: =SUM(B2+C2+D2)/G2 -> #DIV/0! | G2: =SUM(B2+C2+D2+E2) -> 0
A3: Color Short | B3: =COUNTIFS(Subscription!E:E, A3,Subscription!G:G, "Great") -> 0 | C3: =COUNTIFS(Subscription!E:E, A3,Subscription!G:G, "Good") -> 0 | D3: =COUNTIFS(Subscription!E:E, A3,Subscription!G:G, "Ok") -> 0 | E3: =COUNTIFS(Subscription!E:E, A3,Subscription!G:G, "Meh") -> 0 | F3: =SUM(B3+C3+D3)/G3 -> #DIV/0! | G3: =SUM(B3+C3+D3+E3) -> 0
A4: Spread | B4: =COUNTIFS(Subscription!E:E, A4,Subscription!G:G, "Great") -> 0 | C4: =COUNTIFS(Subscription!E:E, A4,Subscription!G:G, "Good") -> 0 | D4: =COUNTIFS(Subscription!E:E, A4,Subscription!G:G, "Ok") -> 0 | E4: =COUNTIFS(Subscription!E:E, A4,Subscription!G:G, "Meh") -> 0 | F4: =SUM(B4+C4+D4)/G4 -> #DIV/0! | G4: =SUM(B4+C4+D4+E4) -> 0
A5: Non-H | B5: =COUNTIFS(Subscription!E:E, A5,Subscription!G:G, "Great") -> 0 | C5: =COUNTIFS(Subscription!E:E, A5,Subscription!G:G, "Good") -> 0 | D5: =COUNTIFS(Subscription!E:E, A5,Subscription!G:G, "Ok") -> 0 | E5: =COUNTIFS(Subscription!E:E, A5,Subscription!G:G, "Meh") -> 0 | F5: =SUM(B5+C5+D5)/G5 -> #DIV/0! | G5: =SUM(B5+C5+D5+E5) -> 0
A6: Interview | B6: =COUNTIFS(Subscription!E:E, A6,Subscription!G:G, "Great") -> 0 | C6: =COUNTIFS(Subscription!E:E, A6,Subscription!G:G, "Good") -> 0 | D6: =COUNTIFS(Subscription!E:E, A6,Subscription!G:G, "Ok") -> 0 | E6: =COUNTIFS(Subscription!E:E, A6,Subscription!G:G, "Meh") -> 0 | F6: =SUM(B6+C6+D6)/G6 -> #DIV/0! | G6: =SUM(B6+C6+D6+E6) -> 0
