Workbook

Sheet Death Counter
A1: Death Counter (Only counting on-screen deaths that show up in the chat) | C1: Days → | D1: Day 1 | E1: Day 2 | F1: Day 3 | G1: Day 4 | H1: Day 5 | I1: Day 6 | J1: Day 7 | K1: Day 8
A4: *Values may not entirely be accurate
A5: holoMem/Group ↓ | C5: Total | D5: =SUM(D6:D20) -> 56 | E5: =SUM(E6:E20) -> 61 | F5: =SUM(F6:F20) -> 35 | G5: =SUM(G6:G20) -> 14 | H5: =SUM(H6:H20) -> 10 | I5: =SUM(I6:I20) -> 13 | J5: =SUM(J6:J20) -> 62 | K5: =SUM(K6:K20) -> 35
A6: =IMAGE("https://api.mineatar.io/face/031fd87e-83a4-43ad-af62-71a3e4dc5b34?scale=12") | B6: AZKi | C6: =SUM(D6:K6) -> 3 | D6: =IF(COUNTIF('Extended Death Count'!C$3:C21, $B6)>0,COUNTIF('Extended Death Count'!C$3:C21, $B6),IF(OR(COUNTIF('hololive POVs by Day'!C6,"-")>0,COUNTIF('hololive POVs by Day'!C6,"✔")>0),0,"-")) -> - | E6: =IF(COUNTIF('Extended Death Count'!G$3:G21, $B6)>0,COUNTIF('Extended Death Count'!G$3:G21, $B6),IF(OR(COUNTIF('hololive POVs by Day'!D6,"-")>0,COUNTIF('hololive POVs by Day'!D6,"✔")>0),0,"-")) -> 3 | F6: =IF(COUNTIF('Extended Death Count'!K$3:K21, $B6)>0,COUNTIF('Extended Death Count'!K$3:K21, $B6),IF(OR(COUNTIF('hololive POVs by Day'!E6,"-")>0,COUNTIF('hololive POVs by Day'!E6,"✔")>0),0,"-")) -> - | G6: =IF(COUNTIF('Extended Death Count'!O$3:O21, $B6)>0,COUNTIF('Extended Death Count'!O$3:O21, $B6),IF(OR(COUNTIF('hololive POVs by Day'!F6,"-")>0,COUNTIF('hololive POVs by Day'!F6,"✔")>0),0,"-")) -> - | H6: =IF(COUNTIF('Extended Death Count'!S$3:S21, $B6)>0,COUNTIF('Extended Death Count'!S$3:S21, $B6),IF(OR(COUNTIF('hololive POVs by Day'!G6,"-")>0,COUNTIF('hololive POVs by Day'!G6,"✔")>0),0,"-")) -> - | I6: =IF(COUNTIF('Extended Death Count'!W$3:W21, $B6)>0,COUNTIF('Extended Death Count'!W$3:W21, $B6),IF(OR(COUNTIF('hololive POVs by Day'!H6,"-")>0,COUNTIF('hololive POVs by Day'!H6,"✔")>0),0,"-")) -> - | J6: =IF(COUNTIF('Extended Death Count'!AA$3:AA21, $B6)>0,COUNTIF('Extended Death Count'!AA$3:AA21, $B6),IF(OR(COUNTIF('hololive POVs by Day'!I6,"-")>0,COUNTIF('hololive POVs by Day'!I6,"✔")>0),0,"-")) -> - | K6: =IF(COUNTIF('Extended Death Count'!AE$3:AE21, $B6)>0,COUNTIF('Extended Death Count'!AE$3:AE21, $B6),IF(OR(COUNTIF('hololive POVs by Day'!J6,"-")>0,COUNTIF('hololive POVs by Day'!J6,"✔")>0),0,"-")) -> 0
A7: =image("https://api.mineatar.io/face/1f34ec92-bf0d-40b6-b5db-b8b97265d87d?scale=12") | B7: Oozora Subaru | C7: =SUM(D7:K7) -> 35 | D7: =IF(COUNTIF('Extended Death Count'!C$3:C21, $B7)>0,COUNTIF('Extended Death Count'!C$3:C21, $B7),IF(OR(COUNTIF('hololive POVs by Day'!C7,"-")>0,COUNTIF('hololive POVs by Day'!C7,"✔")>0),0,"-")) -> 4 | E7: =IF(COUNTIF('Extended Death Count'!G$3:G21, $B7)>0,COUNTIF('Extended Death Count'!G$3:G21, $B7),IF(OR(COUNTIF('hololive POVs by Day'!D7,"-")>0,COUNTIF('hololive POVs by Day'!D7,"✔")>0),0,"-")) -> 16 | F7: =IF(COUNTIF('Extended Death Count'!K$3:K21, $B7)>0,COUNTIF('Extended Death Count'!K$3:K21, $B7),IF(OR(COUNTIF('hololive POVs by Day'!E7,"-")>0,COUNTIF('hololive POVs by Day'!E7,"✔")>0),0,"-")) -> 2 | G7: =IF(COUNTIF('Extended Death Count'!O$3:O21, $B7)>0,COUNTIF('Extended Death Count'!O$3:O21, $B7),IF(OR(COUNTIF('hololive POVs by Day'!F7,"-")>0,COUNTIF('hololive POVs by Day'!F7,"✔")>0),0,"-")) -> 0 | H7: =IF(COUNTIF('Extended Death Count'!S$3:S21, $B7)>0,COUNTIF('Extended Death Count'!S$3:S21, $B7),IF(OR(COUNTIF('hololive POVs by Day'!G7,"-")>0,COUNTIF('hololive POVs by Day'!G7,"✔")>0),0,"-")) -> 0 | I7: =IF(COUNTIF('Extended Death Count'!W$3:W21, $B7)>0,COUNTIF('Extended Death Count'!W$3:W21, $B7),IF(OR(COUNTIF('hololive POVs by Day'!H7,"-")>0,COUNTIF('hololive POVs by Day'!H7,"✔")>0),0,"-")) -> 1 | J7: =IF(COUNTIF('Extended Death Count'!AA$3:AA21, $B7)>0,COUNTIF('Extended Death Count'!AA$3:AA21, $B7),IF(OR(COUNTIF('hololive POVs by Day'!I7,"-")>0,COUNTIF('hololive POVs by Day'!I7,"✔")>0),0,"-")) -> 11 | K7: =IF(COUNTIF('Extended Death Count'!AE$3:AE21, $B7)>0,COUNTIF('Extended Death Count'!AE$3:AE21, $B7),IF(OR(COUNTIF('hololive POVs by Day'!J7,"-")>0,COUNTIF('hololive POVs by Day'!J7,"✔")>0),0,"-")) -> 1
A8: =image("https://api.mineatar.io/face/967fe226-1187-4437-b462-1705c9b8d248?scale=12") | B8: Nekomata Okayu | C8: =SUM(D8:K8) -> 15 | D8: =IF(COUNTIF('Extended Death Count'!C$3:C21, $B8)>0,COUNTIF('Extended Death Count'!C$3:C21, $B8),IF(OR(COUNTIF('hololive POVs by Day'!C8,"-")>0,COUNTIF('hololive POVs by Day'!C8,"✔")>0),0,"-")) -> 8 | E8: =IF(COUNTIF('Extended Death Count'!G$3:G21, $B8)>0,COUNTIF('Extended Death Count'!G$3:G21, $B8),IF(OR(COUNTIF('hololive POVs by Day'!D8,"-")>0,COUNTIF('hololive POVs by Day'!D8,"✔")>0),0,"-")) -> 0 | F8: =IF(COUNTIF('Extended Death Count'!K$3:K21, $B8)>0,COUNTIF('Extended Death Count'!K$3:K21, $B8),IF(OR(COUNTIF('hololive POVs by Day'!E8,"-")>0,COUNTIF('hololive POVs by Day'!E8,"✔")>0),0,"-")) -> - | G8: =IF(COUNTIF('Extended Death Count'!O$3:O21, $B8)>0,COUNTIF('Extended Death Count'!O$3:O21, $B8),IF(OR(COUNTIF('hololive POVs by Day'!F8,"-")>0,COUNTIF('hololive POVs by Day'!F8,"✔")>0),0,"-")) -> 3 | H8: =IF(COUNTIF('Extended Death Count'!S$3:S21, $B8)>0,COUNTIF('Extended Death Count'!S$3:S21, $B8),IF(OR(COUNTIF('hololive POVs by Day'!G8,"-")>0,COUNTIF('hololive POVs by Day'!G8,"✔")>0),0,"-")) -> 1 | I8: =IF(COUNTIF('Extended Death Count'!W$3:W21, $B8)>0,COUNTIF('Extended Death Count'!W$3:W21, $B8),IF(OR(COUNTIF('hololive POVs by Day'!H8,"-")>0,COUNTIF('hololive POVs by Day'!H8,"✔")>0),0,"-")) -> 1 | J8: =IF(COUNTIF('Extended Death Count'!AA$3:AA21, $B8)>0,COUNTIF('Extended Death Count'!AA$3:AA21, $B8),IF(OR(COUNTIF('hololive POVs by Day'!I8,"-")>0,COUNTIF('hololive POVs by Day'!I8,"✔")>0),0,"-")) -> - | K8: =IF(COUNTIF('Extended Death Count'!AE$3:AE21, $B8)>0,COUNTIF('Extended Death Count'!AE$3:AE21, $B8),IF(OR(COUNTIF('hololive POVs by Day'!J8,"-")>0,COUNTIF('hololive POVs by Day'!J8,"✔")>0),0,"-")) -> 2
A9: =image("https://api.mineatar.io/face/3e255051-4ea8-465a-af46-28f019ec7ebb?scale=12") | B9: Usada Pekora | C9: =SUM(D9:K9) -> 54 | D9: =IF(COUNTIF('Extended Death Count'!C$3:C21, $B9)>0,COUNTIF('Extended Death Count'!C$3:C21, $B9),IF(OR(COUNTIF('hololive POVs by Day'!C9,"-")>0,COUNTIF('hololive POVs by Day'!C9,"✔")>0),0,"-")) -> 13 | E9: =IF(COUNTIF('Extended Death Count'!G$3:G21, $B9)>0,COUNTIF('Extended Death Count'!G$3:G21, $B9),IF(OR(COUNTIF('hololive POVs by Day'!D9,"-")>0,COUNTIF('hololive POVs by Day'!D9,"✔")>0),0,"-")) -> 3 | F9: =IF(COUNTIF('Extended Death Count'!K$3:K21, $B9)>0,COUNTIF('Extended Death Count'!K$3:K21, $B9),IF(OR(COUNTIF('hololive POVs by Day'!E9,"-")>0,COUNTIF('hololive POVs by Day'!E9,"✔")>0),0,"-")) -> 11 | G9: =IF(COUNTIF('Extended Death Count'!O$3:O21, $B9)>0,COUNTIF('Extended Death Count'!O$3:O21, $B9),IF(OR(COUNTIF('hololive POVs by Day'!F9,"-")>0,COUNTIF('hololive POVs by Day'!F9,"✔")>0),0,"-")) -> 1 | H9: =IF(COUNTIF('Extended Death Count'!S$3:S21, $B9)>0,COUNTIF('Extended Death Count'!S$3:S21, $B9),IF(OR(COUNTIF('hololive POVs by Day'!G9,"-")>0,COUNTIF('hololive POVs by Day'!G9,"✔")>0),0,"-")) -> 3 | I9: =IF(COUNTIF('Extended Death Count'!W$3:W21, $B9)>0,COUNTIF('Extended Death Count'!W$3:W21, $B9),IF(OR(COUNTIF('hololive POVs by Day'!H9,"-")>0,COUNTIF('hololive POVs by Day'!H9,"✔")>0),0,"-")) -> 3 | J9: =IF(COUNTIF('Extended Death Count'!AA$3:AA21, $B9)>0,COUNTIF('Extended Death Count'!AA$3:AA21, $B9),IF(OR(COUNTIF('hololive POVs by Day'!I9,"-")>0,COUNTIF('hololive POVs by Day'!I9,"✔")>0),0,"-")) -> 18 | K9: =IF(COUNTIF('Extended Death Count'!AE$3:AE21, $B9)>0,COUNTIF('Extended Death Count'!AE$3:AE21, $B9),IF(OR(COUNTIF('hololive POVs by Day'!J9,"-")>0,COUNTIF('hololive POVs by Day'!J9,"✔")>0),0,"-")) -> 2
A10: =image("https://api.mineatar.io/face/d604942f-2b4b-4452-a8da-3dbf83e235c3?scale=12") | B10: Houshou Marine | C10: =SUM(D10:K10) -> 11 | D10: =IF(COUNTIF('Extended Death Count'!C$3:C21, $B10)>0,COUNTIF('Extended Death Count'!C$3:C21, $B10),IF(OR(COUNTIF('hololive POVs by Day'!C10,"-")>0,COUNTIF('hololive POVs by Day'!C10,"✔")>0),0,"-")) -> - | E10: =IF(COUNTIF('Extended Death Count'!G$3:G21, $B10)>0,COUNTIF('Extended Death Count'!G$3:G21, $B10),IF(OR(COUNTIF('hololive POVs by Day'!D10,"-")>0,COUNTIF('hololive POVs by Day'!D10,"✔")>0),0,"-")) -> - | F10: =IF(COUNTIF('Extended Death Count'!K$3:K21, $B10)>0,COUNTIF('Extended Death Count'!K$3:K21, $B10),IF(OR(COUNTIF('hololive POVs by Day'!E10,"-")>0,COUNTIF('hololive POVs by Day'!E10,"✔")>0),0,"-")) -> - | G10: =IF(COUNTIF('Extended Death Count'!O$3:O21, $B10)>0,COUNTIF('Extended Death Count'!O$3:O21, $B10),IF(OR(COUNTIF('hololive POVs by Day'!F10,"-")>0,COUNTIF('hololive POVs by Day'!F10,"✔")>0),0,"-")) -> 0 | H10: =IF(COUNTIF('Extended Death Count'!S$3:S21, $B10)>0,COUNTIF('Extended Death Count'!S$3:S21, $B10),IF(OR(COUNTIF('hololive POVs by Day'!G10,"-")>0,COUNTIF('hololive POVs by Day'!G10,"✔")>0),0,"-")) -> - | I10: =IF(COUNTIF('Extended Death Count'!W$3:W21, $B10)>0,COUNTIF('Extended Death Count'!W$3:W21, $B10),IF(OR(COUNTIF('hololive POVs by Day'!H10,"-")>0,COUNTIF('hololive POVs by Day'!H10,"✔")>0),0,"-")) -> - | J10: =IF(COUNTIF('Extended Death Count'!AA$3:AA21, $B10)>0,COUNTIF('Extended Death Count'!AA$3:AA21, $B10),IF(OR(COUNTIF('hololive POVs by Day'!I10,"-")>0,COUNTIF('hololive POVs by Day'!I10,"✔")>0),0,"-")) -> 11 | K10: =IF(COUNTIF('Extended Death Count'!AE$3:AE21, $B10)>0,COUNTIF('Extended Death Count'!AE$3:AE21, $B10),IF(OR(COUNTIF('hololive POVs by Day'!J10,"-")>0,COUNTIF('hololive POVs by Day'!J10,"✔")>0),0,"-")) -> 0
A11: =IMAGE("https://api.mineatar.io/face/7ec7cca2-6085-4eed-89c6-3c0ef6eef5ee?scale=12") | B11: Amane Kanata | C11: =SUM(D11:K11) -> 12 | D11: =IF(COUNTIF('Extended Death Count'!C$3:C21, $B11)>0,COUNTIF('Extended Death Count'!C$3:C21, $B11),IF(OR(COUNTIF('hololive POVs by Day'!C11,"-")>0,COUNTIF('hololive POVs by Day'!C11,"✔")>0),0,"-")) -> 5 | E11: =IF(COUNTIF('Extended Death Count'!G$3:G21, $B11)>0,COUNTIF('Extended Death Count'!G$3:G21, $B11),IF(OR(COUNTIF('hololive POVs by Day'!D11,"-")>0,COUNTIF('hololive POVs by Day'!D11,"✔")>0),0,"-")) -> 3 | F11: =IF(COUNTIF('Extended Death Count'!K$3:K21, $B11)>0,COUNTIF('Extended Death Count'!K$3:K21, $B11),IF(OR(COUNTIF('hololive POVs by Day'!E11,"-")>0,COUNTIF('hololive POVs by Day'!E11,"✔")>0),0,"-")) -> - | G11: =IF(COUNTIF('Extended Death Count'!O$3:O21, $B11)>0,COUNTIF('Extended Death Count'!O$3:O21, $B11),IF(OR(COUNTIF('hololive POVs by Day'!F11,"-")>0,COUNTIF('hololive POVs by Day'!F11,"✔")>0),0,"-")) -> - | H11: =IF(COUNTIF('Extended Death Count'!S$3:S21, $B11)>0,COUNTIF('Extended Death Count'!S$3:S21, $B11),IF(OR(COUNTIF('hololive POVs by Day'!G11,"-")>0,COUNTIF('hololive POVs by Day'!G11,"✔")>0),0,"-")) -> - | I11: =IF(COUNTIF('Extended Death Count'!W$3:W21, $B11)>0,COUNTIF('Extended Death Count'!W$3:W21, $B11),IF(OR(COUNTIF('hololive POVs by Day'!H11,"-")>0,COUNTIF('hololive POVs by Day'!H11,"✔")>0),0,"-")) -> - | J11: =IF(COUNTIF('Extended Death Count'!AA$3:AA21, $B11)>0,COUNTIF('Extended Death Count'!AA$3:AA21, $B11),IF(OR(COUNTIF('hololive POVs by Day'!I11,"-")>0,COUNTIF('hololive POVs by Day'!I11,"✔")>0),0,"-")) -> - | K11: =IF(COUNTIF('Extended Death Count'!AE$3:AE21, $B11)>0,COUNTIF('Extended Death Count'!AE$3:AE21, $B11),IF(OR(COUNTIF('hololive POVs by Day'!J11,"-")>0,COUNTIF('hololive POVs by Day'!J11,"✔")>0),0,"-")) -> 4
A12: =image("https://api.mineatar.io/face/7624f07c54534c6c88c1f85316bd9e01?scale=32") | B12: Himemori Luna | C12: =SUM(D12:K12) -> 10 | D12: =IF(COUNTIF('Extended Death Count'!C$3:C21, $B12)>0,COUNTIF('Extended Death Count'!C$3:C21, $B12),IF(OR(COUNTIF('hololive POVs by Day'!C12,"-")>0,COUNTIF('hololive POVs by Day'!C12,"✔")>0),0,"-")) -> - | E12: =IF(COUNTIF('Extended Death Count'!G$3:G21, $B12)>0,COUNTIF('Extended Death Count'!G$3:G21, $B12),IF(OR(COUNTIF('hololive POVs by Day'!D12,"-")>0,COUNTIF('hololive POVs by Day'!D12,"✔")>0),0,"-")) -> 6 | F12: =IF(COUNTIF('Extended Death Count'!K$3:K21, $B12)>0,COUNTIF('Extended Death Count'!K$3:K21, $B12),IF(OR(COUNTIF('hololive POVs by Day'!E12,"-")>0,COUNTIF('hololive POVs by Day'!E12,"✔")>0),0,"-")) -> - | G12: =IF(COUNTIF('Extended Death Count'!O$3:O21, $B12)>0,COUNTIF('Extended Death Count'!O$3:O21, $B12),IF(OR(COUNTIF('hololive POVs by Day'!F12,"-")>0,COUNTIF('hololive POVs by Day'!F12,"✔")>0),0,"-")) -> - | H12: =IF(COUNTIF('Extended Death Count'!S$3:S21, $B12)>0,COUNTIF('Extended Death Count'!S$3:S21, $B12),IF(OR(COUNTIF('hololive POVs by Day'!G12,"-")>0,COUNTIF('hololive POVs by Day'!G12,"✔")>0),0,"-")) -> - | I12: =IF(COUNTIF('Extended Death Count'!W$3:W21, $B12)>0,COUNTIF('Extended Death Count'!W$3:W21, $B12),IF(OR(COUNTIF('hololive POVs by Day'!H12,"-")>0,COUNTIF('hololive POVs by Day'!H12,"✔")>0),0,"-")) -> 1 | J12: =IF(COUNTIF('Extended Death Count'!AA$3:AA21, $B12)>0,COUNTIF('Extended Death Count'!AA$3:AA21, $B12),IF(OR(COUNTIF('hololive POVs by Day'!I12,"-")>0,COUNTIF('hololive POVs by Day'!I12,"✔")>0),0,"-")) -> - | K12: =IF(COUNTIF('Extended Death Count'!AE$3:AE21, $B12)>0,COUNTIF('Extended Death Count'!AE$3:AE21, $B12),IF(OR(COUNTIF('hololive POVs by Day'!J12,"-")>0,COUNTIF('hololive POVs by Day'!J12,"✔")>0),0,"-")) -> 3
A13: =image("https://api.mineatar.io/face/23c163a1-e2c4-4790-a9ee-799e79a3cb56?scale=12") | B13: Yukihana Lamy | C13: =SUM(D13:K13) -> 14 | D13: =IF(COUNTIF('Extended Death Count'!C$3:C21, $B13)>0,COUNTIF('Extended Death Count'!C$3:C21, $B13),IF(OR(COUNTIF('hololive POVs by Day'!C13,"-")>0,COUNTIF('hololive POVs by Day'!C13,"✔")>0),0,"-")) -> 8 | E13: =IF(COUNTIF('Extended Death Count'!G$3:G21, $B13)>0,COUNTIF('Extended Death Count'!G$3:G21, $B13),IF(OR(COUNTIF('hololive POVs by Day'!D13,"-")>0,COUNTIF('hololive POVs by Day'!D13,"✔")>0),0,"-")) -> 1 | F13: =IF(COUNTIF('Extended Death Count'!K$3:K21, $B13)>0,COUNTIF('Extended Death Count'!K$3:K21, $B13),IF(OR(COUNTIF('hololive POVs by Day'!E13,"-")>0,COUNTIF('hololive POVs by Day'!E13,"✔")>0),0,"-")) -> - | G13: =IF(COUNTIF('Extended Death Count'!O$3:O21, $B13)>0,COUNTIF('Extended Death Count'!O$3:O21, $B13),IF(OR(COUNTIF('hololive POVs by Day'!F13,"-")>0,COUNTIF('hololive POVs by Day'!F13,"✔")>0),0,"-")) -> - | H13: =IF(COUNTIF('Extended Death Count'!S$3:S21, $B13)>0,COUNTIF('Extended Death Count'!S$3:S21, $B13),IF(OR(COUNTIF('hololive POVs by Day'!G13,"-")>0,COUNTIF('hololive POVs by Day'!G13,"✔")>0),0,"-")) -> - | I13: =IF(COUNTIF('Extended Death Count'!W$3:W21, $B13)>0,COUNTIF('Extended Death Count'!W$3:W21, $B13),IF(OR(COUNTIF('hololive POVs by Day'!H13,"-")>0,COUNTIF('hololive POVs by Day'!H13,"✔")>0),0,"-")) -> 1 | J13: =IF(COUNTIF('Extended Death Count'!AA$3:AA21, $B13)>0,COUNTIF('Extended Death Count'!AA$3:AA21, $B13),IF(OR(COUNTIF('hololive POVs by Day'!I13,"-")>0,COUNTIF('hololive POVs by Day'!I13,"✔")>0),0,"-")) -> 2 | K13: =IF(COUNTIF('Extended Death Count'!AE$3:AE21, $B13)>0,COUNTIF('Extended Death Count'!AE$3:AE21, $B13),IF(OR(COUNTIF('hololive POVs by Day'!J13,"-")>0,COUNTIF('hololive POVs by Day'!J13,"✔")>0),0,"-")) -> 2
A14: =image("https://api.mineatar.io/face/6252f15b-4e9f-4207-9ab9-793dee88436c?scale=12") | B14: Momosuzu Nene | C14: =SUM(D14:K14) -> 14 | D14: =IF(COUNTIF('Extended Death Count'!C$3:C21, $B14)>0,COUNTIF('Extended Death Count'!C$3:C21, $B14),IF(OR(COUNTIF('hololive POVs by Day'!C14,"-")>0,COUNTIF('hololive POVs by Day'!C14,"✔")>0),0,"-")) -> - | E14: =IF(COUNTIF('Extended Death Count'!G$3:G21, $B14)>0,COUNTIF('Extended Death Count'!G$3:G21, $B14),IF(OR(COUNTIF('hololive POVs by Day'!D14,"-")>0,COUNTIF('hololive POVs by Day'!D14,"✔")>0),0,"-")) -> 9 | F14: =IF(COUNTIF('Extended Death Count'!K$3:K21, $B14)>0,COUNTIF('Extended Death Count'!K$3:K21, $B14),IF(OR(COUNTIF('hololive POVs by Day'!E14,"-")>0,COUNTIF('hololive POVs by Day'!E14,"✔")>0),0,"-")) -> - | G14: =IF(COUNTIF('Extended Death Count'!O$3:O21, $B14)>0,COUNTIF('Extended Death Count'!O$3:O21, $B14),IF(OR(COUNTIF('hololive POVs by Day'!F14,"-")>0,COUNTIF('hololive POVs by Day'!F14,"✔")>0),0,"-")) -> - | H14: =IF(COUNTIF('Extended Death Count'!S$3:S21, $B14)>0,COUNTIF('Extended Death Count'!S$3:S21, $B14),IF(OR(COUNTIF('hololive POVs by Day'!G14,"-")>0,COUNTIF('hololive POVs by Day'!G14,"✔")>0),0,"-")) -> - | I14: =IF(COUNTIF('Extended Death Count'!W$3:W21, $B14)>0,COUNTIF('Extended Death Count'!W$3:W21, $B14),IF(OR(COUNTIF('hololive POVs by Day'!H14,"-")>0,COUNTIF('hololive POVs by Day'!H14,"✔")>0),0,"-")) -> 1 | J14: =IF(COUNTIF('Extended Death Count'!AA$3:AA21, $B14)>0,COUNTIF('Extended Death Count'!AA$3:AA21, $B14),IF(OR(COUNTIF('hololive POVs by Day'!I14,"-")>0,COUNTIF('hololive POVs by Day'!I14,"✔")>0),0,"-")) -> 4 | K14: =IF(COUNTIF('Extended Death Count'!AE$3:AE21, $B14)>0,COUNTIF('Extended Death Count'!AE$3:AE21, $B14),IF(OR(COUNTIF('hololive POVs by Day'!J14,"-")>0,COUNTIF('hololive POVs by Day'!J14,"✔")>0),0,"-")) -> -
A15: =image("https://api.mineatar.io/face/6148828d-ed79-488e-b82e-55831c709724?scale=12") | B15: Omaru Polka | C15: =SUM(D15:K15) -> 13 | D15: =IF(COUNTIF('Extended Death Count'!C$3:C21, $B15)>0,COUNTIF('Extended Death Count'!C$3:C21, $B15),IF(OR(COUNTIF('hololive POVs by Day'!C15,"-")>0,COUNTIF('hololive POVs by Day'!C15,"✔")>0),0,"-")) -> - | E15: =IF(COUNTIF('Extended Death Count'!G$3:G21, $B15)>0,COUNTIF('Extended Death Count'!G$3:G21, $B15),IF(OR(COUNTIF('hololive POVs by Day'!D15,"-")>0,COUNTIF('hololive POVs by Day'!D15,"✔")>0),0,"-")) -> - | F15: =IF(COUNTIF('Extended Death Count'!K$3:K21, $B15)>0,COUNTIF('Extended Death Count'!K$3:K21, $B15),IF(OR(COUNTIF('hololive POVs by Day'!E15,"-")>0,COUNTIF('hololive POVs by Day'!E15,"✔")>0),0,"-")) -> - | G15: =IF(COUNTIF('Extended Death Count'!O$3:O21, $B15)>0,COUNTIF('Extended Death Count'!O$3:O21, $B15),IF(OR(COUNTIF('hololive POVs by Day'!F15,"-")>0,COUNTIF('hololive POVs by Day'!F15,"✔")>0),0,"-")) -> - | H15: =IF(COUNTIF('Extended Death Count'!S$3:S21, $B15)>0,COUNTIF('Extended Death Count'!S$3:S21, $B15),IF(OR(COUNTIF('hololive POVs by Day'!G15,"-")>0,COUNTIF('hololive POVs by Day'!G15,"✔")>0),0,"-")) -> 2 | I15: =IF(COUNTIF('Extended Death Count'!W$3:W21, $B15)>0,COUNTIF('Extended Death Count'!W$3:W21, $B15),IF(OR(COUNTIF('hololive POVs by Day'!H15,"-")>0,COUNTIF('hololive POVs by Day'!H15,"✔")>0),0,"-")) -> 1 | J15: =IF(COUNTIF('Extended Death Count'!AA$3:AA21, $B15)>0,COUNTIF('Extended Death Count'!AA$3:AA21, $B15),IF(OR(COUNTIF('hololive POVs by Day'!I15,"-")>0,COUNTIF('hololive POVs by Day'!I15,"✔")>0),0,"-")) -> 1 | K15: =IF(COUNTIF('Extended Death Count'!AE$3:AE21, $B15)>0,COUNTIF('Extended Death Count'!AE$3:AE21, $B15),IF(OR(COUNTIF('hololive POVs by Day'!J15,"-")>0,COUNTIF('hololive POVs by Day'!J15,"✔")>0),0,"-")) -> 9
A16: =image("https://api.mineatar.io/face/b41a895c-cc9f-45c7-9295-5ee7f405cb96?scale=12") | B16: La+ Darknesss | C16: =SUM(D16:K16) -> 1 | D16: =IF(COUNTIF('Extended Death Count'!C$3:C21, $B16)>0,COUNTIF('Extended Death Count'!C$3:C21, $B16),IF(OR(COUNTIF('hololive POVs by Day'!C16,"-")>0,COUNTIF('hololive POVs by Day'!C16,"✔")>0),0,"-")) -> - | E16: =IF(COUNTIF('Extended Death Count'!G$3:G21, $B16)>0,COUNTIF('Extended Death Count'!G$3:G21, $B16),IF(OR(COUNTIF('hololive POVs by Day'!D16,"-")>0,COUNTIF('hololive POVs by Day'!D16,"✔")>0),0,"-")) -> - | F16: =IF(COUNTIF('Extended Death Count'!K$3:K21, $B16)>0,COUNTIF('Extended Death Count'!K$3:K21, $B16),IF(OR(COUNTIF('hololive POVs by Day'!E16,"-")>0,COUNTIF('hololive POVs by Day'!E16,"✔")>0),0,"-")) -> - | G16: =IF(COUNTIF('Extended Death Count'!O$3:O21, $B16)>0,COUNTIF('Extended Death Count'!O$3:O21, $B16),IF(OR(COUNTIF('hololive POVs by Day'!F16,"-")>0,COUNTIF('hololive POVs by Day'!F16,"✔")>0),0,"-")) -> - | H16: =IF(COUNTIF('Extended Death Count'!S$3:S21, $B16)>0,COUNTIF('Extended Death Count'!S$3:S21, $B16),IF(OR(COUNTIF('hololive POVs by Day'!G16,"-")>0,COUNTIF('hololive POVs by Day'!G16,"✔")>0),0,"-")) -> 1 | I16: =IF(COUNTIF('Extended Death Count'!W$3:W21, $B16)>0,COUNTIF('Extended Death Count'!W$3:W21, $B16),IF(OR(COUNTIF('hololive POVs by Day'!H16,"-")>0,COUNTIF('hololive POVs by Day'!H16,"✔")>0),0,"-")) -> 0 | J16: =IF(COUNTIF('Extended Death Count'!AA$3:AA21, $B16)>0,COUNTIF('Extended Death Count'!AA$3:AA21, $B16),IF(OR(COUNTIF('hololive POVs by Day'!I16,"-")>0,COUNTIF('hololive POVs by Day'!I16,"✔")>0),0,"-")) -> - | K16: =IF(COUNTIF('Extended Death Count'!AE$3:AE21, $B16)>0,COUNTIF('Extended Death Count'!AE$3:AE21, $B16),IF(OR(COUNTIF('hololive POVs by Day'!J16,"-")>0,COUNTIF('hololive POVs by Day'!J16,"✔")>0),0,"-")) -> -
A17: =IMAGE("https://api.mineatar.io/face/aff526b0-d9e4-417b-ad8e-d172bae1ba97?scale=12") | B17: Otonose Kanade | C17: =SUM(D17:K17) -> 22 | D17: =IF(COUNTIF('Extended Death Count'!C$3:C21, $B17)>0,COUNTIF('Extended Death Count'!C$3:C21, $B17),IF(OR(COUNTIF('hololive POVs by Day'!C17,"-")>0,COUNTIF('hololive POVs by Day'!C17,"✔")>0),0,"-")) -> - | E17: =IF(COUNTIF('Extended Death Count'!G$3:G21, $B17)>0,COUNTIF('Extended Death Count'!G$3:G21, $B17),IF(OR(COUNTIF('hololive POVs by Day'!D17,"-")>0,COUNTIF('hololive POVs by Day'!D17,"✔")>0),0,"-")) -> 13 | F17: =IF(COUNTIF('Extended Death Count'!K$3:K21, $B17)>0,COUNTIF('Extended Death Count'!K$3:K21, $B17),IF(OR(COUNTIF('hololive POVs by Day'!E17,"-")>0,COUNTIF('hololive POVs by Day'!E17,"✔")>0),0,"-")) -> 2 | G17: =IF(COUNTIF('Extended Death Count'!O$3:O21, $B17)>0,COUNTIF('Extended Death Count'!O$3:O21, $B17),IF(OR(COUNTIF('hololive POVs by Day'!F17,"-")>0,COUNTIF('hololive POVs by Day'!F17,"✔")>0),0,"-")) -> 4 | H17: =IF(COUNTIF('Extended Death Count'!S$3:S21, $B17)>0,COUNTIF('Extended Death Count'!S$3:S21, $B17),IF(OR(COUNTIF('hololive POVs by Day'!G17,"-")>0,COUNTIF('hololive POVs by Day'!G17,"✔")>0),0,"-")) -> - | I17: =IF(COUNTIF('Extended Death Count'!W$3:W21, $B17)>0,COUNTIF('Extended Death Count'!W$3:W21, $B17),IF(OR(COUNTIF('hololive POVs by Day'!H17,"-")>0,COUNTIF('hololive POVs by Day'!H17,"✔")>0),0,"-")) -> - | J17: =IF(COUNTIF('Extended Death Count'!AA$3:AA21, $B17)>0,COUNTIF('Extended Death Count'!AA$3:AA21, $B17),IF(OR(COUNTIF('hololive POVs by Day'!I17,"-")>0,COUNTIF('hololive POVs by Day'!I17,"✔")>0),0,"-")) -> - | K17: =IF(COUNTIF('Extended Death Count'!AE$3:AE21, $B17)>0,COUNTIF('Extended Death Count'!AE$3:AE21, $B17),IF(OR(COUNTIF('hololive POVs by Day'!J17,"-")>0,COUNTIF('hololive POVs by Day'!J17,"✔")>0),0,"-")) -> 3
A18: =IMAGE("https://api.mineatar.io/face/8d793ab1-21a8-4162-845f-8779447d229f?scale=12") | B18: Ichijou Ririka | C18: =SUM(D18:K18) -> 24 | D18: =IF(COUNTIF('Extended Death Count'!C$3:C21, $B18)>0,COUNTIF('Extended Death Count'!C$3:C21, $B18),IF(OR(COUNTIF('hololive POVs by Day'!C18,"-")>0,COUNTIF('hololive POVs by Day'!C18,"✔")>0),0,"-")) -> 3 | E18: =IF(COUNTIF('Extended Death Count'!G$3:G21, $B18)>0,COUNTIF('Extended Death Count'!G$3:G21, $B18),IF(OR(COUNTIF('hololive POVs by Day'!D18,"-")>0,COUNTIF('hololive POVs by Day'!D18,"✔")>0),0,"-")) -> - | F18: =IF(COUNTIF('Extended Death Count'!K$3:K21, $B18)>0,COUNTIF('Extended Death Count'!K$3:K21, $B18),IF(OR(COUNTIF('hololive POVs by Day'!E18,"-")>0,COUNTIF('hololive POVs by Day'!E18,"✔")>0),0,"-")) -> 17 | G18: =IF(COUNTIF('Extended Death Count'!O$3:O21, $B18)>0,COUNTIF('Extended Death Count'!O$3:O21, $B18),IF(OR(COUNTIF('hololive POVs by Day'!F18,"-")>0,COUNTIF('hololive POVs by Day'!F18,"✔")>0),0,"-")) -> 1 | H18: =IF(COUNTIF('Extended Death Count'!S$3:S21, $B18)>0,COUNTIF('Extended Death Count'!S$3:S21, $B18),IF(OR(COUNTIF('hololive POVs by Day'!G18,"-")>0,COUNTIF('hololive POVs by Day'!G18,"✔")>0),0,"-")) -> - | I18: =IF(COUNTIF('Extended Death Count'!W$3:W21, $B18)>0,COUNTIF('Extended Death Count'!W$3:W21, $B18),IF(OR(COUNTIF('hololive POVs by Day'!H18,"-")>0,COUNTIF('hololive POVs by Day'!H18,"✔")>0),0,"-")) -> - | J18: =IF(COUNTIF('Extended Death Count'!AA$3:AA21, $B18)>0,COUNTIF('Extended Death Count'!AA$3:AA21, $B18),IF(OR(COUNTIF('hololive POVs by Day'!I18,"-")>0,COUNTIF('hololive POVs by Day'!I18,"✔")>0),0,"-")) -> - | K18: =IF(COUNTIF('Extended Death Count'!AE$3:AE21, $B18)>0,COUNTIF('Extended Death Count'!AE$3:AE21, $B18),IF(OR(COUNTIF('hololive POVs by Day'!J18,"-")>0,COUNTIF('hololive POVs by Day'!J18,"✔")>0),0,"-")) -> 3
A19: =image("https://api.mineatar.io/face/dac5682c-16fd-45fd-8081-9a2000a7048d?scale=12") | B19: Mizumiya Su | C19: =SUM(D19:K19) -> 22 | D19: =IF(COUNTIF('Extended Death Count'!C$3:C21, $B19)>0,COUNTIF('Extended Death Count'!C$3:C21, $B19),IF(OR(COUNTIF('hololive POVs by Day'!C19,"-")>0,COUNTIF('hololive POVs by Day'!C19,"✔")>0),0,"-")) -> 9 | E19: =IF(COUNTIF('Extended Death Count'!G$3:G21, $B19)>0,COUNTIF('Extended Death Count'!G$3:G21, $B19),IF(OR(COUNTIF('hololive POVs by Day'!D19,"-")>0,COUNTIF('hololive POVs by Day'!D19,"✔")>0),0,"-")) -> 5 | F19: =IF(COUNTIF('Extended Death Count'!K$3:K21, $B19)>0,COUNTIF('Extended Death Count'!K$3:K21, $B19),IF(OR(COUNTIF('hololive POVs by Day'!E19,"-")>0,COUNTIF('hololive POVs by Day'!E19,"✔")>0),0,"-")) -> 3 | G19: =IF(COUNTIF('Extended Death Count'!O$3:O21, $B19)>0,COUNTIF('Extended Death Count'!O$3:O21, $B19),IF(OR(COUNTIF('hololive POVs by Day'!F19,"-")>0,COUNTIF('hololive POVs by Day'!F19,"✔")>0),0,"-")) -> 1 | H19: =IF(COUNTIF('Extended Death Count'!S$3:S21, $B19)>0,COUNTIF('Extended Death Count'!S$3:S21, $B19),IF(OR(COUNTIF('hololive POVs by Day'!G19,"-")>0,COUNTIF('hololive POVs by Day'!G19,"✔")>0),0,"-")) -> 2 | I19: =IF(COUNTIF('Extended Death Count'!W$3:W21, $B19)>0,COUNTIF('Extended Death Count'!W$3:W21, $B19),IF(OR(COUNTIF('hololive POVs by Day'!H19,"-")>0,COUNTIF('hololive POVs by Day'!H19,"✔")>0),0,"-")) -> 0 | J19: =IF(COUNTIF('Extended Death Count'!AA$3:AA21, $B19)>0,COUNTIF('Extended Death Count'!AA$3:AA21, $B19),IF(OR(COUNTIF('hololive POVs by Day'!I19,"-")>0,COUNTIF('hololive POVs by Day'!I19,"✔")>0),0,"-")) -> - | K19: =IF(COUNTIF('Extended Death Count'!AE$3:AE21, $B19)>0,COUNTIF('Extended Death Count'!AE$3:AE21, $B19),IF(OR(COUNTIF('hololive POVs by Day'!J19,"-")>0,COUNTIF('hololive POVs by Day'!J19,"✔")>0),0,"-")) -> 2
A20: =image("https://api.mineatar.io/face/c55046b1-44a0-448a-bec1-fd6c2700230d?scale=12") | B20: Kikirara Vivi | C20: =SUM(D20:K20) -> 36 | D20: =IF(COUNTIF('Extended Death Count'!C$3:C21, $B20)>0,COUNTIF('Extended Death Count'!C$3:C21, $B20),IF(OR(COUNTIF('hololive POVs by Day'!C20,"-")>0,COUNTIF('hololive POVs by Day'!C20,"✔")>0),0,"-")) -> 6 | E20: =IF(COUNTIF('Extended Death Count'!G$3:G21, $B20)>0,COUNTIF('Extended Death Count'!G$3:G21, $B20),IF(OR(COUNTIF('hololive POVs by Day'!D20,"-")>0,COUNTIF('hololive POVs by Day'!D20,"✔")>0),0,"-")) -> 2 | F20: =IF(COUNTIF('Extended Death Count'!K$3:K21, $B20)>0,COUNTIF('Extended Death Count'!K$3:K21, $B20),IF(OR(COUNTIF('hololive POVs by Day'!E20,"-")>0,COUNTIF('hololive POVs by Day'!E20,"✔")>0),0,"-")) -> 0 | G20: =IF(COUNTIF('Extended Death Count'!O$3:O21, $B20)>0,COUNTIF('Extended Death Count'!O$3:O21, $B20),IF(OR(COUNTIF('hololive POVs by Day'!F20,"-")>0,COUNTIF('hololive POVs by Day'!F20,"✔")>0),0,"-")) -> 4 | H20: =IF(COUNTIF('Extended Death Count'!S$3:S21, $B20)>0,COUNTIF('Extended Death Count'!S$3:S21, $B20),IF(OR(COUNTIF('hololive POVs by Day'!G20,"-")>0,COUNTIF('hololive POVs by Day'!G20,"✔")>0),0,"-")) -> 1 | I20: =IF(COUNTIF('Extended Death Count'!W$3:W21, $B20)>0,COUNTIF('Extended Death Count'!W$3:W21, $B20),IF(OR(COUNTIF('hololive POVs by Day'!H20,"-")>0,COUNTIF('hololive POVs by Day'!H20,"✔")>0),0,"-")) -> 4 | J20: =IF(COUNTIF('Extended Death Count'!AA$3:AA21, $B20)>0,COUNTIF('Extended Death Count'!AA$3:AA21, $B20),IF(OR(COUNTIF('hololive POVs by Day'!I20,"-")>0,COUNTIF('hololive POVs by Day'!I20,"✔")>0),0,"-")) -> 15 | K20: =IF(COUNTIF('Extended Death Count'!AE$3:AE21, $B20)>0,COUNTIF('Extended Death Count'!AE$3:AE21, $B20),IF(OR(COUNTIF('hololive POVs by Day'!J20,"-")>0,COUNTIF('hololive POVs by Day'!J20,"✔")>0),0,"-")) -> 4
A21: -Total- | C21: =SUM(C6:C20) -> 286 | D21: =SUM(D6:D20) -> 56 | E21: =SUM(E6:E20) -> 61 | F21: =SUM(F6:F20) -> 35 | G21: =SUM(G6:G20) -> 14 | H21: =SUM(H6:H20) -> 10 | I21: =SUM(I6:I20) -> 13 | J21: =SUM(J6:J20) -> 62 | K21: =SUM(K6:K20) -> 35

Sheet Extended Death Count
A1: Day 1 | E1: Day 2 | I1: Day 3 | M1: Day 4 | Q1: Day 5 | U1: Day 6 | Y1: Day 7 | AC1: Day 8
A2: Death No. | B2: HoloMem | D2: Cause of Death | E2: Death No. | F2: HoloMem | H2: Cause of Death | I2: Death No. | J2: HoloMem | L2: Cause of Death | M2: Death No. | N2: HoloMem | P2: Cause of Death | Q2: Death No. | R2: HoloMem | T2: Cause of Death | U2: Death No. | V2: HoloMem | X2: Cause of Death | Y2: Death No. | Z2: HoloMem | AB2: Cause of Death | AC2: Death No. | AD2: HoloMem | AF2: Cause of Death
A3: 1 | B3: {=XLOOKUP(C3,'Death Counter'!$B$6:$B64,'Death Counter'!$A$6:$A64,"")} | C3: Kikirara Vivi | D3: Fire (went up in flames) | E3: =A58+1 -> 57 | F3: {=XLOOKUP(G3,'Death Counter'!$B$6:$B64,'Death Counter'!$A$6:$A64,"")} | G3: Himemori Luna | H3: shot by Momosuzu Nene (with a Dragonbone Bow) | I3: 118 | J3: {=XLOOKUP(K3,'Death Counter'!$B$6:$B64,'Death Counter'!$A$6:$A64,"")} | K3: Usada Pekora | L3: Cooked (by a Fire Dragon) | M3: =I37+1 -> 153 | N3: {=XLOOKUP(O3,'Death Counter'!$B$6:$B64,'Death Counter'!$A$6:$A64,"")} | O3: Otonose Kanade | P3: Cooked (by a Fire Dragon) | Q3: =M16+1 -> 167 | R3: {=XLOOKUP(S3,'Death Counter'!$B$6:$B64,'Death Counter'!$A$6:$A64,"")} | S3: La+ Darknesss | T3: Annihilated (by an Ice Dragon) | U3: =Q12+1 -> 177 | V3: {=XLOOKUP(W3,'Death Counter'!$B$6:$B64,'Death Counter'!$A$6:$A64,"")} | W3: Omaru Polka | X3: Cooked (by a Fire Dragon) | Y3: =U15+1 -> 190 | Z3: {=XLOOKUP(AA3,'Death Counter'!$B$6:$B64,'Death Counter'!$A$6:$A64,"")} | AA3: Usada Pekora | AB3: Incinerated (by Oozora Subaru's Fire Dragon) | AC3: =Y64+1 -> 252 | AD3: {=XLOOKUP(AE3,'Death Counter'!$B$6:$B64,'Death Counter'!$A$6:$A64,"")} | AE3: Otonose Kanade | AF3: Fall Damage (doomed to fall by Death Worm)
A4: =A3+1 -> 2 | B4: {=XLOOKUP(C4,'Death Counter'!$B$6:$B64,'Death Counter'!$A$6:$A64,"")} | C4: Amane Kanata | D4: Ichijou Ririka | E4: =E3+1 -> 58 | F4: {=XLOOKUP(G4,'Death Counter'!$B$6:$B64,'Death Counter'!$A$6:$A64,"")} | G4: Amane Kanata | H4: Petrification (while fighting a Gorgon) | I4: =I3+1 -> 119 | J4: {=XLOOKUP(K4,'Death Counter'!$B$6:$B64,'Death Counter'!$A$6:$A64,"")} | K4: Ichijou Ririka | L4: Burnt to Death | M4: =M3+1 -> 154 | N4: {=XLOOKUP(O4,'Death Counter'!$B$6:$B64,'Death Counter'!$A$6:$A64,"")} | O4: Ichijou Ririka | P4: Fall Damage (from a high place) | Q4: =Q3+1 -> 168 | R4: {=XLOOKUP(S4,'Death Counter'!$B$6:$B64,'Death Counter'!$A$6:$A64,"")} | S4: Kikirara Vivi | T4: Fall Damage (from a high place) | U4: =U3+1 -> 178 | V4: {=XLOOKUP(W4,'Death Counter'!$B$6:$B64,'Death Counter'!$A$6:$A64,"")} | W4: Yukihana Lamy | X4: Incinerated (by a Fire Dragon) | Y4: =Y3+1 -> 191 | Z4: {=XLOOKUP(AA4,'Death Counter'!$B$6:$B64,'Death Counter'!$A$6:$A64,"")} | AA4: Houshou Marine | AB4: Fall Damage (from a high place) | AC4: =AC3+1 -> 253 | AD4: {=XLOOKUP(AE4,'Death Counter'!$B$6:$B64,'Death Counter'!$A$6:$A64,"")} | AE4: Amane Kanata | AF4: Dread Ghoul
A5: =A4+1 -> 3 | B5: {=XLOOKUP(C5,'Death Counter'!$B$6:$B64,'Death Counter'!$A$6:$A64,"")} | C5: Kikirara Vivi | D5: Petrification (while fighting a Gorgon) | E5: =E4+1 -> 59 | F5: {=XLOOKUP(G5,'Death Counter'!$B$6:$B64,'Death Counter'!$A$6:$A64,"")} | G5: Amane Kanata | H5: Petrification (while fighting a Gorgon) | I5: =I4+1 -> 120 | J5: {=XLOOKUP(K5,'Death Counter'!$B$6:$B64,'Death Counter'!$A$6:$A64,"")} | K5: Usada Pekora | L5: Cooked (by a Fire Dragon) | M5: =M4+1 -> 155 | N5: {=XLOOKUP(O5,'Death Counter'!$B$6:$B64,'Death Counter'!$A$6:$A64,"")} | O5: Kikirara Vivi | P5: Fall Damage (doomed to fall by Cyclops) | Q5: =Q4+1 -> 169 | R5: {=XLOOKUP(S5,'Death Counter'!$B$6:$B64,'Death Counter'!$A$6:$A64,"")} | S5: Nekomata Okayu | T5: Fall Damage (doomed to fall) | U5: =U4+1 -> 179 | V5: {=XLOOKUP(W5,'Death Counter'!$B$6:$B64,'Death Counter'!$A$6:$A64,"")} | W5: Nekomata Okayu | X5: Fall Damage (from a high place) | Y5: =Y4+1 -> 192 | Z5: {=XLOOKUP(AA5,'Death Counter'!$B$6:$B64,'Death Counter'!$A$6:$A64,"")} | AA5: Kikirara Vivi | AB5: Annihilated (by a Lightning Dragon) | AC5: =AC4+1 -> 254 | AD5: {=XLOOKUP(AE5,'Death Counter'!$B$6:$B64,'Death Counter'!$A$6:$A64,"")} | AE5: Amane Kanata | AF5: Shot by Mizumiya Su (with a Dragonbone Bow)
A6: =A5+1 -> 4 | B6: {=XLOOKUP(C6,'Death Counter'!$B$6:$B64,'Death Counter'!$A$6:$A64,"")} | C6: Amane Kanata | D6: Ghost | E6: =E5+1 -> 60 | F6: {=XLOOKUP(G6,'Death Counter'!$B$6:$B64,'Death Counter'!$A$6:$A64,"")} | G6: Amane Kanata | H6: Petrification (while fighting a Gorgon) | I6: =I5+1 -> 121 | J6: {=XLOOKUP(K6,'Death Counter'!$B$6:$B64,'Death Counter'!$A$6:$A64,"")} | K6: Ichijou Ririka | L6: Burnt to a Crisp (while fighting Fire Dragon) | M6: =M5+1 -> 156 | N6: {=XLOOKUP(O6,'Death Counter'!$B$6:$B64,'Death Counter'!$A$6:$A64,"")} | O6: Otonose Kanade | P6: Cyclops | Q6: =Q5+1 -> 170 | R6: {=XLOOKUP(S6,'Death Counter'!$B$6:$B64,'Death Counter'!$A$6:$A64,"")} | S6: Mizumiya Su | T6: Fall Damage (off of some vines) | U6: =U5+1 -> 180 | V6: {=XLOOKUP(W6,'Death Counter'!$B$6:$B64,'Death Counter'!$A$6:$A64,"")} | W6: Kikirara Vivi | X6: Burnt to a Crisp (while fighting Fire Dragon) | Y6: =Y5+1 -> 193 | Z6: {=XLOOKUP(AA6,'Death Counter'!$B$6:$B64,'Death Counter'!$A$6:$A64,"")} | AA6: Oozora Subaru | AB6: Fall Damage (doomed to fall by Lightning Dragon) | AC6: =AC5+1 -> 255 | AD6: {=XLOOKUP(AE6,'Death Counter'!$B$6:$B64,'Death Counter'!$A$6:$A64,"")} | AE6: Amane Kanata | AF6: Dread Beast
A7: =A6+1 -> 5 | B7: {=XLOOKUP(C7,'Death Counter'!$B$6:$B64,'Death Counter'!$A$6:$A64,"")} | C7: Kikirara Vivi | D7: Ghost | E7: =E6+1 -> 61 | F7: {=XLOOKUP(G7,'Death Counter'!$B$6:$B64,'Death Counter'!$A$6:$A64,"")} | G7: Momosuzu Nene | H7: Ghost | I7: =I6+1 -> 122 | J7: {=XLOOKUP(K7,'Death Counter'!$B$6:$B64,'Death Counter'!$A$6:$A64,"")} | K7: Usada Pekora | L7: Incinerated (by a Fire Dragon) | M7: =M6+1 -> 157 | N7: {=XLOOKUP(O7,'Death Counter'!$B$6:$B64,'Death Counter'!$A$6:$A64,"")} | O7: Nekomata Okayu | P7: shot by Mizumiya Su (with a Flame Dragonbone Bow) | Q7: =Q6+1 -> 171 | R7: {=XLOOKUP(S7,'Death Counter'!$B$6:$B64,'Death Counter'!$A$6:$A64,"")} | S7: Usada Pekora | T7: Fall Damage (from a high place) | U7: =U6+1 -> 181 | V7: {=XLOOKUP(W7,'Death Counter'!$B$6:$B64,'Death Counter'!$A$6:$A64,"")} | W7: Himemori Luna | X7: Fall Damage (doomed to fall by Fire Dragon) | Y7: =Y6+1 -> 194 | Z7: {=XLOOKUP(AA7,'Death Counter'!$B$6:$B64,'Death Counter'!$A$6:$A64,"")} | AA7: Houshou Marine | AB7: Electrocuted (from by Lightning Dragon) | AC7: =AC6+1 -> 256 | AD7: {=XLOOKUP(AE7,'Death Counter'!$B$6:$B64,'Death Counter'!$A$6:$A64,"")} | AE7: Amane Kanata | AF7: Dread Ghoul
A8: =A7+1 -> 6 | B8: {=XLOOKUP(C8,'Death Counter'!$B$6:$B64,'Death Counter'!$A$6:$A64,"")} | C8: Nekomata Okayu | D8: Petrification (while fighting a Gorgon) | E8: =E7+1 -> 62 | F8: {=XLOOKUP(G8,'Death Counter'!$B$6:$B64,'Death Counter'!$A$6:$A64,"")} | G8: Himemori Luna | H8: Ghost | I8: =I7+1 -> 123 | J8: {=XLOOKUP(K8,'Death Counter'!$B$6:$B64,'Death Counter'!$A$6:$A64,"")} | K8: Ichijou Ririka | L8: Annihilated (by a Fire Dragon) | M8: =M7+1 -> 158 | N8: {=XLOOKUP(O8,'Death Counter'!$B$6:$B64,'Death Counter'!$A$6:$A64,"")} | O8: Kikirara Vivi | P8: Sea Serpent | Q8: =Q7+1 -> 172 | R8: {=XLOOKUP(S8,'Death Counter'!$B$6:$B64,'Death Counter'!$A$6:$A64,"")} | S8: Omaru Polka | T8: Amphithere | U8: =U7+1 -> 182 | V8: {=XLOOKUP(W8,'Death Counter'!$B$6:$B64,'Death Counter'!$A$6:$A64,"")} | W8: Kikirara Vivi | X8: Annihilated (by a Fire Dragon) | Y8: =Y7+1 -> 195 | Z8: {=XLOOKUP(AA8,'Death Counter'!$B$6:$B64,'Death Counter'!$A$6:$A64,"")} | AA8: Kikirara Vivi | AB8: Annihilated (by a Lightning Dragon) | AC8: =AC7+1 -> 257 | AD8: {=XLOOKUP(AE8,'Death Counter'!$B$6:$B64,'Death Counter'!$A$6:$A64,"")} | AE8: Omaru Polka | AF8: Dread Ghoul
A9: =A8+1 -> 7 | B9: {=XLOOKUP(C9,'Death Counter'!$B$6:$B64,'Death Counter'!$A$6:$A64,"")} | C9: Usada Pekora | D9: Petrification (while fighting a Gorgon) | E9: =E8+1 -> 63 | F9: {=XLOOKUP(G9,'Death Counter'!$B$6:$B64,'Death Counter'!$A$6:$A64,"")} | G9: Momosuzu Nene | H9: Incinerated (by a Fire Dragon) | I9: =I8+1 -> 124 | J9: {=XLOOKUP(K9,'Death Counter'!$B$6:$B64,'Death Counter'!$A$6:$A64,"")} | K9: Ichijou Ririka | L9: Annihilated (by a Fire Dragon) | M9: =M8+1 -> 159 | N9: {=XLOOKUP(O9,'Death Counter'!$B$6:$B64,'Death Counter'!$A$6:$A64,"")} | O9: Otonose Kanade | P9: Sea Serpent | Q9: =Q8+1 -> 173 | R9: {=XLOOKUP(S9,'Death Counter'!$B$6:$B64,'Death Counter'!$A$6:$A64,"")} | S9: Mizumiya Su | T9: Explosion (from TNT) | U9: =U8+1 -> 183 | V9: {=XLOOKUP(W9,'Death Counter'!$B$6:$B64,'Death Counter'!$A$6:$A64,"")} | W9: Usada Pekora | X9: Suffocation | Y9: =Y8+1 -> 196 | Z9: {=XLOOKUP(AA9,'Death Counter'!$B$6:$B64,'Death Counter'!$A$6:$A64,"")} | AA9: Usada Pekora | AB9: Suffocation (while fighting Lightning Dragon) | AC9: =AC8+1 -> 258 | AD9: {=XLOOKUP(AE9,'Death Counter'!$B$6:$B64,'Death Counter'!$A$6:$A64,"")} | AE9: Ichijou Ririka | AF9: Dread Ghoul
A10: =A9+1 -> 8 | B10: {=XLOOKUP(C10,'Death Counter'!$B$6:$B64,'Death Counter'!$A$6:$A64,"")} | C10: Yukihana Lamy | D10: Petrification (while fighting a Gorgon) | E10: =E9+1 -> 64 | F10: {=XLOOKUP(G10,'Death Counter'!$B$6:$B64,'Death Counter'!$A$6:$A64,"")} | G10: Usada Pekora | H10: Burnt to a Crisp (while fighting Fire Dragon) | I10: =I9+1 -> 125 | J10: {=XLOOKUP(K10,'Death Counter'!$B$6:$B64,'Death Counter'!$A$6:$A64,"")} | K10: Usada Pekora | L10: Burnt to a Crisp (while fighting Fire Dragon) | M10: =M9+1 -> 160 | N10: {=XLOOKUP(O10,'Death Counter'!$B$6:$B64,'Death Counter'!$A$6:$A64,"")} | O10: Otonose Kanade | P10: Explosion (from a Death Worm) | Q10: =Q9+1 -> 174 | R10: {=XLOOKUP(S10,'Death Counter'!$B$6:$B64,'Death Counter'!$A$6:$A64,"")} | S10: Omaru Polka | T10: Fall Damage (doomed to fall by an Ice Dragon) | U10: =U9+1 -> 184 | V10: {=XLOOKUP(W10,'Death Counter'!$B$6:$B64,'Death Counter'!$A$6:$A64,"")} | W10: Kikirara Vivi | X10: Burnt to Death | Y10: =Y9+1 -> 197 | Z10: {=XLOOKUP(AA10,'Death Counter'!$B$6:$B64,'Death Counter'!$A$6:$A64,"")} | AA10: Houshou Marine | AB10: Fall Damage (doomed to fall by Lightning Dragon) | AC10: =AC9+1 -> 259 | AD10: {=XLOOKUP(AE10,'Death Counter'!$B$6:$B64,'Death Counter'!$A$6:$A64,"")} | AE10: Usada Pekora | AF10: Suffocation (while fighting Ice Dragon)
A11: =A10+1 -> 9 | B11: {=XLOOKUP(C11,'Death Counter'!$B$6:$B64,'Death Counter'!$A$6:$A64,"")} | C11: Amane Kanata | D11: Petrification (while fighting a Gorgon) | E11: =E10+1 -> 65 | F11: {=XLOOKUP(G11,'Death Counter'!$B$6:$B64,'Death Counter'!$A$6:$A64,"")} | G11: Oozora Subaru | H11: Burnt to a Crisp (while fighting Fire Dragon) | I11: =I10+1 -> 126 | J11: {=XLOOKUP(K11,'Death Counter'!$B$6:$B64,'Death Counter'!$A$6:$A64,"")} | K11: Ichijou Ririka | L11: Annihilated (by a Fire Dragon) | M11: =M10+1 -> 161 | N11: {=XLOOKUP(O11,'Death Counter'!$B$6:$B64,'Death Counter'!$A$6:$A64,"")} | O11: Mizumiya Su | P11: Fall Damage (doomed to fall) | Q11: =Q10+1 -> 175 | R11: {=XLOOKUP(S11,'Death Counter'!$B$6:$B64,'Death Counter'!$A$6:$A64,"")} | S11: Usada Pekora | T11: Sea Serpent | U11: =U10+1 -> 185 | V11: {=XLOOKUP(W11,'Death Counter'!$B$6:$B64,'Death Counter'!$A$6:$A64,"")} | W11: Usada Pekora | X11: Cooked (by a Fire Dragon) | Y11: =Y10+1 -> 198 | Z11: {=XLOOKUP(AA11,'Death Counter'!$B$6:$B64,'Death Counter'!$A$6:$A64,"")} | AA11: Usada Pekora | AB11: Annihilated (by a Lightning Dragon) | AC11: =AC10+1 -> 260 | AD11: {=XLOOKUP(AE11,'Death Counter'!$B$6:$B64,'Death Counter'!$A$6:$A64,"")} | AE11: Usada Pekora | AF11: Shot by Himemori Luna (with a Dragonbone Bow)
A12: =A11+1 -> 10 | B12: {=XLOOKUP(C12,'Death Counter'!$B$6:$B64,'Death Counter'!$A$6:$A64,"")} | C12: Kikirara Vivi | D12: Petrification (while fighting Oozora Subaru) | E12: =E11+1 -> 66 | F12: {=XLOOKUP(G12,'Death Counter'!$B$6:$B64,'Death Counter'!$A$6:$A64,"")} | G12: Himemori Luna | H12: Burnt to Death | I12: =I11+1 -> 127 | J12: {=XLOOKUP(K12,'Death Counter'!$B$6:$B64,'Death Counter'!$A$6:$A64,"")} | K12: Ichijou Ririka | L12: Annihilated (by a Fire Dragon) | M12: =M11+1 -> 162 | N12: {=XLOOKUP(O12,'Death Counter'!$B$6:$B64,'Death Counter'!$A$6:$A64,"")} | O12: Usada Pekora | P12: Incinerated (by a Fire Dragon) | Q12: =Q11+1 -> 176 | R12: {=XLOOKUP(S12,'Death Counter'!$B$6:$B64,'Death Counter'!$A$6:$A64,"")} | S12: Usada Pekora | T12: Withered Away (While fighting Cockatrice) | U12: =U11+1 -> 186 | V12: {=XLOOKUP(W12,'Death Counter'!$B$6:$B64,'Death Counter'!$A$6:$A64,"")} | W12: Kikirara Vivi | X12: Burnt to Death | Y12: =Y11+1 -> 199 | Z12: {=XLOOKUP(AA12,'Death Counter'!$B$6:$B64,'Death Counter'!$A$6:$A64,"")} | AA12: Kikirara Vivi | AB12: Annihilated (by a Lightning Dragon) | AC12: =AC11+1 -> 261 | AD12: {=XLOOKUP(AE12,'Death Counter'!$B$6:$B64,'Death Counter'!$A$6:$A64,"")} | AE12: Otonose Kanade | AF12: Shot by Amane Kanata (with a Dragonbone Bow)
A13: =A12+1 -> 11 | B13: {=XLOOKUP(C13,'Death Counter'!$B$6:$B64,'Death Counter'!$A$6:$A64,"")} | C13: Yukihana Lamy | D13: Petrification (from a Gorgon's Head) | E13: =E12+1 -> 67 | F13: {=XLOOKUP(G13,'Death Counter'!$B$6:$B64,'Death Counter'!$A$6:$A64,"")} | G13: Usada Pekora | H13: Annihilated (by a Fire Dragon) | I13: =I12+1 -> 128 | J13: {=XLOOKUP(K13,'Death Counter'!$B$6:$B64,'Death Counter'!$A$6:$A64,"")} | K13: Usada Pekora | L13: Cooked (by a Fire Dragon) | M13: =M12+1 -> 163 | N13: {=XLOOKUP(O13,'Death Counter'!$B$6:$B64,'Death Counter'!$A$6:$A64,"")} | O13: Kikirara Vivi | P13: Fall Damage (doomed to fall by Death Worm) | U13: =U12+1 -> 187 | V13: {=XLOOKUP(W13,'Death Counter'!$B$6:$B64,'Death Counter'!$A$6:$A64,"")} | W13: Oozora Subaru | X13: Fall Damage (doomed to fall by Fire Dragon) | Y13: =Y12+1 -> 200 | Z13: {=XLOOKUP(AA13,'Death Counter'!$B$6:$B64,'Death Counter'!$A$6:$A64,"")} | AA13: Oozora Subaru | AB13: Electrocuted (by a Lightning Dragon) | AC13: =AC12+1 -> 262 | AD13: {=XLOOKUP(AE13,'Death Counter'!$B$6:$B64,'Death Counter'!$A$6:$A64,"")} | AE13: Nekomata Okayu | AF13: Incinerated (by a Fire Dragon)
A14: =A13+1 -> 12 | B14: {=XLOOKUP(C14,'Death Counter'!$B$6:$B64,'Death Counter'!$A$6:$A64,"")} | C14: Usada Pekora | D14: Sea Serpent | E14: =E13+1 -> 68 | F14: {=XLOOKUP(G14,'Death Counter'!$B$6:$B64,'Death Counter'!$A$6:$A64,"")} | G14: Momosuzu Nene | H14: Incinerated (by a Fire Dragon) | I14: =I13+1 -> 129 | J14: {=XLOOKUP(K14,'Death Counter'!$B$6:$B64,'Death Counter'!$A$6:$A64,"")} | K14: Ichijou Ririka | L14: Annihilated (by a Fire Dragon) | M14: =M13+1 -> 164 | N14: {=XLOOKUP(O14,'Death Counter'!$B$6:$B64,'Death Counter'!$A$6:$A64,"")} | O14: Kikirara Vivi | P14: Fall Damage (doomed to fall) | U14: =U13+1 -> 188 | V14: {=XLOOKUP(W14,'Death Counter'!$B$6:$B64,'Death Counter'!$A$6:$A64,"")} | W14: Usada Pekora | X14: Fall Damage (doomed to fall by Ice Dragon) | Y14: =Y13+1 -> 201 | Z14: {=XLOOKUP(AA14,'Death Counter'!$B$6:$B64,'Death Counter'!$A$6:$A64,"")} | AA14: Usada Pekora | AB14: Fall Damage (doomed to fall by Lightning Dragon) | AC14: =AC13+1 -> 263 | AD14: {=XLOOKUP(AE14,'Death Counter'!$B$6:$B64,'Death Counter'!$A$6:$A64,"")} | AE14: Kikirara Vivi | AF14: Burnt to a Crisp (while fighting Yukihana Lamy's Fire Dragon)
A15: =A14+1 -> 13 | B15: {=XLOOKUP(C15,'Death Counter'!$B$6:$B64,'Death Counter'!$A$6:$A64,"")} | C15: Usada Pekora | D15: Ghost | E15: =E14+1 -> 69 | F15: {=XLOOKUP(G15,'Death Counter'!$B$6:$B64,'Death Counter'!$A$6:$A64,"")} | G15: Himemori Luna | H15: Cooked (by a Fire Dragon) | I15: =I14+1 -> 130 | J15: {=XLOOKUP(K15,'Death Counter'!$B$6:$B64,'Death Counter'!$A$6:$A64,"")} | K15: Usada Pekora | L15: Burnt to Death | M15: =M14+1 -> 165 | N15: {=XLOOKUP(O15,'Death Counter'!$B$6:$B64,'Death Counter'!$A$6:$A64,"")} | O15: Nekomata Okayu | P15: Fall Damage (from a high place) | U15: =U14+1 -> 189 | V15: {=XLOOKUP(W15,'Death Counter'!$B$6:$B64,'Death Counter'!$A$6:$A64,"")} | W15: Momosuzu Nene | X15: Fall Damage (from a high place) | Y15: =Y14+1 -> 202 | Z15: {=XLOOKUP(AA15,'Death Counter'!$B$6:$B64,'Death Counter'!$A$6:$A64,"")} | AA15: Houshou Marine | AB15: Annihilated (by a Lightning Dragon) | AC15: =AC14+1 -> 264 | AD15: {=XLOOKUP(AE15,'Death Counter'!$B$6:$B64,'Death Counter'!$A$6:$A64,"")} | AE15: Omaru Polka | AF15: Frozen (by Kikirara Vivi's Ice Dragon)
A16: =A15+1 -> 14 | B16: {=XLOOKUP(C16,'Death Counter'!$B$6:$B64,'Death Counter'!$A$6:$A64,"")} | C16: Nekomata Okayu | D16: Ghost | E16: =E15+1 -> 70 | F16: {=XLOOKUP(G16,'Death Counter'!$B$6:$B64,'Death Counter'!$A$6:$A64,"")} | G16: Oozora Subaru | H16: Burnt to a Crisp (while fighting Fire Dragon) | I16: =I15+1 -> 131 | J16: {=XLOOKUP(K16,'Death Counter'!$B$6:$B64,'Death Counter'!$A$6:$A64,"")} | K16: Ichijou Ririka | L16: Annihilated (by a Fire Dragon) | M16: =M15+1 -> 166 | N16: {=XLOOKUP(O16,'Death Counter'!$B$6:$B64,'Death Counter'!$A$6:$A64,"")} | O16: Nekomata Okayu | P16: Drowning | Y16: =Y15+1 -> 203 | Z16: {=XLOOKUP(AA16,'Death Counter'!$B$6:$B64,'Death Counter'!$A$6:$A64,"")} | AA16: Kikirara Vivi | AB16: Struck by Lightning (from a Lightning Dragon) | AC16: =AC15+1 -> 265 | AD16: {=XLOOKUP(AE16,'Death Counter'!$B$6:$B64,'Death Counter'!$A$6:$A64,"")} | AE16: Kikirara Vivi | AF16: Burnt to a Crisp (while fighting Omaru Polka's Fire Dragon)
A17: =A16+1 -> 15 | B17: {=XLOOKUP(C17,'Death Counter'!$B$6:$B64,'Death Counter'!$A$6:$A64,"")} | C17: Yukihana Lamy | D17: Burnt to Death | E17: =E16+1 -> 71 | F17: {=XLOOKUP(G17,'Death Counter'!$B$6:$B64,'Death Counter'!$A$6:$A64,"")} | G17: Usada Pekora | H17: Cooked (by a Fire Dragon) | I17: =I16+1 -> 132 | J17: {=XLOOKUP(K17,'Death Counter'!$B$6:$B64,'Death Counter'!$A$6:$A64,"")} | K17: Ichijou Ririka | L17: Burnt to Death | Y17: =Y16+1 -> 204 | Z17: {=XLOOKUP(AA17,'Death Counter'!$B$6:$B64,'Death Counter'!$A$6:$A64,"")} | AA17: Usada Pekora | AB17: Struck by Lightning (from a Lightning Dragon) | AC17: =AC16+1 -> 266 | AD17: {=XLOOKUP(AE17,'Death Counter'!$B$6:$B64,'Death Counter'!$A$6:$A64,"")} | AE17: Oozora Subaru | AF17: Electrocuted (by Usada Pekora's Lightning Dragon)
A18: =A17+1 -> 16 | B18: {=XLOOKUP(C18,'Death Counter'!$B$6:$B64,'Death Counter'!$A$6:$A64,"")} | C18: Kikirara Vivi | D18: Fall Damage (doomed to fall) | E18: =E17+1 -> 72 | F18: {=XLOOKUP(G18,'Death Counter'!$B$6:$B64,'Death Counter'!$A$6:$A64,"")} | G18: Momosuzu Nene | H18: Drowning | I18: =I17+1 -> 133 | J18: {=XLOOKUP(K18,'Death Counter'!$B$6:$B64,'Death Counter'!$A$6:$A64,"")} | K18: Ichijou Ririka | L18: Fall Damage (doomed to fall) | Y18: =Y17+1 -> 205 | Z18: {=XLOOKUP(AA18,'Death Counter'!$B$6:$B64,'Death Counter'!$A$6:$A64,"")} | AA18: Houshou Marine | AB18: Annihilated (by a Lightning Dragon) | AC18: =AC17+1 -> 267 | AD18: {=XLOOKUP(AE18,'Death Counter'!$B$6:$B64,'Death Counter'!$A$6:$A64,"")} | AE18: Mizumiya Su | AF18: Electrocuted (by Usada Pekora's Lightning Dragon)
A19: =A18+1 -> 17 | B19: {=XLOOKUP(C19,'Death Counter'!$B$6:$B64,'Death Counter'!$A$6:$A64,"")} | C19: Amane Kanata | D19: Incinerated (by a Fire Dragon) | E19: =E18+1 -> 73 | F19: {=XLOOKUP(G19,'Death Counter'!$B$6:$B64,'Death Counter'!$A$6:$A64,"")} | G19: AZKi | H19: Burnt to Death | I19: =I18+1 -> 134 | J19: {=XLOOKUP(K19,'Death Counter'!$B$6:$B64,'Death Counter'!$A$6:$A64,"")} | K19: Ichijou Ririka | L19: Fall Damage (doomed to fall by Fire Dragon) | Y19: =Y18+1 -> 206 | Z19: {=XLOOKUP(AA19,'Death Counter'!$B$6:$B64,'Death Counter'!$A$6:$A64,"")} | AA19: Oozora Subaru | AB19: Struck by Lightning (from a Lightning Dragon) | AC19: =AC18+1 -> 268 | AD19: {=XLOOKUP(AE19,'Death Counter'!$B$6:$B64,'Death Counter'!$A$6:$A64,"")} | AE19: Kikirara Vivi | AF19: Burnt to Death
A20: =A19+1 -> 18 | B20: {=XLOOKUP(C20,'Death Counter'!$B$6:$B64,'Death Counter'!$A$6:$A64,"")} | C20: Usada Pekora | D20: Cooked (by a Fire Dragon) | E20: =E19+1 -> 74 | F20: {=XLOOKUP(G20,'Death Counter'!$B$6:$B64,'Death Counter'!$A$6:$A64,"")} | G20: Momosuzu Nene | H20: Incinerated (by a Fire Dragon) | I20: =I19+1 -> 135 | J20: {=XLOOKUP(K20,'Death Counter'!$B$6:$B64,'Death Counter'!$A$6:$A64,"")} | K20: Oozora Subaru | L20: Fall Damage (from a high place) | Y20: =Y19+1 -> 207 | Z20: {=XLOOKUP(AA20,'Death Counter'!$B$6:$B64,'Death Counter'!$A$6:$A64,"")} | AA20: Kikirara Vivi | AB20: Electrocuted (by a Lightning Dragon) | AC20: =AC19+1 -> 269 | AD20: {=XLOOKUP(AE20,'Death Counter'!$B$6:$B64,'Death Counter'!$A$6:$A64,"")} | AE20: Omaru Polka | AF20: Burnt to Death
A21: =A20+1 -> 19 | B21: {=XLOOKUP(C21,'Death Counter'!$B$6:$B64,'Death Counter'!$A$6:$A64,"")} | C21: Ichijou Ririka | D21: Burnt to Death | E21: =E20+1 -> 75 | F21: {=XLOOKUP(G21,'Death Counter'!$B$6:$B64,'Death Counter'!$A$6:$A64,"")} | G21: Oozora Subaru | H21: Drowning (while escaping from a Fire Dragon) | I21: =I20+1 -> 136 | J21: {=XLOOKUP(K21,'Death Counter'!$B$6:$B64,'Death Counter'!$A$6:$A64,"")} | K21: Mizumiya Su | L21: Fall Damage (from a high place) | Y21: =Y20+1 -> 208 | Z21: {=XLOOKUP(AA21,'Death Counter'!$B$6:$B64,'Death Counter'!$A$6:$A64,"")} | AA21: Kikirara Vivi | AB21: Annihilated (by a Lightning Dragon) | AC21: =AC20+1 -> 270 | AD21: {=XLOOKUP(AE21,'Death Counter'!$B$6:$B64,'Death Counter'!$A$6:$A64,"")} | AE21: Omaru Polka | AF21: Cooked (by Ichijou Ririka's Fire Dragon)
A22: =A21+1 -> 20 | B22: {=XLOOKUP(C22,'Death Counter'!$B$6:$B64,'Death Counter'!$A$6:$A64,"")} | C22: Ichijou Ririka | D22: Cooked (by a Fire Dragon) | E22: =E21+1 -> 76 | F22: {=XLOOKUP(G22,'Death Counter'!$B$6:$B64,'Death Counter'!$A$6:$A64,"")} | G22: Himemori Luna | H22: Burnt to Death | I22: =I21+1 -> 137 | J22: {=XLOOKUP(K22,'Death Counter'!$B$6:$B64,'Death Counter'!$A$6:$A64,"")} | K22: Otonose Kanade | L22: Fall Damage (from a high place) | Y22: =Y21+1 -> 209 | Z22: {=XLOOKUP(AA22,'Death Counter'!$B$6:$B64,'Death Counter'!$A$6:$A64,"")} | AA22: Oozora Subaru | AB22: Electrocuted (by a Lightning Dragon) | AC22: =AC21+1 -> 271 | AD22: {=XLOOKUP(AE22,'Death Counter'!$B$6:$B64,'Death Counter'!$A$6:$A64,"")} | AE22: Omaru Polka | AF22: Struck by Lightning (by Usada Pekora's Lightning Dragon)
A23: =A22+1 -> 21 | B23: {=XLOOKUP(C23,'Death Counter'!$B$6:$B64,'Death Counter'!$A$6:$A64,"")} | C23: Ichijou Ririka | D23: Annihilated (by a Fire Dragon) | E23: =E22+1 -> 77 | F23: {=XLOOKUP(G23,'Death Counter'!$B$6:$B64,'Death Counter'!$A$6:$A64,"")} | G23: Momosuzu Nene | H23: Drowning | I23: =I22+1 -> 138 | J23: {=XLOOKUP(K23,'Death Counter'!$B$6:$B64,'Death Counter'!$A$6:$A64,"")} | K23: Usada Pekora | L23: Fall Damage (from a high place) | Y23: =Y22+1 -> 210 | Z23: {=XLOOKUP(AA23,'Death Counter'!$B$6:$B64,'Death Counter'!$A$6:$A64,"")} | AA23: Usada Pekora | AB23: Electrocuted (by a Lightning Dragon) | AC23: =AC22+1 -> 272 | AD23: {=XLOOKUP(AE23,'Death Counter'!$B$6:$B64,'Death Counter'!$A$6:$A64,"")} | AE23: Ichijou Ririka | AF23: Incinerated (by a Fire Dragon)
A24: =A23+1 -> 22 | B24: {=XLOOKUP(C24,'Death Counter'!$B$6:$B64,'Death Counter'!$A$6:$A64,"")} | C24: Nekomata Okayu | D24: Cooked (by a Fire Dragon) | E24: =E23+1 -> 78 | F24: {=XLOOKUP(G24,'Death Counter'!$B$6:$B64,'Death Counter'!$A$6:$A64,"")} | G24: Momosuzu Nene | H24: Fall Damage (from a high place) | I24: =I23+1 -> 139 | J24: {=XLOOKUP(K24,'Death Counter'!$B$6:$B64,'Death Counter'!$A$6:$A64,"")} | K24: Usada Pekora | L24: Fall Damage (from a high place) | Y24: =Y23+1 -> 211 | Z24: {=XLOOKUP(AA24,'Death Counter'!$B$6:$B64,'Death Counter'!$A$6:$A64,"")} | AA24: Kikirara Vivi | AB24: Annihilated (by a Lightning Dragon) | AC24: =AC23+1 -> 273 | AD24: {=XLOOKUP(AE24,'Death Counter'!$B$6:$B64,'Death Counter'!$A$6:$A64,"")} | AE24: Omaru Polka | AF24: Struck by Lightning (by Usada Pekora's Lightning Dragon)
A25: =A24+1 -> 23 | B25: {=XLOOKUP(C25,'Death Counter'!$B$6:$B64,'Death Counter'!$A$6:$A64,"")} | C25: Mizumiya Su | D25: Burnt to Death | E25: =E24+1 -> 79 | F25: {=XLOOKUP(G25,'Death Counter'!$B$6:$B64,'Death Counter'!$A$6:$A64,"")} | G25: Otonose Kanade | H25: Burnt to Death | I25: =I24+1 -> 140 | J25: {=XLOOKUP(K25,'Death Counter'!$B$6:$B64,'Death Counter'!$A$6:$A64,"")} | K25: Ichijou Ririka | L25: Dread Knight | Y25: =Y24+1 -> 212 | Z25: {=XLOOKUP(AA25,'Death Counter'!$B$6:$B64,'Death Counter'!$A$6:$A64,"")} | AA25: Oozora Subaru | AB25: Struck by Lightning (from a Lightning Dragon) | AC25: =AC24+1 -> 274 | AD25: {=XLOOKUP(AE25,'Death Counter'!$B$6:$B64,'Death Counter'!$A$6:$A64,"")} | AE25: Himemori Luna | AF25: Burnt to a Crisp (while fighting Omaru Polka's Fire Dragon)
A26: =A25+1 -> 24 | B26: {=XLOOKUP(C26,'Death Counter'!$B$6:$B64,'Death Counter'!$A$6:$A64,"")} | C26: Mizumiya Su | D26: Cooked (by a Fire Dragon) | E26: =E25+1 -> 80 | F26: {=XLOOKUP(G26,'Death Counter'!$B$6:$B64,'Death Counter'!$A$6:$A64,"")} | G26: Otonose Kanade | H26: Frozen (by an Ice Dragon) | I26: =I25+1 -> 141 | J26: {=XLOOKUP(K26,'Death Counter'!$B$6:$B64,'Death Counter'!$A$6:$A64,"")} | K26: Mizumiya Su | L26: Dread Ghoul | Y26: =Y25+1 -> 213 | Z26: {=XLOOKUP(AA26,'Death Counter'!$B$6:$B64,'Death Counter'!$A$6:$A64,"")} | AA26: Usada Pekora | AB26: Annihilated (by a Lightning Dragon) | AC26: =AC25+1 -> 275 | AD26: {=XLOOKUP(AE26,'Death Counter'!$B$6:$B64,'Death Counter'!$A$6:$A64,"")} | AE26: Ichijou Ririka | AF26: Frozen (by Kikirara Vivi's Ice Dragon)
A27: =A26+1 -> 25 | B27: {=XLOOKUP(C27,'Death Counter'!$B$6:$B64,'Death Counter'!$A$6:$A64,"")} | C27: Usada Pekora | D27: Cooked (by a Fire Dragon) | E27: =E26+1 -> 81 | F27: {=XLOOKUP(G27,'Death Counter'!$B$6:$B64,'Death Counter'!$A$6:$A64,"")} | G27: Himemori Luna | H27: Fall Damage (doomed to fall) | I27: =I26+1 -> 142 | J27: {=XLOOKUP(K27,'Death Counter'!$B$6:$B64,'Death Counter'!$A$6:$A64,"")} | K27: Ichijou Ririka | L27: Dread Ghoul | Y27: =Y26+1 -> 214 | Z27: {=XLOOKUP(AA27,'Death Counter'!$B$6:$B64,'Death Counter'!$A$6:$A64,"")} | AA27: Kikirara Vivi | AB27: Annihilated (by a Lightning Dragon) | AC27: =AC26+1 -> 276 | AD27: {=XLOOKUP(AE27,'Death Counter'!$B$6:$B64,'Death Counter'!$A$6:$A64,"")} | AE27: Himemori Luna | AF27: Ice Spikes
A28: =A27+1 -> 26 | B28: {=XLOOKUP(C28,'Death Counter'!$B$6:$B64,'Death Counter'!$A$6:$A64,"")} | C28: Usada Pekora | D28: Annihilated (by a Fire Dragon) | E28: =E27+1 -> 82 | F28: {=XLOOKUP(G28,'Death Counter'!$B$6:$B64,'Death Counter'!$A$6:$A64,"")} | G28: AZKi | H28: Prickled to Death (while trying to escape Ice Dragon) | I28: =I27+1 -> 143 | J28: {=XLOOKUP(K28,'Death Counter'!$B$6:$B64,'Death Counter'!$A$6:$A64,"")} | K28: Usada Pekora | L28: Dread Scuttler | Y28: =Y27+1 -> 215 | Z28: {=XLOOKUP(AA28,'Death Counter'!$B$6:$B64,'Death Counter'!$A$6:$A64,"")} | AA28: Oozora Subaru | AB28: Struck by Lightning (from a Lightning Dragon) | AC28: =AC27+1 -> 277 | AD28: {=XLOOKUP(AE28,'Death Counter'!$B$6:$B64,'Death Counter'!$A$6:$A64,"")} | AE28: Mizumiya Su | AF28: Cooked (by Otonose Kanade's Fire Dragon)
A29: =A28+1 -> 27 | B29: {=XLOOKUP(C29,'Death Counter'!$B$6:$B64,'Death Counter'!$A$6:$A64,"")} | C29: Usada Pekora | D29: Fall Damage (doomed to fall by Fire Dragon) | E29: =E28+1 -> 83 | F29: {=XLOOKUP(G29,'Death Counter'!$B$6:$B64,'Death Counter'!$A$6:$A64,"")} | G29: Momosuzu Nene | H29: Cyclops | I29: =I28+1 -> 144 | J29: {=XLOOKUP(K29,'Death Counter'!$B$6:$B64,'Death Counter'!$A$6:$A64,"")} | K29: Ichijou Ririka | L29: Explosion (from a Creeper) | Y29: =Y28+1 -> 216 | Z29: {=XLOOKUP(AA29,'Death Counter'!$B$6:$B64,'Death Counter'!$A$6:$A64,"")} | AA29: Kikirara Vivi | AB29: Struck by Lightning (from a Lightning Dragon) | AC29: =AC28+1 -> 278 | AD29: {=XLOOKUP(AE29,'Death Counter'!$B$6:$B64,'Death Counter'!$A$6:$A64,"")} | AE29: Omaru Polka | AF29: Cooked (by Amane Kanata's Fire Dragon)
A30: =A29+1 -> 28 | B30: {=XLOOKUP(C30,'Death Counter'!$B$6:$B64,'Death Counter'!$A$6:$A64,"")} | C30: Usada Pekora | D30: Cooked (by a Fire Dragon) | E30: =E29+1 -> 84 | F30: {=XLOOKUP(G30,'Death Counter'!$B$6:$B64,'Death Counter'!$A$6:$A64,"")} | G30: Oozora Subaru | H30: Fall Damage (doomed to fall) | I30: =I29+1 -> 145 | J30: {=XLOOKUP(K30,'Death Counter'!$B$6:$B64,'Death Counter'!$A$6:$A64,"")} | K30: Usada Pekora | L30: Dread Ghoul | Y30: =Y29+1 -> 217 | Z30: {=XLOOKUP(AA30,'Death Counter'!$B$6:$B64,'Death Counter'!$A$6:$A64,"")} | AA30: Usada Pekora | AB30: Annihilated (by a Lightning Dragon) | AC30: =AC29+1 -> 279 | AD30: {=XLOOKUP(AE30,'Death Counter'!$B$6:$B64,'Death Counter'!$A$6:$A64,"")} | AE30: Otonose Kanade | AF30: Burnt to Death
A31: =A30+1 -> 29 | B31: {=XLOOKUP(C31,'Death Counter'!$B$6:$B64,'Death Counter'!$A$6:$A64,"")} | C31: Usada Pekora | D31: Incinerated (by a Fire Dragon) | E31: =E30+1 -> 85 | F31: {=XLOOKUP(G31,'Death Counter'!$B$6:$B64,'Death Counter'!$A$6:$A64,"")} | G31: Yukihana Lamy | H31: Cyclops | I31: =I30+1 -> 146 | J31: {=XLOOKUP(K31,'Death Counter'!$B$6:$B64,'Death Counter'!$A$6:$A64,"")} | K31: Ichijou Ririka | L31: Dread Throll | Y31: =Y30+1 -> 218 | Z31: {=XLOOKUP(AA31,'Death Counter'!$B$6:$B64,'Death Counter'!$A$6:$A64,"")} | AA31: Kikirara Vivi | AB31: Annihilated (by a Lightning Dragon) | AC31: =AC30+1 -> 280 | AD31: {=XLOOKUP(AE31,'Death Counter'!$B$6:$B64,'Death Counter'!$A$6:$A64,"")} | AE31: Yukihana Lamy | AF31: Burnt to a Crisp (while fighting Amane Kanata's Fire Dragon)
A32: =A31+1 -> 30 | B32: {=XLOOKUP(C32,'Death Counter'!$B$6:$B64,'Death Counter'!$A$6:$A64,"")} | C32: Usada Pekora | D32: Burnt to a Crisp (while fighting Fire Dragon) | E32: =E31+1 -> 86 | F32: {=XLOOKUP(G32,'Death Counter'!$B$6:$B64,'Death Counter'!$A$6:$A64,"")} | G32: Oozora Subaru | H32: Cyclops | I32: =I31+1 -> 147 | J32: {=XLOOKUP(K32,'Death Counter'!$B$6:$B64,'Death Counter'!$A$6:$A64,"")} | K32: Ichijou Ririka | L32: Dread Ghoul | Y32: =Y31+1 -> 219 | Z32: {=XLOOKUP(AA32,'Death Counter'!$B$6:$B64,'Death Counter'!$A$6:$A64,"")} | AA32: Houshou Marine | AB32: Struck by Lightning (from a Lightning Dragon) | AC32: =AC31+1 -> 281 | AD32: {=XLOOKUP(AE32,'Death Counter'!$B$6:$B64,'Death Counter'!$A$6:$A64,"")} | AE32: Himemori Luna | AF32: Burnt to a Crisp (while fighting Amane Kanata's Fire Dragon)
A33: =A32+1 -> 31 | B33: {=XLOOKUP(C33,'Death Counter'!$B$6:$B64,'Death Counter'!$A$6:$A64,"")} | C33: Mizumiya Su | D33: Cooked (by a Fire Dragon) | E33: =E32+1 -> 87 | F33: {=XLOOKUP(G33,'Death Counter'!$B$6:$B64,'Death Counter'!$A$6:$A64,"")} | G33: Oozora Subaru | H33: Fall Damage (doomed to fall by Cyclops) | I33: =I32+1 -> 148 | J33: {=XLOOKUP(K33,'Death Counter'!$B$6:$B64,'Death Counter'!$A$6:$A64,"")} | K33: Mizumiya Su | L33: Explosion (from a Creeper) | Y33: =Y32+1 -> 220 | Z33: {=XLOOKUP(AA33,'Death Counter'!$B$6:$B64,'Death Counter'!$A$6:$A64,"")} | AA33: Houshou Marine | AB33: Cooked (by Oozora Subaru's Fire Dragon) | AC33: =AC32+1 -> 282 | AD33: {=XLOOKUP(AE33,'Death Counter'!$B$6:$B64,'Death Counter'!$A$6:$A64,"")} | AE33: Omaru Polka | AF33: Frozen (by Kikirara Vivi's Ice Dragon)
A34: =A33+1 -> 32 | B34: {=XLOOKUP(C34,'Death Counter'!$B$6:$B64,'Death Counter'!$A$6:$A64,"")} | C34: Nekomata Okayu | D34: Cooked (by a Fire Dragon) | E34: =E33+1 -> 88 | F34: {=XLOOKUP(G34,'Death Counter'!$B$6:$B64,'Death Counter'!$A$6:$A64,"")} | G34: Oozora Subaru | H34: Cyclops | I34: =I33+1 -> 149 | J34: {=XLOOKUP(K34,'Death Counter'!$B$6:$B64,'Death Counter'!$A$6:$A64,"")} | K34: Ichijou Ririka | L34: Dread Ghoul | Y34: =Y33+1 -> 221 | Z34: {=XLOOKUP(AA34,'Death Counter'!$B$6:$B64,'Death Counter'!$A$6:$A64,"")} | AA34: Kikirara Vivi | AB34: Struck by Lightning while fighting Oozora Subaru (from a Lightning Dragon) | AC34: =AC33+1 -> 283 | AD34: {=XLOOKUP(AE34,'Death Counter'!$B$6:$B64,'Death Counter'!$A$6:$A64,"")} | AE34: Yukihana Lamy | AF34: Burnt to Death
A35: =A34+1 -> 33 | B35: {=XLOOKUP(C35,'Death Counter'!$B$6:$B64,'Death Counter'!$A$6:$A64,"")} | C35: Mizumiya Su | D35: Cooked (by a Fire Dragon) | E35: =E34+1 -> 89 | F35: {=XLOOKUP(G35,'Death Counter'!$B$6:$B64,'Death Counter'!$A$6:$A64,"")} | G35: AZKi | H35: Annihilated (by an Ice Dragon) | I35: =I34+1 -> 150 | J35: {=XLOOKUP(K35,'Death Counter'!$B$6:$B64,'Death Counter'!$A$6:$A64,"")} | K35: Usada Pekora | L35: Dread Ghoul | Y35: =Y34+1 -> 222 | Z35: {=XLOOKUP(AA35,'Death Counter'!$B$6:$B64,'Death Counter'!$A$6:$A64,"")} | AA35: Oozora Subaru | AB35: Annihilated (by a Lightning Dragon) | AC35: =AC34+1 -> 284 | AD35: {=XLOOKUP(AE35,'Death Counter'!$B$6:$B64,'Death Counter'!$A$6:$A64,"")} | AE35: Omaru Polka | AF35: Thorns (from Amane Kanata's Dragon Steel Armor)
A36: =A35+1 -> 34 | B36: {=XLOOKUP(C36,'Death Counter'!$B$6:$B64,'Death Counter'!$A$6:$A64,"")} | C36: Nekomata Okayu | D36: Fall Damage (doomed to fall) | E36: =E35+1 -> 90 | F36: {=XLOOKUP(G36,'Death Counter'!$B$6:$B64,'Death Counter'!$A$6:$A64,"")} | G36: Mizumiya Su | H36: Frozen (by an Ice Dragon) | I36: =I35+1 -> 151 | J36: {=XLOOKUP(K36,'Death Counter'!$B$6:$B64,'Death Counter'!$A$6:$A64,"")} | K36: Otonose Kanade | L36: Mizumiya Su | Y36: =Y35+1 -> 223 | Z36: {=XLOOKUP(AA36,'Death Counter'!$B$6:$B64,'Death Counter'!$A$6:$A64,"")} | AA36: Usada Pekora | AB36: Struck by Lightning while fighting Oozora Subaru (from a Lightning Dragon) | AC36: =AC35+1 -> 285 | AD36: {=XLOOKUP(AE36,'Death Counter'!$B$6:$B64,'Death Counter'!$A$6:$A64,"")} | AE36: Kikirara Vivi | AF36: Burnt to Death
A37: =A36+1 -> 35 | B37: {=XLOOKUP(C37,'Death Counter'!$B$6:$B64,'Death Counter'!$A$6:$A64,"")} | C37: Mizumiya Su | D37: Annihilated (by a Fire Dragon) | E37: =E36+1 -> 91 | F37: {=XLOOKUP(G37,'Death Counter'!$B$6:$B64,'Death Counter'!$A$6:$A64,"")} | G37: Mizumiya Su | H37: Frozen (by an Ice Dragon) | I37: =I36+1 -> 152 | J37: {=XLOOKUP(K37,'Death Counter'!$B$6:$B64,'Death Counter'!$A$6:$A64,"")} | K37: Oozora Subaru | L37: Sea Serpent | Y37: =Y36+1 -> 224 | Z37: {=XLOOKUP(AA37,'Death Counter'!$B$6:$B64,'Death Counter'!$A$6:$A64,"")} | AA37: Oozora Subaru | AB37: Annihilated (by a Lightning Dragon) | AC37: =AC36+1 -> 286 | AD37: {=XLOOKUP(AE37,'Death Counter'!$B$6:$B64,'Death Counter'!$A$6:$A64,"")} | AE37: Nekomata Okayu | AF37: Turned Into Ice (by an Ice Dragon)
A38: =A37+1 -> 36 | B38: {=XLOOKUP(C38,'Death Counter'!$B$6:$B64,'Death Counter'!$A$6:$A64,"")} | C38: Nekomata Okayu | D38: Burnt to a Crisp (while fighting Fire Dragon) | E38: =E37+1 -> 92 | F38: {=XLOOKUP(G38,'Death Counter'!$B$6:$B64,'Death Counter'!$A$6:$A64,"")} | G38: Oozora Subaru | H38: Cyclops | Y38: =Y37+1 -> 225 | Z38: {=XLOOKUP(AA38,'Death Counter'!$B$6:$B64,'Death Counter'!$A$6:$A64,"")} | AA38: Houshou Marine | AB38: Electrocuted (by a Lightning Dragon)
A39: =A38+1 -> 37 | B39: {=XLOOKUP(C39,'Death Counter'!$B$6:$B64,'Death Counter'!$A$6:$A64,"")} | C39: Mizumiya Su | D39: Annihilated (by a Fire Dragon) | E39: =E38+1 -> 93 | F39: {=XLOOKUP(G39,'Death Counter'!$B$6:$B64,'Death Counter'!$A$6:$A64,"")} | G39: Oozora Subaru | H39: Suffocation (while fighting Cyclops) | Y39: =Y38+1 -> 226 | Z39: {=XLOOKUP(AA39,'Death Counter'!$B$6:$B64,'Death Counter'!$A$6:$A64,"")} | AA39: Usada Pekora | AB39: Annihilated (by a Lightning Dragon)
A40: =A39+1 -> 38 | B40: {=XLOOKUP(C40,'Death Counter'!$B$6:$B64,'Death Counter'!$A$6:$A64,"")} | C40: Mizumiya Su | D40: Incinerated (by a Fire Dragon) | E40: =E39+1 -> 94 | F40: {=XLOOKUP(G40,'Death Counter'!$B$6:$B64,'Death Counter'!$A$6:$A64,"")} | G40: Oozora Subaru | H40: Suffocation (while fighting Cyclops) | Y40: =Y39+1 -> 227 | Z40: {=XLOOKUP(AA40,'Death Counter'!$B$6:$B64,'Death Counter'!$A$6:$A64,"")} | AA40: Kikirara Vivi | AB40: Electrocuted (by a Lightning Dragon)
A41: =A40+1 -> 39 | B41: {=XLOOKUP(C41,'Death Counter'!$B$6:$B64,'Death Counter'!$A$6:$A64,"")} | C41: Mizumiya Su | D41: Shot (by a Skeleton) | E41: =E40+1 -> 95 | F41: {=XLOOKUP(G41,'Death Counter'!$B$6:$B64,'Death Counter'!$A$6:$A64,"")} | G41: Oozora Subaru | H41: Cyclops | Y41: =Y40+1 -> 228 | Z41: {=XLOOKUP(AA41,'Death Counter'!$B$6:$B64,'Death Counter'!$A$6:$A64,"")} | AA41: Oozora Subaru | AB41: Struck by Lightning (from a Lightning Dragon)
A42: =A41+1 -> 40 | B42: {=XLOOKUP(C42,'Death Counter'!$B$6:$B64,'Death Counter'!$A$6:$A64,"")} | C42: Amane Kanata | D42: Cooked (by a Fire Dragon) | E42: =E41+1 -> 96 | F42: {=XLOOKUP(G42,'Death Counter'!$B$6:$B64,'Death Counter'!$A$6:$A64,"")} | G42: Oozora Subaru | H42: Cyclops | Y42: =Y41+1 -> 229 | Z42: {=XLOOKUP(AA42,'Death Counter'!$B$6:$B64,'Death Counter'!$A$6:$A64,"")} | AA42: Houshou Marine | AB42: Electrocuted (by a Lightning Dragon)
A43: =A42+1 -> 41 | B43: {=XLOOKUP(C43,'Death Counter'!$B$6:$B64,'Death Counter'!$A$6:$A64,"")} | C43: Kikirara Vivi | D43: Annihilated (by a Fire Dragon) | E43: =E42+1 -> 97 | F43: {=XLOOKUP(G43,'Death Counter'!$B$6:$B64,'Death Counter'!$A$6:$A64,"")} | G43: Oozora Subaru | H43: Fall Damage (doomed to fall) | Y43: =Y42+1 -> 230 | Z43: {=XLOOKUP(AA43,'Death Counter'!$B$6:$B64,'Death Counter'!$A$6:$A64,"")} | AA43: Kikirara Vivi | AB43: Struck by Lightning (from a Lightning Dragon)
A44: =A43+1 -> 42 | B44: {=XLOOKUP(C44,'Death Counter'!$B$6:$B64,'Death Counter'!$A$6:$A64,"")} | C44: Mizumiya Su | D44: Cooked (by a Fire Dragon) | E44: =E43+1 -> 98 | F44: {=XLOOKUP(G44,'Death Counter'!$B$6:$B64,'Death Counter'!$A$6:$A64,"")} | G44: Kikirara Vivi | H44: Cooked (by a Fire Dragon) | Y44: =Y43+1 -> 231 | Z44: {=XLOOKUP(AA44,'Death Counter'!$B$6:$B64,'Death Counter'!$A$6:$A64,"")} | AA44: Usada Pekora | AB44: Electrocuted (by a Lightning Dragon)
A45: =A44+1 -> 43 | B45: {=XLOOKUP(C45,'Death Counter'!$B$6:$B64,'Death Counter'!$A$6:$A64,"")} | C45: Yukihana Lamy | D45: Burnt to a Crisp (while fighting Fire Dragon) | E45: =E44+1 -> 99 | F45: {=XLOOKUP(G45,'Death Counter'!$B$6:$B64,'Death Counter'!$A$6:$A64,"")} | G45: Oozora Subaru | H45: Burnt to Death | Y45: =Y44+1 -> 232 | Z45: {=XLOOKUP(AA45,'Death Counter'!$B$6:$B64,'Death Counter'!$A$6:$A64,"")} | AA45: Oozora Subaru | AB45: Electrocuted (by a Lightning Dragon)
A46: =A45+1 -> 44 | B46: {=XLOOKUP(C46,'Death Counter'!$B$6:$B64,'Death Counter'!$A$6:$A64,"")} | C46: Oozora Subaru | D46: Cooked (by a Fire Dragon) | E46: =E45+1 -> 100 | F46: {=XLOOKUP(G46,'Death Counter'!$B$6:$B64,'Death Counter'!$A$6:$A64,"")} | G46: Oozora Subaru | H46: Cooked (by a Fire Dragon) | Y46: =Y45+1 -> 233 | Z46: {=XLOOKUP(AA46,'Death Counter'!$B$6:$B64,'Death Counter'!$A$6:$A64,"")} | AA46: Usada Pekora | AB46: Struck by Lightning (from a Lightning Dragon)
A47: =A46+1 -> 45 | B47: {=XLOOKUP(C47,'Death Counter'!$B$6:$B64,'Death Counter'!$A$6:$A64,"")} | C47: Usada Pekora | D47: Incinerated (by a Fire Dragon) | E47: =E46+1 -> 101 | F47: {=XLOOKUP(G47,'Death Counter'!$B$6:$B64,'Death Counter'!$A$6:$A64,"")} | G47: Oozora Subaru | H47: Fall Damage (doomed to fall) | Y47: =Y46+1 -> 234 | Z47: {=XLOOKUP(AA47,'Death Counter'!$B$6:$B64,'Death Counter'!$A$6:$A64,"")} | AA47: Kikirara Vivi | AB47: Struck by Lightning (from a Lightning Dragon)
A48: =A47+1 -> 46 | B48: {=XLOOKUP(C48,'Death Counter'!$B$6:$B64,'Death Counter'!$A$6:$A64,"")} | C48: Yukihana Lamy | D48: Annihilated (by a Fire Dragon) | E48: =E47+1 -> 102 | F48: {=XLOOKUP(G48,'Death Counter'!$B$6:$B64,'Death Counter'!$A$6:$A64,"")} | G48: Kikirara Vivi | H48: Incinerated (by a Fire Dragon) | Y48: =Y47+1 -> 235 | Z48: {=XLOOKUP(AA48,'Death Counter'!$B$6:$B64,'Death Counter'!$A$6:$A64,"")} | AA48: Houshou Marine | AB48: Annihilated (by a Lightning Dragon)
A49: =A48+1 -> 47 | B49: {=XLOOKUP(C49,'Death Counter'!$B$6:$B64,'Death Counter'!$A$6:$A64,"")} | C49: Oozora Subaru | D49: Incinerated (by a Fire Dragon) | E49: =E48+1 -> 103 | F49: {=XLOOKUP(G49,'Death Counter'!$B$6:$B64,'Death Counter'!$A$6:$A64,"")} | G49: Otonose Kanade | H49: Prickled to Death (while trying to escape Ice Dragon) | Y49: =Y48+1 -> 236 | Z49: {=XLOOKUP(AA49,'Death Counter'!$B$6:$B64,'Death Counter'!$A$6:$A64,"")} | AA49: Usada Pekora | AB49: Annihilated (by a Lightning Dragon)
A50: =A49+1 -> 48 | B50: {=XLOOKUP(C50,'Death Counter'!$B$6:$B64,'Death Counter'!$A$6:$A64,"")} | C50: Nekomata Okayu | D50: Incinerated (by a Fire Dragon) | E50: =E49+1 -> 104 | F50: {=XLOOKUP(G50,'Death Counter'!$B$6:$B64,'Death Counter'!$A$6:$A64,"")} | G50: Otonose Kanade | H50: Turned Into Ice (by an Ice Dragon) | Y50: =Y49+1 -> 237 | Z50: {=XLOOKUP(AA50,'Death Counter'!$B$6:$B64,'Death Counter'!$A$6:$A64,"")} | AA50: Kikirara Vivi | AB50: Electrocuted (by a Lightning Dragon)
A51: =A50+1 -> 49 | B51: {=XLOOKUP(C51,'Death Counter'!$B$6:$B64,'Death Counter'!$A$6:$A64,"")} | C51: Usada Pekora | D51: Incinerated (by a Fire Dragon) | E51: =E50+1 -> 105 | F51: {=XLOOKUP(G52,'Death Counter'!$B$6:$B64,'Death Counter'!$A$6:$A64,"")} | G51: Otonose Kanade | H51: Turned Into Ice (by an Ice Dragon) | Y51: =Y50+1 -> 238 | Z51: {=XLOOKUP(AA51,'Death Counter'!$B$6:$B64,'Death Counter'!$A$6:$A64,"")} | AA51: Houshou Marine | AB51: Fall Damage (from a high place)
A52: =A51+1 -> 50 | B52: {=XLOOKUP(C52,'Death Counter'!$B$6:$B64,'Death Counter'!$A$6:$A64,"")} | C52: Yukihana Lamy | D52: Cooked (by a Fire Dragon) | E52: =E51+1 -> 106 | F52: {=XLOOKUP(G53,'Death Counter'!$B$6:$B64,'Death Counter'!$A$6:$A64,"")} | G52: Otonose Kanade | H52: Frozen (by an Ice Dragon) | Y52: =Y51+1 -> 239 | Z52: {=XLOOKUP(AA52,'Death Counter'!$B$6:$B64,'Death Counter'!$A$6:$A64,"")} | AA52: Usada Pekora | AB52: Cooked (by Oozora Subaru's Fire Dragon)
A53: =A52+1 -> 51 | B53: {=XLOOKUP(C53,'Death Counter'!$B$6:$B64,'Death Counter'!$A$6:$A64,"")} | C53: Oozora Subaru | D53: Cooked (by a Fire Dragon) | E53: =E52+1 -> 107 | F53: {=XLOOKUP(G54,'Death Counter'!$B$6:$B64,'Death Counter'!$A$6:$A64,"")} | G53: Otonose Kanade | H53: Turned Into Ice (by an Ice Dragon) | Y53: =Y52+1 -> 240 | Z53: {=XLOOKUP(AA53,'Death Counter'!$B$6:$B64,'Death Counter'!$A$6:$A64,"")} | AA53: Usada Pekora | AB53: Incinerated (by Oozora Subaru's Fire Dragon
A54: =A53+1 -> 52 | B54: {=XLOOKUP(C54,'Death Counter'!$B$6:$B64,'Death Counter'!$A$6:$A64,"")} | C54: Oozora Subaru | D54: Incinerated (by a Fire Dragon) | E54: =E53+1 -> 108 | F54: {=XLOOKUP(G55,'Death Counter'!$B$6:$B64,'Death Counter'!$A$6:$A64,"")} | G54: Otonose Kanade | H54: Annihilated (by an Ice Dragon) | Y54: =Y53+1 -> 241 | Z54: {=XLOOKUP(AA54,'Death Counter'!$B$6:$B64,'Death Counter'!$A$6:$A64,"")} | AA54: Usada Pekora | AB54: Cyclops
A55: =A54+1 -> 53 | B55: {=XLOOKUP(C55,'Death Counter'!$B$6:$B64,'Death Counter'!$A$6:$A64,"")} | C55: Yukihana Lamy | D55: Incinerated (by a Fire Dragon) | E55: =E54+1 -> 109 | F55: {=XLOOKUP(G56,'Death Counter'!$B$6:$B64,'Death Counter'!$A$6:$A64,"")} | G55: Otonose Kanade | H55: Frozen (by an Ice Dragon) | Y55: =Y54+1 -> 242 | Z55: {=XLOOKUP(AA55,'Death Counter'!$B$6:$B64,'Death Counter'!$A$6:$A64,"")} | AA55: Usada Pekora | AB55: Annihilated (by an Ice Dragon)
A56: =A55+1 -> 54 | B56: {=XLOOKUP(C56,'Death Counter'!$B$6:$B64,'Death Counter'!$A$6:$A64,"")} | C56: Yukihana Lamy | D56: Cooked (by a Fire Dragon) | E56: =E55+1 -> 110 | F56: {=XLOOKUP(G57,'Death Counter'!$B$6:$B64,'Death Counter'!$A$6:$A64,"")} | G56: Otonose Kanade | H56: Frozen (by an Ice Dragon) | Y56: =Y55+1 -> 243 | Z56: {=XLOOKUP(AA56,'Death Counter'!$B$6:$B64,'Death Counter'!$A$6:$A64,"")} | AA56: Yukihana Lamy | AB56: Fall Damage (doomed to fall by Ice Dragon)
A57: =A56+1 -> 55 | B57: {=XLOOKUP(C57,'Death Counter'!$B$6:$B64,'Death Counter'!$A$6:$A64,"")} | C57: Nekomata Okayu | D57: Walked into Fire (while fighting Fire Dragon) | E57: =E56+1 -> 111 | F57: {=XLOOKUP(G58,'Death Counter'!$B$6:$B64,'Death Counter'!$A$6:$A64,"")} | G57: Otonose Kanade | H57: Frozen (by an Ice Dragon) | Y57: =Y56+1 -> 244 | Z57: {=XLOOKUP(AA57,'Death Counter'!$B$6:$B64,'Death Counter'!$A$6:$A64,"")} | AA57: Momosuzu Nene | AB57: Annihilated (by an Ice Dragon)
A58: =A57+1 -> 56 | B58: {=XLOOKUP(C58,'Death Counter'!$B$6:$B64,'Death Counter'!$A$6:$A64,"")} | C58: Usada Pekora | D58: Incinerated (by a Fire Dragon) | E58: =E57+1 -> 112 | F58: {=XLOOKUP(G58,'Death Counter'!$B$6:$B64,'Death Counter'!$A$6:$A64,"")} | G58: Otonose Kanade | H58: Turned Into Ice (by an Ice Dragon) | Y58: =Y57+1 -> 245 | Z58: {=XLOOKUP(AA58,'Death Counter'!$B$6:$B64,'Death Counter'!$A$6:$A64,"")} | AA58: Momosuzu Nene | AB58: Turned Into Ice (by an Ice Dragon)
E59: =E58+1 -> 113 | F59: {=XLOOKUP(G59,'Death Counter'!$B$6:$B64,'Death Counter'!$A$6:$A64,"")} | G59: Momosuzu Nene | H59: Burnt to Death | Y59: =Y58+1 -> 246 | Z59: {=XLOOKUP(AA59,'Death Counter'!$B$6:$B64,'Death Counter'!$A$6:$A64,"")} | AA59: Momosuzu Nene | AB59: Shot by Kikirara Vivi (with a Bow)
E60: =E59+1 -> 114 | F60: {=XLOOKUP(G60,'Death Counter'!$B$6:$B64,'Death Counter'!$A$6:$A64,"")} | G60: Otonose Kanade | H60: Frozen (by an Ice Dragon) | Y60: =Y59+1 -> 247 | Z60: {=XLOOKUP(AA60,'Death Counter'!$B$6:$B64,'Death Counter'!$A$6:$A64,"")} | AA60: Usada Pekora | AB60: Fall Damage (from a high place)
E61: =E60+1 -> 115 | F61: {=XLOOKUP(G61,'Death Counter'!$B$6:$B64,'Death Counter'!$A$6:$A64,"")} | G61: Mizumiya Su | H61: Burnt to Death | Y61: =Y60+1 -> 248 | Z61: {=XLOOKUP(AA61,'Death Counter'!$B$6:$B64,'Death Counter'!$A$6:$A64,"")} | AA61: Momosuzu Nene | AB61: Fall Damage (from a high place)
E62: =E61+1 -> 116 | F62: {=XLOOKUP(G62,'Death Counter'!$B$6:$B64,'Death Counter'!$A$6:$A64,"")} | G62: Mizumiya Su | H62: Ghost | Y62: =Y61+1 -> 249 | Z62: {=XLOOKUP(AA62,'Death Counter'!$B$6:$B64,'Death Counter'!$A$6:$A64,"")} | AA62: Omaru Polka | AB62: Annihilated (by a Fire Dragon)
E63: =E62+1 -> 117 | F63: {=XLOOKUP(G63,'Death Counter'!$B$6:$B64,'Death Counter'!$A$6:$A64,"")} | G63: Mizumiya Su | H63: Ghost | Y63: =Y62+1 -> 250 | Z63: {=XLOOKUP(AA63,'Death Counter'!$B$6:$B64,'Death Counter'!$A$6:$A64,"")} | AA63: Yukihana Lamy | AB63: Fall Damage (from a high place)
E64: {=XLOOKUP(G64,'Death Counter'!$B$6:$B64,'Death Counter'!$A$6:$A64,"")} | Y64: =Y63+1 -> 251 | Z64: {=XLOOKUP(AA64,'Death Counter'!$B$6:$B64,'Death Counter'!$A$6:$A64,"")} | AA64: Oozora Subaru | AB64: Fall Damage (doomed to fall by Fire Dragon)

Sheet hololive POVs by Day
A1: Member POVs (click on for notes) | C1: Day 1 | D1: Day 2 | E1: Day 3 | F1: Day 4 | G1: Day 5 | H1: Day 6 | I1: Day 7 | J1: Day 8
A5: holoMem
A6: =IMAGE("https://api.mineatar.io/face/031fd87e-83a4-43ad-af62-71a3e4dc5b34?scale=12") | B6: AZKi | C6: ✘ | D6: =HYPERLINK("https://youtu.be/tAuKtkrr8vI", "✔") -> ✔ | E6: ✘ | F6: ✘ | G6: ✘ | H6: ✘ | I6: ✘ | J6: =HYPERLINK("https://youtu.be/-pv6Bdqh2HY", "✔") -> ✔
A7: =image("https://api.mineatar.io/face/1f34ec92-bf0d-40b6-b5db-b8b97265d87d?scale=12") | B7: Oozora Subaru | C7: =HYPERLINK("https://youtu.be/QISkmAlF5F4", "✔") -> ✔ | D7: =HYPERLINK("https://youtu.be/YxYiAqOJEjU", "✔") -> ✔ | E7: =HYPERLINK("https://youtu.be/GM37wlKMftI", "✔") -> ✔ | F7: - | G7: =HYPERLINK("https://youtu.be/YgQtyyDbFnM", "✔") -> ✔ | H7: =HYPERLINK("https://youtu.be/PJ7d39T-DlE", "✔") -> ✔ | I7: =HYPERLINK("https://youtu.be/omon-IlNd2A", "✔") -> ✔ | J7: =HYPERLINK("https://youtu.be/tPV9mmduSKk", "✔") -> ✔
A8: =image("https://api.mineatar.io/face/967fe226-1187-4437-b462-1705c9b8d248?scale=12") | B8: Nekomata Okayu | C8: =HYPERLINK("https://youtu.be/IJ7t5oygPyY", "✔") -> ✔ | D8: =HYPERLINK("https://youtu.be/4phg7hXfrTo", "✔") -> ✔ | E8: ✘ | F8: =HYPERLINK("https://youtu.be/Kqhm3QCfR6Y", "✔") -> ✔ | G8: =HYPERLINK("https://youtu.be/9Qy4zk6aZgc", "✔") -> ✔ | H8: =HYPERLINK("https://youtu.be/SgteNK3ohUk", "✔") -> ✔ | I8: ✘ | J8: =HYPERLINK("https://youtu.be/yucZSb5CLeE", "✔") -> ✔
A9: =image("https://api.mineatar.io/face/3e255051-4ea8-465a-af46-28f019ec7ebb?scale=12") | B9: Usada Pekora | C9: =HYPERLINK("https://youtu.be/o44dAQBOKlg", "✔") -> ✔ | D9: =HYPERLINK("https://youtu.be/rVAOKz3G990", "✔") -> ✔ | E9: =HYPERLINK("https://youtu.be/qk7Lc66F3HY", "✔") -> ✔ | F9: =HYPERLINK("https://youtu.be/5RvAPHxLIHQ", "✔") -> ✔ | G9: =HYPERLINK("https://youtu.be/OiMY8Zj9_Qc", "✔") -> ✔ | H9: =HYPERLINK("https://youtu.be/kUDurR3AI50", "✔") -> ✔ | I9: =HYPERLINK("https://youtu.be/8XuLpVJyAdo", "✔") -> ✔ | J9: =HYPERLINK("https://youtu.be/ifqWlKDn_lQ", "✔") -> ✔
A10: =image("https://api.mineatar.io/face/d604942f-2b4b-4452-a8da-3dbf83e235c3?scale=12") | B10: Houshou Marine | C10: ✘ | D10: ✘ | E10: ✘ | F10: - | G10: ✘ | H10: ✘ | I10: - | J10: -
A11: =IMAGE("https://api.mineatar.io/face/7ec7cca2-6085-4eed-89c6-3c0ef6eef5ee?scale=12") | B11: Amane Kanata | C11: =HYPERLINK("https://youtu.be/QcedeUQ-GZQ", "✔") -> ✔ | D11: =HYPERLINK("https://youtu.be/K88Cl6psKIg", "✔") -> ✔ | E11: ✘ | F11: ✘ | G11: ✘ | H11: ✘ | I11: ✘ | J11: =HYPERLINK("https://youtu.be/mZnHP4Dc5ec", "✔") -> ✔
A12: =image("https://api.mineatar.io/face/7624f07c54534c6c88c1f85316bd9e01?scale=32") | B12: Himemori Luna | C12: ✘ | D12: =HYPERLINK("https://youtu.be/o7FKdB-yg30", "✔") -> ✔ | E12: ✘ | F12: ✘ | G12: ✘ | H12: =HYPERLINK("https://youtu.be/gb-9y4zZr5k", "✔") -> ✔ | I12: ✘ | J12: =HYPERLINK("https://youtu.be/riS-iledMsc", "✔") -> ✔
A13: =image("https://api.mineatar.io/face/23c163a1-e2c4-4790-a9ee-799e79a3cb56?scale=12") | B13: Yukihana Lamy | C13: =HYPERLINK("https://youtu.be/9t-wTgRvvJ8", "✔") -> ✔ | D13: =HYPERLINK("https://youtu.be/AW3dEzNPWaw", "✔") -> ✔ | E13: ✘ | F13: ✘ | G13: ✘ | H13: =HYPERLINK("https://www.youtube.com/watch?v=T4NgEvsjX-Q", "✔") -> ✔ | I13: - | J13: =HYPERLINK("https://youtu.be/31sQl3jpW9U", "✔") -> ✔
A14: =image("https://api.mineatar.io/face/6252f15b-4e9f-4207-9ab9-793dee88436c?scale=12") | B14: Momosuzu Nene | C14: ✘ | D14: =HYPERLINK("https://youtu.be/VhhF5ZPFQSs", "✔") -> ✔ | E14: ✘ | F14: ✘ | G14: ✘ | H14: =HYPERLINK("https://youtu.be/R0CVoafcVHM", "✔") -> ✔ | I14: =HYPERLINK("https://youtu.be/hatxFpkmr-8", "✔") -> ✔ | J14: ✘
A15: =image("https://api.mineatar.io/face/6148828d-ed79-488e-b82e-55831c709724?scale=12") | B15: Omaru Polka | C15: ✘ | D15: ✘ | E15: ✘ | F15: ✘ | G15: - | H15: =HYPERLINK("https://youtu.be/7hZKr4TXzss", "✔") -> ✔ | I15: =HYPERLINK("https://youtu.be/4awUMrSlN1o", "✔") -> ✔ | J15: =HYPERLINK("https://youtu.be/I7ZlA_KXb4c", "✔") -> ✔
A16: =image("https://api.mineatar.io/face/b41a895c-cc9f-45c7-9295-5ee7f405cb96?scale=12") | B16: La+ Darknesss | C16: ✘ | D16: ✘ | E16: ✘ | F16: ✘ | G16: - | H16: - | I16: ✘ | J16: ✘
A17: =IMAGE("https://api.mineatar.io/face/aff526b0-d9e4-417b-ad8e-d172bae1ba97?scale=12") | B17: Otonose Kanade | C17: ✘ | D17: =HYPERLINK("https://youtu.be/VBs7wRSKcaI", "✔") -> ✔ | E17: =HYPERLINK("https://youtu.be/IKuGeZBXvEs", "✔") -> ✔ | F17: =HYPERLINK("https://youtu.be/SBNi3xuFY6I", "✔") -> ✔ | G17: ✘ | H17: ✘ | I17: ✘ | J17: =HYPERLINK("https://youtu.be/zfJBsXO0_xA", "✔") -> ✔
A18: =IMAGE("https://api.mineatar.io/face/8d793ab1-21a8-4162-845f-8779447d229f?scale=12") | B18: Ichijou Ririka | C18: =HYPERLINK("https://youtu.be/KMdAA5zLtlg", "✔") -> ✔ | D18: ✘ | E18: =HYPERLINK("https://youtu.be/pleahS_jDX4", "✔") -> ✔ | F18: =HYPERLINK("https://youtu.be/H6k_0wU_Qew", "✔") -> ✔ | G18: ✘ | H18: ✘ | I18: ✘ | J18: =HYPERLINK("https://youtu.be/m7BpYXUqrAo", "✔") -> ✔
A19: =image("https://api.mineatar.io/face/dac5682c-16fd-45fd-8081-9a2000a7048d?scale=12") | B19: Mizumiya Su | C19: =HYPERLINK("https://youtu.be/XCBcgv9KNJY", "✔") -> ✔ | D19: =HYPERLINK("https://youtu.be/QmSDV8SZMcY", "✔") -> ✔ | E19: =HYPERLINK("https://youtu.be/O8wEffFjntc", "✔") -> ✔ | F19: =HYPERLINK("https://youtu.be/QQA6ljkr1_0", "✔") -> ✔ | G19: =HYPERLINK("https://youtu.be/Q41Cp7ZM3LI", "✔") -> ✔ | H19: =HYPERLINK("https://youtu.be/wQTathYHolE", "✔") -> ✔ | I19: ✘ | J19: =HYPERLINK("https://youtu.be/28t-geOFwew", "✔") -> ✔
A20: =image("https://api.mineatar.io/face/c55046b1-44a0-448a-bec1-fd6c2700230d?scale=12") | B20: Kikirara Vivi | C20: =HYPERLINK("https://youtu.be/vOx6m8ymrZo", "✔") -> ✔ | D20: =HYPERLINK("https://youtu.be/IHE-38oG5E4", "✔") -> ✔ | E20: =HYPERLINK("https://youtu.be/2mQGQPMvEDQ", "✔") -> ✔ | F20: =HYPERLINK("https://youtu.be/sbgviKOApiw", "✔") -> ✔ | G20: =HYPERLINK("https://youtu.be/krgCFAzeshw", "✔") -> ✔ | H20: =HYPERLINK("https://youtu.be/YZxxnhEVpVE", "✔") -> ✔ | I20: =HYPERLINK("https://youtu.be/BO5V-jmf4Zo", "✔") -> ✔ | J20: =HYPERLINK("https://youtu.be/SMGDE4GAoaM", "✔") -> ✔
