Workbook

Sheet FULL Special Ability List
A1: パワフルプロ野球2024-2025 FULL Special Ability List (Translated to English by tweav) Presented in Japanese Syllabary Order (五十音順) Ability Descriptions / Numerical Data from: game8 OB Ability Information from: seesaawiki WBSC Localizations from: Zumikaku
H2: Copy code: " = 'FULL Ability List'! [Cell letter/Number]"
A9: Ability Name (Japanese) | B9: Ability Name (Hiragana + Romaji) | C9: Ability Name (English) | D9: Description (English) | E9: Description (Japanese) | F9: WBSC English Localization | G9: In-Game Description (Japanese)
A11: Pitcher Gold Abilities
A13: 暴れ球 Gold 荒れ球 (Wild Fastball) | B13: あばれきゅう (abare kyū) | C13: Literally: "Violent Ball" Localization: "Explosive Fastball" | D13: Fastball speed, power, and break is greatly increased at the cost of control Control: - ~20 when throwing a Fastball | E13: ストレートを投げたとき、よりノビが良くなるが、ブレやすくなる | G13: 制球がさだまらないが、威力のあるストレートが投げられる
A14: 怪童 Gold ノビ (Fastball Spin Rate) | B14: かいどう (kaidō) | C14: Literally: "Unusually Large/Strong Child" Localization: "Ozaki Fastball" Ozaki Yukio | D14: Perceived speed on a pitcher's fastball will be greatly increased | E14: ストレートが球速よりも大幅に速く見える | F14: "Bullet" | G14: ストレートのノビがものすごく良くなる
A15: 怪物球威 Gold 重い球 (Heavy Ball) | B15: かいぶつきゅうい (kaibutsu kyūi) | C15: Literally: "Monster Stuff" Localization: "Anchored" | D15: Batted balls are extremely unlikely to fly | E15: 球質が非常に重くなり、打たれたときの打球が飛びにくくなる | F15: "Leadball" | G15: 球質が非常に重くなり、打たれたときの打球が飛びにくくなる
A16: 神の子 OB: Masahiro Tanaka [田中将大], Rakuten Eagles Gold Equivalent: 勝利の星 (Lucky Star) | B16: かみのこ (kami no ko) | C16: Literally: "Child of God" or "Prodigy" Colloquially: Self-explanatory, perhaps. Tanaka is a pitching prodigy from an early age - striking out an astounding 458 batters in his high school career (the current all-time record), with 35 wins and 3 losses in 57 games pitched (over 329.2 innings) and an ERA of 1.31. He also hit 13 homeruns... Localization: "Kami-no-ko" | D16: When actively pitching, Tanaka's team's lineup will benefit from both +5 Contact and +5 Power | E16: 登板中、味方打者のミート+5、パワー+5 | F16: N/A | G16: 登板するとぐっと勝ちを呼び込む
A17: ガソリンタンク Gold 回復 (Recovery) | B17: がそりんたんく (gasorin tanku) | C17: "Gas Tank" | D17: After pitching, stamina is very quickly recovered [Pennant / MyLife Ability] | E17: 登板後のスタミナ回復が非常に早い | F17: "Dynamo" | G17: 疲れがとても早くとれるようになる
A18: 完全燃焼 Gold 全開 (Full Throttle) | B18: かんぜんねんしょ (kanzen nensho) | C18: Literally: "Perfect Combustion" Colloquially: "Giving One's All" / "Using All of One's Ability" Localization: "Unfettered" | D18: If the pitcher still has at least 1/3 of their stamina and there are RISP... pitches will be much heavier and ノビ ("nobi" [pitch tunneling]) will be much improved, however... stamina consumption will be increased | E18: 得点圏に走者がいてスタミナ残量約1/3以上のとき、より球質が重く、ノビがよくなりスタミナ消費量が増える | G18: ピンチでスタミナ消費がすごく増えるが、能力もすごく上がる
A19: ギアチェンジ Gold 力配分 (Strength Distribution) | B19: ぎあちぇんじ (gia chenji) | C19: "Gear Change" | D19: When a starting pitcher has reached the 5th inning... and the score is tied or their team has a maximum of a 3 run lead... and there are runners on base... Top Speed: +1 km/h Control: +10 Breaking Ball Levels: +1 | E19: 先発時の5回以降、リードが3点以内または同点で走者がいるとき、球速+1km/h、コントロール+10、変化球が打者の近くで変化するようになる | G19: 特定の場面で強打者と対戦するとき先発投手の能力が上がる
A20: 驚異の切れ味 Gold キレ (Sharpness) | B20: きょういのきれあじ (kyōi no kireaji) | C20: "Miracle Sharpness" | D20: Breaking pitches break extremely late | E20: 変化球の曲がり始めが極端に遅くなり、より打者の近くで変化する | F20: "Carver" | G20: 変化球のキレがものすごく良くなる
A21: 強心臓 Gold 対ピンチ (vs. RISP) | B21: きょうしんぞう (kyō shinzō) | C21: "Sangfroid" | D21: With runners in scoring position... Top Speed: +2 km/h Breaking Ball Levels: +3 | E21: 得点圏に走者がいるとき、球速+2km/h、変化量+3 | F21: "Resolve" | G21: 得点圏にランナーがいるとものすごく能力が上がる
A22: クロスキャノン Gold クロスファイヤー(Crossfire) | B22: くろすきゃのん (kurosu kyanon) | C22: "Cross Cannon" | D22: Pitch speed will appear much faster when throwing inside to an opposite-handed batter (ie right-handed pitcher throwing to a left-handed batter) | E22: 対角線となるコースに投げたとき、球速よりも速く見える | G22: 対角線のコースに投球したときに能力がすごく上がる
A23: ケンカ投法 OB: Osamu Higashio [東尾修], [Seibu Lions] Gold Equivalent: 内角無双 (Painter) | B23: けんかとうほう (kenka tōhō) | C23: Literally: "Brawling Pitching Style" Colloquially: Osamu Higashio is the NPB's all-time leader in HBP. He was known for his aggressive style of pitching to the inside corner and his headstrong personality. Localization: "Kenka Tōhō" | D23: Osamu Higashio's control on the inner edge of the plate is elite. How he chooses to use that elite control, however... | E23: 内角への投球時、コントロールが良くなり球威も大きく上がる | F23: N/A | G23: 内角に投げたときにコントロールがすごく良くなる
A24: 終盤力 Gold 尻上がり (Strong Finisher) | B24: しゅうばんりょく (shuban ryoku) | C24: Literally: "Endgame Strength" Localization: "Wizard Mode" | D24: When a starting pitcher has reached the 5th(?) inning... and their team is either winning or losing by fewer than 3 runs... Top Speed: +4 km/h Control: +10 Breaking Ball Levels: +2 | E24: 先発時に勝っているか3点差以内で負けているとき、球速+4km/h、コントロール+10、変化量+2 | G24: 試合後半からすごく調子が良くなる
A25: 主砲キラー Gold 対強打者 (vs. Strong Batter) | B25: しゅぼうきらー (shubō kirā) | C25: Literally: "Main Gun Killer" Localization: "Slugger Killer" | D25: When facing a batter with Contact at or above B and/or Power at or above A... Top Speed: +3 km/h Breaking Ball Levels: +1 キレ: +1 | E25: ミートB以上かパワーA以上の打者が相手のとき、球速+3km/h、変化量+1km/h、さらに変化球が打者の近くで変化するようになる | G25: 強打者と対戦するときに能力がものすごく上がる
A26: 勝利の星 Gold 勝ち運 (Winner's Luck) | B26: しょうりのほし (shori-no-hoshi) | C26: "Lucky Star" | D26: When actively pitching, the pitcher's team's lineup will benefit from both +5 Contact and +5 Power | E26: 登板中、味方打者のミート+5、パワー+5 | F26: "Charm" | G26: 登板するとチームに勝ちをものすごく呼び込みやすくなる
A27: 精密機械 Gold 低め (Low Ball) | B27: せいみつきかい (seimitsu kikai) | C27: "Precision Instrument" | D27: Control of pitches low in the zone is greatly improved | E27: ストライクゾーン低めへのコントロールが非常に良くなる。 | F27: "Engineer" | G27: 低めのコースのコントロールがものすごく良くなる
A28: 草魂 OB: Keishi Suzuki [鈴木啓示], Kintetsu Buffaloes Gold Equivalent: 不屈の魂 (Indomitable Soul) | B28: そうこん (sōkon) | C28: Literally: "Grass Soul" Colloquially: This is Keishi Suzuki's motto and a phrase he is widely known for. It is derived from the word 「雑草魂」(zassōdamashi), meaning "The tenacity (or stubborness) of weeds." In other words, this is a phrase to represent Suzuki's unflappable sensibilty Localization: "Sōkon" | D28: Keishi Suzuki will not be rattled | E28: 動揺状態にほとんどならない | F28: N/A | G28: 打ちこまれてもすごく動揺しにくい
A29: 走者釘付 Gold クイック (Quickness) | B29: そうしゃくぎづけ (sōsha kugidzuke) | C29: Literally: "Freezing Baserunners" or "Nailing Down Baserunners" Localization: "Halting Quickness" | D29: Delivery while pitching out of the stretch is dramatically increased, hampering stolen base attempts | E29: 投球モーションがより速くなる | G29: クイックがものすごくうまく、盗塁がされにくい
A30: 超投打躍動 Gold 投打躍動 (Kageura) | B30: ちょうとうだやくどう (chō tōda yakudō) | C30: Literally: "Ultra Lively Pitching and Batting" Localization: "Showtime" | D30: When pitching, if the pitcher has let up fewer than 2 runs, their Contact and Power will increase greatly and... When batting, if the batter has at least one hit, their Control and Breaking Ball Levels will increase greatly | E30: 投手で出場して2失点以下だとミートとパワーが大きく上がり、1安打以上だとコントロールと変化量が大きく上がる | G30: 好投しているほど打撃に、ヒットを打つほど投球にかなりの好影響を及ぼす
A31: ディレイドアーム Gold 球持ち◯ (Tunneling) | B31: でぃれいどあーむ (direido āmu) | C31: Literally: "Delayed Arm" Localization: "Seikan Tunneling" | D31: Pitch location indicator will appear much later and smaller | E31: 投球時の球持ちがより長くなり、打者からは腕の振りが見えづらく、打ちにくい | G31: バッターから腕の振りが見えづらくなる
A32: 鉄腕 Gold 調子安定 (Stable Condition) | B32: てつわん (tetsuwan) | C32: Literally: "Iron Arm" Localization: "Iron Will" | D32: Mood barely affects performance | E32: 調子による影響がほとんどない | F32: "Steeled" | G32: ピッチングが調子にすごく影響されにくい
A33: 闘魂 Gold 闘志 (Fighting Spirit) | B33: とうこん (tōkon) | C33: Literally: "Fighting Spirit" Localization: "Fighting Soul" | D33: If the pitcher still has stamina remaining... and their team is leading by 2 or fewer runs or losing by 2 or more runs... pitches will become much heavier and any batter's Intimidator (威圧感) special ability will not activate | E33: スタミナ切れ状態ではなく、リードが2点以内か負けていて自責点2以下の場合、球質が重くなり、動揺状態になりにくくなって打者の威圧感を無効化する | G33: 闘魂みなぎるピッチングをする
A34: ドクターK Gold 奪三振 (Strikeout) | B34: どくたーK (dokutā K) | C34: "Doctor K" | D34: When there are two stikes on the current batter... Top Speed: +4 km/h Breaking Ball Levels: +2 | E34: 2ストライクに追い込むと、球速+4km/h、変化量+2 | G34: 2ストライクに追い込んだときに能力がものすごくあがる。Kは奪三振のこと
A35: ド根性 Gold 根性 (Guts) | B35: どこんせい (do konsei) | C35: "Grit" | D35: Pitching ability will remain consistent, regardless of stamina level | E35: 先発したとき、スタミナ切れになっても能力の減少が早めに止まる | G35: スタミナが減っても疲れを見せずにド根性で投げる
A36: トップギア Gold 立ち上がり (Strong Starter) | B36: とっぷぎあ (toppu gia) | C36: Literally: "Top Gear" Localization: "Ace Opener" | D36: For the first two innings... Top Speed: +4 km/h Control: +13 Breaking Ball Levels: +2 | E36: 先発時の1~2回は球速+4km/h、コントロール+13、変化量+2 | G36: 試合序盤の立ち上がりがすごく良くなる
A37: 内角無双 Gold 内角攻め (Inside Pitch) | B37: ないかくむそう (naikaku musō) | C37: Literally: "Merciless Inside Pitch" Localization: "Painter" | D37: Control of inside pitches is greatly increased | E37: 内角への投球時、コントロールが良くなり球威も大きく上がる | G37: インコースに投げたときにコントロールがすごく良くなる
A38: ハイスピンジャイロ Gold ジャイロボール (Gyroball) | B38: はいすぴんじゃいろ (haisupin jairo) | C38: "High Spin Gyroball" | D38: Fastball greatly spins without horizontal movement and appears much faster than it truly is | E38: ストレートがジャイロ回転し、球速よりも非常に速く見える | G38: ストレートの回転軸が打者に向かって進み手元ですごく伸びるようになる
A39: 左キラー Gold 対左打者 (vs. Lefty Batter) | B39: ひだりきらー (hidari kirā) | C39: "Lefty Killer" | D39: When facing a left-handed batter... Top Speed: +3 km/h Control: +7 Stamina Consumption Increased | E39: 左打者が相手のとき、球速+3km/h、コントロール+7、スタミナ消費量増 | G39: 左打者にものすごく強くなる
A40: 不屈の魂 Gold 打たれ強さ (Poise) | B40: ふくつのたましい (fukutsu-no-tamashī) | C40: "Indomitable Soul" | D40: Pitcher is almost impossible to rattle | E40: 動揺状態にほとんどならない | F40: "Unshaken" | G40: 打ち込まれてもすごく動揺しにくくなる
A41: 変幻自在 Gold 緩急 (Pace) | B41: へんげんじざい (hengenjizai) | C41: "Phantasmagoric" | D41: Mixing fastballs and breaking pitches will both greatly increase the perceived speed of the fastballs and the perceived break of the breaking pitches | E41: 速い球のあとに遅い変化球、またはその逆で投球したとき、ストレートは球速よりもかなり速く見え、変化球は曲がり始めがかなり遅くなる | G41: ストレートと遅い変化球を組み合わせて投球すると能力がものすごく上がる
A42: 本塁打厳禁 Gold 逃げ球 (Escape Pitch) | B42: ほんるいだげんきん (honruida genkin) | C42: Literally: "Homeruns Strictly Forbidden" Localization: "Houdini" | D42: Becomes extremely unlikely (2.5% chance) for a mistake pitch to land in the middle of the strikezone | E42: 失投時にど真ん中にいく確率がかなり下がる | G42: ピッチャーのすっぽ抜けたボールがかなりど真ん中にいきにくくなる
A44: Catcher Exclusive Gold Abilities
A46: 球界の頭脳 Gold キャッチャー (Catcher) | B46: きゅうかいのずのう (kyūkai-no-zunō) | C46: Literally: "Understanding of the Baseball World" Localization: "The Almanac" | D46: When behind the plate... Pitcher's Contol: +15 Stamina Consumption Decreased and if the pithcer has a poor mood (blue/purple)... Top Speed: +2 km/h | E46: 味方投手のコントロール+15、消費スタミナ-11。味方投手が不調または絶不調の場合、球速+2km/h | G46: ピッチャーの能力をものすごくうまく引き出せる
A47: ささやき戦術 | B47: ささやきせんじゅつ (sasayaki senjutsu) | C47: Literally: "Whispeing Tactics" Localization: "Trash Talk" | D47: When the opposing team has runners in scoring position... active batter suffers from... Contact: -5 Power: -5 | E47: 捕手のときに得点圏に走者がいると、相手打者のミート-5、パワー-5 | F47: "Heckler" | G47: 打者にささやいてまどわす
A48: 鉄の壁 Gold ホーム死守 (Home Defense) | B48: てつのかべ (tetsu-no-kabe) | C48: "Iron Wall" | D48: The catcher shall not be moved *Significantly lowers the chances of ホーム突入 (Storming Home) and 重戦車 (Heavy Tank) abilities from activating | E48: 捕手のとき、本塁クロスプレイの際に走者の「ホーム突入」「重戦車」の発動確率をかなり下げる | G48: 確実なタッチでランナーの生還を阻止する
A49: バズーカ送球 | B49: ばずーかそうきゅう (bazūka sōkyū) | C49: Literally: "Bazooka Throw" Localizaiton: "Bazooka Arm" | D49: Catcher pop time is greatly decreased when throwing down to prevent a stolen base | E49: 盗塁阻止時の送球がものすごく鋭くなる | G49: 盗塁阻止時の送球がものすごく鋭くなる
A51: Fielder Gold Abilities
...

Sheet Pitcher Special Ability List
A1: パワフルプロ野球2024-2025 Pitcher Special Ability List (Translated to English by tweav) Presented in Japanese Syllabary Order (五十音順) Ability Descriptions / Numerical Data from: game8 OB Ability Information from: seesaawiki WBSC Localizations from: Zumikaku
H2: Copy code: " = 'FULL Ability List'! [Cell letter/Number]"
A9: Ability Name (Japanese) | B9: Ability Name (Hiragana + Romaji) | C9: Ability Name (English) | D9: Description (English) | E9: Description (Japanese) | F9: WBSC English Localization | G9: In-Game Description (Japanese)
A11: Pitcher Gold Abilities
A13: 暴れ球 Gold 荒れ球 (Wild Fastball) | B13: ='FULL Special Ability List'!B13 -> あばれきゅう (abare kyū) | C13: ='FULL Special Ability List'!C13 -> Literally: "Violent Ball" Localization: "Explosive Fastball" | D13: ='FULL Special Ability List'!D13 -> Fastball speed, power, and break is greatly increased at the cost of control Control: - ~20 when throwing a Fastball | E13: ='FULL Special Ability List'!E13 -> ストレートを投げたとき、よりノビが良くなるが、ブレやすくなる | F13: ='FULL Special Ability List'!F13 | G13: ='FULL Special Ability List'!G13 -> 制球がさだまらないが、威力のあるストレートが投げられる
A14: 怪童 Gold ノビ (Fastball Spin Rate) | B14: ='FULL Special Ability List'!B14 -> かいどう (kaidō) | C14: Literally: "Unusually Large/Strong Child" Localization: "Ozaki Fastball" Ozaki Yukio | D14: ='FULL Special Ability List'!D14 -> Perceived speed on a pitcher's fastball will be greatly increased | E14: ='FULL Special Ability List'!E14 -> ストレートが球速よりも大幅に速く見える | F14: ='FULL Special Ability List'!F14 -> "Bullet" | G14: ='FULL Special Ability List'!G14 -> ストレートのノビがものすごく良くなる
A15: 怪物球威 Gold 重い球 (Heavy Ball) | B15: ='FULL Special Ability List'!B15 -> かいぶつきゅうい (kaibutsu kyūi) | C15: ='FULL Special Ability List'!C15 -> Literally: "Monster Stuff" Localization: "Anchored" | D15: ='FULL Special Ability List'!D15 -> Batted balls are extremely unlikely to fly | E15: ='FULL Special Ability List'!E15 -> 球質が非常に重くなり、打たれたときの打球が飛びにくくなる | F15: ='FULL Special Ability List'!F15 -> "Leadball" | G15: ='FULL Special Ability List'!G15 -> 球質が非常に重くなり、打たれたときの打球が飛びにくくなる
A16: ガソリンタンク Gold 回復 (Recovery) | B16: ='FULL Special Ability List'!B17 -> がそりんたんく (gasorin tanku) | C16: ='FULL Special Ability List'!C17 -> "Gas Tank" | D16: ='FULL Special Ability List'!D17 -> After pitching, stamina is very quickly recovered [Pennant / MyLife Ability] | E16: ='FULL Special Ability List'!E17 -> 登板後のスタミナ回復が非常に早い | F16: ='FULL Special Ability List'!F17 -> "Dynamo" | G16: ='FULL Special Ability List'!G17 -> 疲れがとても早くとれるようになる
A17: 完全燃焼 Gold 全開 (Full Throttle) | B17: ='FULL Special Ability List'!B18 -> かんぜんねんしょ (kanzen nensho) | C17: ='FULL Special Ability List'!C18 -> Literally: "Perfect Combustion" Colloquially: "Giving One's All" / "Using All of One's Ability" Localization: "Unfettered" | D17: ='FULL Special Ability List'!D18 -> If the pitcher still has at least 1/3 of their stamina and there are RISP... pitches will be much heavier and ノビ ("nobi" [pitch tunneling]) will be much improved, however... stamina consumption will be increased | E17: ='FULL Special Ability List'!E18 -> 得点圏に走者がいてスタミナ残量約1/3以上のとき、より球質が重く、ノビがよくなりスタミナ消費量が増える | F17: ='FULL Special Ability List'!F18 | G17: ='FULL Special Ability List'!G18 -> ピンチでスタミナ消費がすごく増えるが、能力もすごく上がる
A18: ギアチェンジ Gold 力配分 (Strength Distribution) | B18: ='FULL Special Ability List'!B19 -> ぎあちぇんじ (gia chenji) | C18: ='FULL Special Ability List'!C19 -> "Gear Change" | D18: ='FULL Special Ability List'!D19 -> When a starting pitcher has reached the 5th inning... and the score is tied or their team has a maximum of a 3 run lead... and there are runners on base... Top Speed: +1 km/h Control: +10 Breaking Ball Levels: +1 | E18: ='FULL Special Ability List'!E19 -> 先発時の5回以降、リードが3点以内または同点で走者がいるとき、球速+1km/h、コントロール+10、変化球が打者の近くで変化するようになる | F18: ='FULL Special Ability List'!F19 | G18: ='FULL Special Ability List'!G19 -> 特定の場面で強打者と対戦するとき先発投手の能力が上がる
A19: 驚異の切れ味 Gold キレ (Sharpness) | B19: ='FULL Special Ability List'!B20 -> きょういのきれあじ (kyōi no kireaji) | C19: ='FULL Special Ability List'!C20 -> "Miracle Sharpness" | D19: ='FULL Special Ability List'!D20 -> Breaking pitches break extremely late | E19: ='FULL Special Ability List'!E20 -> 変化球の曲がり始めが極端に遅くなり、より打者の近くで変化する | F19: ='FULL Special Ability List'!F20 -> "Carver" | G19: ='FULL Special Ability List'!G20 -> 変化球のキレがものすごく良くなる
A20: 強心臓 Gold 対ピンチ (vs. RISP) | B20: ='FULL Special Ability List'!B21 -> きょうしんぞう (kyō shinzō) | C20: ='FULL Special Ability List'!C21 -> "Sangfroid" | D20: ='FULL Special Ability List'!D21 -> With runners in scoring position... Top Speed: +2 km/h Breaking Ball Levels: +3 | E20: ='FULL Special Ability List'!E21 -> 得点圏に走者がいるとき、球速+2km/h、変化量+3 | F20: ='FULL Special Ability List'!F21 -> "Resolve" | G20: ='FULL Special Ability List'!G21 -> 得点圏にランナーがいるとものすごく能力が上がる
A21: クロスキャノン Gold クロスファイヤー(Crossfire) | B21: ='FULL Special Ability List'!B22 -> くろすきゃのん (kurosu kyanon) | C21: ='FULL Special Ability List'!C22 -> "Cross Cannon" | D21: ='FULL Special Ability List'!D22 -> Pitch speed will appear much faster when throwing inside to an opposite-handed batter (ie right-handed pitcher throwing to a left-handed batter) | E21: ='FULL Special Ability List'!E22 -> 対角線となるコースに投げたとき、球速よりも速く見える | F21: ='FULL Special Ability List'!F22 | G21: ='FULL Special Ability List'!G22 -> 対角線のコースに投球したときに能力がすごく上がる
A22: 終盤力 Gold 尻上がり (Strong Finisher) | B22: ='FULL Special Ability List'!B24 -> しゅうばんりょく (shuban ryoku) | C22: Literally: "Endgame Strength" Localization: "Wizard Mode" | D22: ='FULL Special Ability List'!D24 -> When a starting pitcher has reached the 5th(?) inning... and their team is either winning or losing by fewer than 3 runs... Top Speed: +4 km/h Control: +10 Breaking Ball Levels: +2 | E22: ='FULL Special Ability List'!E24 -> 先発時に勝っているか3点差以内で負けているとき、球速+4km/h、コントロール+10、変化量+2 | F22: ='FULL Special Ability List'!F24 | G22: ='FULL Special Ability List'!G24 -> 試合後半からすごく調子が良くなる
A23: 主砲キラー Gold 対強打者 (vs. Strong Batter) | B23: ='FULL Special Ability List'!B25 -> しゅぼうきらー (shubō kirā) | C23: ='FULL Special Ability List'!C25 -> Literally: "Main Gun Killer" Localization: "Slugger Killer" | D23: ='FULL Special Ability List'!D25 -> When facing a batter with Contact at or above B and/or Power at or above A... Top Speed: +3 km/h Breaking Ball Levels: +1 キレ: +1 | E23: ='FULL Special Ability List'!E25 -> ミートB以上かパワーA以上の打者が相手のとき、球速+3km/h、変化量+1km/h、さらに変化球が打者の近くで変化するようになる | F23: ='FULL Special Ability List'!F25 | G23: ='FULL Special Ability List'!G25 -> 強打者と対戦するときに能力がものすごく上がる
A24: 勝利の星 Gold 勝ち運 (Winner's Luck) | B24: ='FULL Special Ability List'!B26 -> しょうりのほし (shori-no-hoshi) | C24: ='FULL Special Ability List'!C26 -> "Lucky Star" | D24: ='FULL Special Ability List'!D26 -> When actively pitching, the pitcher's team's lineup will benefit from both +5 Contact and +5 Power | E24: ='FULL Special Ability List'!E26 -> 登板中、味方打者のミート+5、パワー+5 | F24: ='FULL Special Ability List'!F26 -> "Charm" | G24: ='FULL Special Ability List'!G26 -> 登板するとチームに勝ちをものすごく呼び込みやすくなる
A25: 精密機械 Gold 低め (Low Ball) | B25: ='FULL Special Ability List'!B27 -> せいみつきかい (seimitsu kikai) | C25: ='FULL Special Ability List'!C27 -> "Precision Instrument" | D25: ='FULL Special Ability List'!D27 -> Control of pitches low in the zone is greatly improved | E25: ='FULL Special Ability List'!E27 -> ストライクゾーン低めへのコントロールが非常に良くなる。 | F25: ='FULL Special Ability List'!F27 -> "Engineer" | G25: ='FULL Special Ability List'!G27 -> 低めのコースのコントロールがものすごく良くなる
A26: 走者釘付 Gold クイック (Quickness) | B26: ='FULL Special Ability List'!B29 -> そうしゃくぎづけ (sōsha kugidzuke) | C26: ='FULL Special Ability List'!C29 -> Literally: "Freezing Baserunners" or "Nailing Down Baserunners" Localization: "Halting Quickness" | D26: ='FULL Special Ability List'!D29 -> Delivery while pitching out of the stretch is dramatically increased, hampering stolen base attempts | E26: ='FULL Special Ability List'!E29 -> 投球モーションがより速くなる | F26: ='FULL Special Ability List'!F29 | G26: ='FULL Special Ability List'!G29 -> クイックがものすごくうまく、盗塁がされにくい
A27: 超投打躍動 Gold 投打躍動 (Kageura) | B27: ='FULL Special Ability List'!B30 -> ちょうとうだやくどう (chō tōda yakudō) | C27: ='FULL Special Ability List'!C30 -> Literally: "Ultra Lively Pitching and Batting" Localization: "Showtime" | D27: ='FULL Special Ability List'!D30 -> When pitching, if the pitcher has let up fewer than 2 runs, their Contact and Power will increase greatly and... When batting, if the batter has at least one hit, their Control and Breaking Ball Levels will increase greatly | E27: ='FULL Special Ability List'!E30 -> 投手で出場して2失点以下だとミートとパワーが大きく上がり、1安打以上だとコントロールと変化量が大きく上がる | F27: ='FULL Special Ability List'!F30 | G27: ='FULL Special Ability List'!G30 -> 好投しているほど打撃に、ヒットを打つほど投球にかなりの好影響を及ぼす
A28: ディレイドアーム Gold 球持ち◯ (Tunneling) | B28: ='FULL Special Ability List'!B31 -> でぃれいどあーむ (direido āmu) | C28: Literally: "Delayed Arm" Localization: "Seikan Tunneling" | D28: ='FULL Special Ability List'!D31 -> Pitch location indicator will appear much later and smaller | E28: ='FULL Special Ability List'!E31 -> 投球時の球持ちがより長くなり、打者からは腕の振りが見えづらく、打ちにくい | F28: ='FULL Special Ability List'!F31 | G28: ='FULL Special Ability List'!G31 -> バッターから腕の振りが見えづらくなる
A29: 鉄腕 Gold 調子安定 (Stable Condition) | B29: ='FULL Special Ability List'!B32 -> てつわん (tetsuwan) | C29: ='FULL Special Ability List'!C32 -> Literally: "Iron Arm" Localization: "Iron Will" | D29: ='FULL Special Ability List'!D32 -> Mood barely affects performance | E29: ='FULL Special Ability List'!E32 -> 調子による影響がほとんどない | F29: ='FULL Special Ability List'!F32 -> "Steeled" | G29: ='FULL Special Ability List'!G32 -> ピッチングが調子にすごく影響されにくい
A30: 闘魂 Gold 闘志 (Fighting Spirit) | B30: ='FULL Special Ability List'!B33 -> とうこん (tōkon) | C30: ='FULL Special Ability List'!C33 -> Literally: "Fighting Spirit" Localization: "Fighting Soul" | D30: ='FULL Special Ability List'!D33 -> If the pitcher still has stamina remaining... and their team is leading by 2 or fewer runs or losing by 2 or more runs... pitches will become much heavier and any batter's Intimidator (威圧感) special ability will not activate | E30: ='FULL Special Ability List'!E33 -> スタミナ切れ状態ではなく、リードが2点以内か負けていて自責点2以下の場合、球質が重くなり、動揺状態になりにくくなって打者の威圧感を無効化する | F30: ='FULL Special Ability List'!F33 | G30: ='FULL Special Ability List'!G33 -> 闘魂みなぎるピッチングをする
A31: ドクターK Gold 奪三振 (Strikeout) | B31: ='FULL Special Ability List'!B34 -> どくたーK (dokutā K) | C31: ='FULL Special Ability List'!C34 -> "Doctor K" | D31: ='FULL Special Ability List'!D34 -> When there are two stikes on the current batter... Top Speed: +4 km/h Breaking Ball Levels: +2 | E31: ='FULL Special Ability List'!E34 -> 2ストライクに追い込むと、球速+4km/h、変化量+2 | F31: ='FULL Special Ability List'!F34 | G31: ='FULL Special Ability List'!G34 -> 2ストライクに追い込んだときに能力がものすごくあがる。Kは奪三振のこと
A32: ド根性 Gold 根性 (Guts) | B32: ='FULL Special Ability List'!B35 -> どこんせい (do konsei) | C32: ='FULL Special Ability List'!C35 -> "Grit" | D32: ='FULL Special Ability List'!D35 -> Pitching ability will remain consistent, regardless of stamina level | E32: ='FULL Special Ability List'!E35 -> 先発したとき、スタミナ切れになっても能力の減少が早めに止まる | F32: ='FULL Special Ability List'!F35 | G32: ='FULL Special Ability List'!G35 -> スタミナが減っても疲れを見せずにド根性で投げる
A33: トップギア Gold 立ち上がり (Strong Starter) | B33: ='FULL Special Ability List'!B36 -> とっぷぎあ (toppu gia) | C33: ='FULL Special Ability List'!C36 -> Literally: "Top Gear" Localization: "Ace Opener" | D33: ='FULL Special Ability List'!D36 -> For the first two innings... Top Speed: +4 km/h Control: +13 Breaking Ball Levels: +2 | E33: ='FULL Special Ability List'!E36 -> 先発時の1~2回は球速+4km/h、コントロール+13、変化量+2 | F33: ='FULL Special Ability List'!F36 | G33: ='FULL Special Ability List'!G36 -> 試合序盤の立ち上がりがすごく良くなる
A34: 内角無双 Gold 内角攻め (Inside Pitch) | B34: ='FULL Special Ability List'!B37 -> ないかくむそう (naikaku musō) | C34: ='FULL Special Ability List'!C37 -> Literally: "Merciless Inside Pitch" Localization: "Painter" | D34: ='FULL Special Ability List'!D37 -> Control of inside pitches is greatly increased | E34: ='FULL Special Ability List'!E37 -> 内角への投球時、コントロールが良くなり球威も大きく上がる | F34: ='FULL Special Ability List'!F37 | G34: ='FULL Special Ability List'!G37 -> インコースに投げたときにコントロールがすごく良くなる
A35: ハイスピンジャイロ Gold ジャイロボール (Gyroball) | B35: ='FULL Special Ability List'!B38 -> はいすぴんじゃいろ (haisupin jairo) | C35: ='FULL Special Ability List'!C38 -> "High Spin Gyroball" | D35: ='FULL Special Ability List'!D38 -> Fastball greatly spins without horizontal movement and appears much faster than it truly is | E35: ='FULL Special Ability List'!E38 -> ストレートがジャイロ回転し、球速よりも非常に速く見える | F35: ='FULL Special Ability List'!F38 | G35: ='FULL Special Ability List'!G38 -> ストレートの回転軸が打者に向かって進み手元ですごく伸びるようになる
A36: 左キラー Gold 対左打者 (vs. Lefty Batter) | B36: ='FULL Special Ability List'!B39 -> ひだりきらー (hidari kirā) | C36: ='FULL Special Ability List'!C39 -> "Lefty Killer" | D36: ='FULL Special Ability List'!D39 -> When facing a left-handed batter... Top Speed: +3 km/h Control: +7 Stamina Consumption Increased | E36: ='FULL Special Ability List'!E39 -> 左打者が相手のとき、球速+3km/h、コントロール+7、スタミナ消費量増 | F36: ='FULL Special Ability List'!F39 | G36: ='FULL Special Ability List'!G39 -> 左打者にものすごく強くなる
A37: 不屈の魂 Gold 打たれ強さ (Poise) | B37: ='FULL Special Ability List'!B40 -> ふくつのたましい (fukutsu-no-tamashī) | C37: ='FULL Special Ability List'!C40 -> "Indomitable Soul" | D37: ='FULL Special Ability List'!D40 -> Pitcher is almost impossible to rattle | E37: ='FULL Special Ability List'!E40 -> 動揺状態にほとんどならない | F37: ='FULL Special Ability List'!F40 -> "Unshaken" | G37: ='FULL Special Ability List'!G40 -> 打ち込まれてもすごく動揺しにくくなる
A38: 変幻自在 Gold 緩急 (Pace) | B38: ='FULL Special Ability List'!B41 -> へんげんじざい (hengenjizai) | C38: ='FULL Special Ability List'!C41 -> "Phantasmagoric" | D38: ='FULL Special Ability List'!D41 -> Mixing fastballs and breaking pitches will both greatly increase the perceived speed of the fastballs and the perceived break of the breaking pitches | E38: ='FULL Special Ability List'!E41 -> 速い球のあとに遅い変化球、またはその逆で投球したとき、ストレートは球速よりもかなり速く見え、変化球は曲がり始めがかなり遅くなる | F38: ='FULL Special Ability List'!F41 | G38: ='FULL Special Ability List'!G41 -> ストレートと遅い変化球を組み合わせて投球すると能力がものすごく上がる
A39: 本塁打厳禁 Gold 逃げ球 (Escape Ball) | B39: ='FULL Special Ability List'!B42 -> ほんるいだげんきん (honruida genkin) | C39: ='FULL Special Ability List'!C42 -> Literally: "Homeruns Strictly Forbidden" Localization: "Houdini" | D39: ='FULL Special Ability List'!D42 -> Becomes extremely unlikely (2.5% chance) for a mistake pitch to land in the middle of the strikezone | E39: ='FULL Special Ability List'!E42 -> 失投時にど真ん中にいく確率がかなり下がる | F39: ='FULL Special Ability List'!F42 | G39: ='FULL Special Ability List'!G42 -> ピッチャーのすっぽ抜けたボールがかなりど真ん中にいきにくくなる
A41: Pitcher Special Abilities
A43: ='FULL Special Ability List'!A97 -> 威圧感 | B43: ='FULL Special Ability List'!B97 -> いあつかん (iatsukan) | C43: ='FULL Special Ability List'!C97 -> Literally: "Intimidating Air" Localization: "Intimidator" | D43: ='FULL Special Ability List'!D97 -> When entering a game as a reliever... Opposing batter is affected with: Contact: -20 Power: -20 | E43: ='FULL Special Ability List'!E97 -> 2番手以降で登板時、相手打者のミート-20、パワー-20 | F43: ='FULL Special Ability List'!F97 -> "Tyrant" | G43: ='FULL Special Ability List'!G97 -> リリーフで登板した時、相手打者のミート-20、パワー-20
A44: ='FULL Special Ability List'!A98 -> 重い球 | B44: ='FULL Special Ability List'!B98 -> おもいきゅう (omoi kyū) | C44: ='FULL Special Ability List'!C98 -> Literally: "Heavy Ball" Localization: "Ironball" | D44: ='FULL Special Ability List'!D98 -> Batted balls are less likely to fly | E44: ='FULL Special Ability List'!E98 -> 打たれても打球が飛びにくくなる | F44: ='FULL Special Ability List'!F98 -> "Ironball" | G44: ='FULL Special Ability List'!G98 -> 打たれても打球が飛びにくくなる
A45: ='FULL Special Ability List'!A99 -> 回またぎ◯ | B45: ='FULL Special Ability List'!B99 -> かいまたぎ (kaimatagi) | C45: ='FULL Special Ability List'!C99 -> Literally: "Inning Straddle" Localization: "Straddle" | D45: ='FULL Special Ability List'!D99 -> Stamina is decreases more slowly for relivers pitching multiple innings *Relievers recover 10% stamina upon the beginning of their second inning of work | E45: ='FULL Special Ability List'!E99 -> リリーフ登板でイニングをまたいでも疲れにくくなる | F45: ='FULL Special Ability List'!F100 -> "Lucky" | G45: ='FULL Special Ability List'!G99 -> リリーフ登板でイニングをまたいでも疲れにくくなる
A46: ='FULL Special Ability List'!A100 -> 勝ち運 | B46: ='FULL Special Ability List'!B100 -> かちうん (kachi un) | C46: ='FULL Special Ability List'!C100 -> "Winner's Luck" | D46: ='FULL Special Ability List'!D100 -> When actively pitching, pitcher's team's lineup benefits from... Power: +5 | E46: ='FULL Special Ability List'!E100 -> 登板中、味方打者のパワー+5 | F46: =#REF! -> #REF! | G46: ='FULL Special Ability List'!G100 -> 登板するとチームに勝ちを呼び込みやすくなる
A47: ='FULL Special Ability List'!A101 -> 緩急◯ | B47: ='FULL Special Ability List'!B101 -> かんきゅう (kankyū) | C47: ='FULL Special Ability List'!C101 -> Literally: "High and Low Speed" or "Fast and Slow" Localization: "Pace" | D47: ='FULL Special Ability List'!D101 -> Mixing fastballs and breaking pitches will both increase the perceived speed of the fastballs and the perceived break of the breaking pitches | E47: ='FULL Special Ability List'!E101 -> ストレートと遅い変化球を組み合わせて投球すると能力が上がる。 | F47: ='FULL Special Ability List'!F101 -> "Toolkit" | G47: ='FULL Special Ability List'!G101 -> ストレートと遅い変化球を組み合わせて投球すると能力が上がる
A48: ='FULL Special Ability List'!A102 -> 球速安定 | B48: ='FULL Special Ability List'!B102 -> きゅうそくあんてい (kyūsoku antei) | C48: ='FULL Special Ability List'!C102 -> Literally: "Stable Pitch Speed" Localization: "Constant Speed" | D48: ='FULL Special Ability List'!D102 -> Average pitch speed is increased by 2 km/h | E48: ='FULL Special Ability List'!E102 -> 平均球速+2km/h | F48: ='FULL Special Ability List'!F102 -> "Timer" | G48: ='FULL Special Ability List'!G102 -> 安定して速い球を投げることができる
A49: ='FULL Special Ability List'!A103 -> キレ◯ | B49: ='FULL Special Ability List'!B103 -> きれ (kire) | C49: ='FULL Special Ability List'!C103 -> "Sharpness" | D49: ='FULL Special Ability List'!D103 -> Breaking balls will break closer to the plate | E49: ='FULL Special Ability List'!E103 -> 変化球のキレが良くなる。 | F49: ='FULL Special Ability List'!F103 -> "Cutter" | G49: ='FULL Special Ability List'!G103 -> 変化球のキレが良くなる
A50: ='FULL Special Ability List'!A104 -> 緊急登板◯ | B50: ='FULL Special Ability List'!B104 -> きんきゅうとうばん (kinkyū tōban) | C50: ='FULL Special Ability List'!C104 -> Literally: "Emergency Taking of the Mound" Localization: "Fireman" | D50: ='FULL Special Ability List'!D104 -> When a reliever enters mid-inning... Control: +10 | E50: ='FULL Special Ability List'!E104 -> イニング途中での登板時、コントロール+10 | F50: ='FULL Special Ability List'!F104 | G50: ='FULL Special Ability List'!G104 -> イニングの途中で登板すると能力が上がる
...

Sheet Fielder Special Ability List
A1: パワフルプロ野球2024-2025 Fielder Special Ability List (Translated to English by tweav) Presented in Japanese Syllabary Order (五十音順) Ability Descriptions / Numerical Data from: game8 OB Ability Information from: seesaawiki WBSC Localizations from: Zumikaku
H2: Copy code: " = 'FULL Ability List'! [Cell letter/Number]"
A9: Ability Name (Japanese) | B9: Ability Name (Hiragana + Romaji) | C9: Ability Name (English) | D9: Description (English) | E9: Description (Japanese) | F9: WBSC English Localization | G9: In-Game Description (Japanese)
A11: Catcher Exclusive Gold Abilities
A13: 球界の頭脳 Gold キャッチャー (Catcher) | B13: ='FULL Special Ability List'!B46 -> きゅうかいのずのう (kyūkai-no-zunō) | C13: ='FULL Special Ability List'!C46 -> Literally: "Understanding of the Baseball World" Localization: "The Almanac" | D13: ='FULL Special Ability List'!D46 -> When behind the plate... Pitcher's Contol: +15 Stamina Consumption Decreased and if the pithcer has a poor mood (blue/purple)... Top Speed: +2 km/h | E13: ='FULL Special Ability List'!E46 -> 味方投手のコントロール+15、消費スタミナ-11。味方投手が不調または絶不調の場合、球速+2km/h | F13: ='FULL Special Ability List'!F46 | G13: ='FULL Special Ability List'!G46 -> ピッチャーの能力をものすごくうまく引き出せる
A14: ささやき戦術 | B14: ='FULL Special Ability List'!B47 -> ささやきせんじゅつ (sasayaki senjutsu) | C14: ='FULL Special Ability List'!C47 -> Literally: "Whispeing Tactics" Localization: "Trash Talk" | D14: ='FULL Special Ability List'!D47 -> When the opposing team has runners in scoring position... active batter suffers from... Contact: -5 Power: -5 | E14: ='FULL Special Ability List'!E47 -> 捕手のときに得点圏に走者がいると、相手打者のミート-5、パワー-5 | F14: ='FULL Special Ability List'!F47 -> "Heckler" | G14: ='FULL Special Ability List'!G47 -> 打者にささやいてまどわす
A15: 鉄の壁 Gold ホーム死守 (Home Defense) | B15: ='FULL Special Ability List'!B48 -> てつのかべ (tetsu-no-kabe) | C15: ='FULL Special Ability List'!C48 -> "Iron Wall" | D15: ='FULL Special Ability List'!D48 -> The catcher shall not be moved *Significantly lowers the chances of ホーム突入 (Storming Home) and 重戦車 (Heavy Tank) abilities from activating | E15: ='FULL Special Ability List'!E48 -> 捕手のとき、本塁クロスプレイの際に走者の「ホーム突入」「重戦車」の発動確率をかなり下げる | F15: ='FULL Special Ability List'!F48 | G15: ='FULL Special Ability List'!G48 -> 確実なタッチでランナーの生還を阻止する
A16: バズーカ送球 | B16: ='FULL Special Ability List'!B49 -> ばずーかそうきゅう (bazūka sōkyū) | C16: ='FULL Special Ability List'!C49 -> Literally: "Bazooka Throw" Localizaiton: "Bazooka Arm" | D16: ='FULL Special Ability List'!D49 -> Catcher pop time is greatly decreased when throwing down to prevent a stolen base | E16: ='FULL Special Ability List'!E49 -> 盗塁阻止時の送球がものすごく鋭くなる | F16: ='FULL Special Ability List'!F49 | G16: ='FULL Special Ability List'!G49 -> 盗塁阻止時の送球がものすごく鋭くなる
A17: ='FULL Special Ability List'!A50 | B17: ='FULL Special Ability List'!B50 | C17: ='FULL Special Ability List'!C50 | D17: ='FULL Special Ability List'!D50 | E17: ='FULL Special Ability List'!E50 | F17: ='FULL Special Ability List'!F50 | G17: ='FULL Special Ability List'!G50
A18: Fielder Gold Abilities
A19: ='FULL Special Ability List'!A52 | B19: ='FULL Special Ability List'!B52 | C19: ='FULL Special Ability List'!C52 | D19: ='FULL Special Ability List'!D52 | E19: ='FULL Special Ability List'!E52 | F19: ='FULL Special Ability List'!F52 | G19: ='FULL Special Ability List'!G52
A20: アーチスト Gold パワーヒッター (Power Hitter) | B20: ='FULL Special Ability List'!B53 -> あーちすと (āchisuto) | C20: ='FULL Special Ability List'!C53 -> "Artist" | D20: ='FULL Special Ability List'!D53 -> Homeruns are much easier to come by when using a power swing *Cannot be paired with ラインドライブ (Line Drive) Ability | E20: ='FULL Special Ability List'!E53 -> 強振して打つと、ホームラン性の打球がかなり出やすくなる。ラインドライブとは一緒につけられない | F20: ='FULL Special Ability List'!F53 -> "Homer" | G20: ='FULL Special Ability List'!G53 -> ホームラン性の打球がとても出やすくなる。ラインドライブとは一緒につけられない
A21: 安打製造機 Gold アべレージヒッター (Contact Hitter) | B21: ='FULL Special Ability List'!B54 -> あんだせいぞうき (anda seizōki) | C21: ='FULL Special Ability List'!C54 -> "Hit Machine" | D21: ='FULL Special Ability List'!D54 -> Strong contact is much easier to come by when using a contact swing | E21: ='FULL Special Ability List'!E54 -> ミート打ちのとき、ヒット性の打球がかなり出やすくなる。 | F21: ='FULL Special Ability List'!F54 -> "Surgical" | G21: ='FULL Special Ability List'!G54 -> ヒット性の打球がとても出やすくなる
A22: 一球入魂 Gold 初球 (First Pitch Hitter) | B22: ='FULL Special Ability List'!B55 -> いっきゅうにゅうこん (ikkyū nyūkon) | C22: ='FULL Special Ability List'!C55 -> Literally: "Putting One's Heart and Soul into Each Pitch" Localization: "First Pitch King" | D22: ='FULL Special Ability List'!D55 -> Prior to the first taken strike... Contact: +15 Power: +15 | E22: ='FULL Special Ability List'!E55 -> 1ストライクを取られるまで、ミート+15、パワー+15 | F22: ='FULL Special Ability List'!F55 -> "Zealous" | G22: ='FULL Special Ability List'!G55 -> 初球にとても強くなる
A23: エースキラー Gold 対エース (vs. Ace) | B23: ='FULL Special Ability List'!B57 -> えーすきらー (ēsu kirā) | C23: ='FULL Special Ability List'!C57 -> "Ace Killer" | D23: ='FULL Special Ability List'!D57 -> When facing an "Ace Level" pitcher... Contact: +15 Power: +15 | E23: ='FULL Special Ability List'!E57 -> エース級の投手との対戦時に、ミート+15、パワー+15 | F23: ='FULL Special Ability List'!F57 | G23: ='FULL Special Ability List'!G57 -> エース級のピッチャーと対戦したときに能力がすごく上がる
A24: 大番狂わせ Gold 意外性 (Unpredictable) | B24: ='FULL Special Ability List'!B58 -> おおばんくるわせ (ōbankuruwase) | C24: ='FULL Special Ability List'!C58 -> Literally: "Stunning Upset" Localization: "Surprise!" | D24: ='FULL Special Ability List'!D58 -> If originally in the starting lineup... and it is either tied after the 5th inning or their team is tied or losing in the "late innings"... the batter's power becomes S (does not activate if their power is already at S) | E24: ='FULL Special Ability List'!E58 -> スタメン出場し、5回以降で同点か試合終盤で負けているか同点だと、走者がいるときにパワーがSになる（もとがSだと変化なし） | F24: ='FULL Special Ability List'!F58 -> "Stunner" | G24: ='FULL Special Ability List'!G58 -> ある条件で大番狂わせを起こすことがある
A25: 外角必打 Gold アウトコースヒッター (Outside Hitter) | B25: ='FULL Special Ability List'!B59 -> がいかくひつだ (gaikaku hitsuda) | C25: Literally: "Outside Corner Certain Hit" Localization: "Art Brut" | D25: ='FULL Special Ability List'!D59 -> Making solid contact on pitches on the outside edge of the zone becomes much easier *Cannot be paired with インコースヒッター (Inside Hitter) or 内角必打 (Inner Artist) | E25: ='FULL Special Ability List'!E59 -> アウトコースのボールを打つのがすごく得意になる。インコースヒッター、内角必打とは一緒につけられない。 | F25: ='FULL Special Ability List'!F59 | G25: ='FULL Special Ability List'!G59 -> アウトコースのボールを打つのがすごく得意になる。インコースヒッター、内角必打、とは一緒につけられない
A26: 火事場の馬鹿力 Gold 逆境 (Resilient) | B26: ='FULL Special Ability List'!B60 -> かじばのばかぢから (kajiba-no-bakadjikara) | C26: ='FULL Special Ability List'!C60 -> Literally: "Animal Power at the Scene of a Fire" Colloquially: "Stupid Power of the Fireplace" Idiomatic Translation: "Fight-or-Flight Response" Localization: "Fight-or-Flight" | D26: ='FULL Special Ability List'!D60 -> If the batter's team is trailing after the 7th inning... Contact: +20 Power: +20 | E26: ='FULL Special Ability List'!E60 -> 試合終盤で負けているとき、ミート+20、パワー+20 | F26: ='FULL Special Ability List'!F60 | G26: ='FULL Special Ability List'!G60 -> 負けていると打力がすごく上がる
A27: 気迫ヘッド Gold ヘッドスライディング (Head-first Slide) | B27: ='FULL Special Ability List'!B61 -> きはくへっど (kihaku heddo) | C27: ='FULL Special Ability List'!C61 -> Literally: "Vigorous Head" or "Spirit Head" Localization: "Spirit Head" | D27: ='FULL Special Ability List'!D61 -> Will slide head-first into a base when the situation calls for it *(with extra spirit!) | E27: ='FULL Special Ability List'!E61 -> きわどいときにベースに頭からすべりこむ | F27: ='FULL Special Ability List'!F61 | G27: ='FULL Special Ability List'!G61 -> きわどいときにベースに頭からすべりこむ
A28: 逆襲 Gold リベンジ (Revenge) | B28: ='FULL Special Ability List'!B62 -> ぎゃくしゅう (gyakushū) | C28: ='FULL Special Ability List'!C62 -> "Counterattack" | D28: ='FULL Special Ability List'!D62 -> If a batter failed to record a hit in their previous at-bat and is facing the same pitcher... Contact: +10 Power: +5 | E28: ='FULL Special Ability List'!E62 -> 前の打席で抑えられた投手が相手のとき、ミート+10、パワー+5 | F28: ='FULL Special Ability List'!F62 | G28: ='FULL Special Ability List'!G62 -> 前の打席で抑えられていると、次の打席で打力がすごく上がる
A29: 恐怖の満塁男 Gold 満塁男 (Bases Loaded Slugger) | B29: ='FULL Special Ability List'!B63 -> きょうふのまんるいおとこ (kyōfu-no-manrui otoko) | C29: ='FULL Special Ability List'!C63 -> Literally: "Dreaded Bases Loaded Man" Localization: "Bases Loaded King" | D29: ='FULL Special Ability List'!D63 -> With bases loaded... Contact: +20 Power: +20 | E29: ='FULL Special Ability List'!E63 -> 満塁のとき、ミート+20、パワー+20 | F29: ='FULL Special Ability List'!F63 -> "Slammer" | G29: ='FULL Special Ability List'!G63 -> 満塁のチャンスで打力がものすごく上がる
A30: 切り込み隊長 Gold チャンスメーカー (Chance Maker) | B30: ='FULL Special Ability List'!B64 -> きりこみたいちょう (kirikomi taichō) | C30: ='FULL Special Ability List'!C64 -> Literally: "Shock Troop Commander" Localization: "Table Setter" | D30: ='FULL Special Ability List'!D64 -> With bases empty... Contact: +15 Power: +10 | E30: ='FULL Special Ability List'!E64 -> 走者がいないとき、ミート+15、パワー+10 | F30: ='FULL Special Ability List'!F64 -> "Builder" | G30: ='FULL Special Ability List'!G64 -> チャンスを作るのがものすごくうまい
A31: 芸術的流し打ち Gold 流し打ち (Push Hitter) | B31: ='FULL Special Ability List'!B65 -> げいじゅつてきながしうち (geijutsuteki nagashiuchi) | C31: ='FULL Special Ability List'!C65 -> Literally: "Artistically Hitting to the Opposite Field" Localization: "Pushy" | D31: ='FULL Special Ability List'!D65 -> Greatly raises the chance of making solid contact to the opposite field while also greatly lowering the chance of pushing a ball foul | E31: ='FULL Special Ability List'!E65 -> ミートで流し打ちをしたとき、打球がヒットになりやすい | F31: ='FULL Special Ability List'!F65 | G31: ='FULL Special Ability List'!G65 -> 流し打ちがものすごくうまくなる
A32: 広角砲 Gold 広角打法 (Spray Hitter) | B32: ='FULL Special Ability List'!B66 -> こうかくほう (kokaku hō) | C32: ='FULL Special Ability List'!C66 -> Literally: "Wide Angle Cannon" Localization: "Sprinkler" | D32: ='FULL Special Ability List'!D66 -> Can hit with power to the opposite field with extreme efficiency *Cannot be paired with Dead Pull (引っ張り屋) or Pull Hitter (プルヒッター) abilities | E32: ='FULL Special Ability List'!E66 -> 流し方向にものすごい強い打球が打てるようになる。プルヒッター、引っ張り屋とは一緒につけられない | F32: ='FULL Special Ability List'!F66 | G32: ='FULL Special Ability List'!G66 -> 流し方向にものすごい強い打球が打てるようになる。プルヒッター、引っ張り屋とは一緒につけられない
A33: 高球必打 Gold ハイボールヒッター (High Ball Hitter) | B33: ='FULL Special Ability List'!B67 -> こうきゅうひつだ (kōkyū hitsuda) | C33: Literally: "High Ball Certain Hit" Localization: "7 and 7" | D33: ='FULL Special Ability List'!D67 -> Making solid contact on pitches high in the zone becomes much easier *Cannot be paired with ローボールヒッター (Lowball Hitter) or 低球必打 (Old Fashioned) | E33: ='FULL Special Ability List'!E67 -> 高めのボールを打つのがすごく得意になる。ローボールヒッター、低球必打、とは一緒につけられない | F33: ='FULL Special Ability List'!F67 | G33: ='FULL Special Ability List'!G67 -> 高めのボールを打つのがすごく得意になる。ローボールヒッター、低球必打、とは一緒につけられない
A34: 高速ベースラン Gold 走塁 (Baserunning) | B34: ='FULL Special Ability List'!B68 -> こうそくべーすらん (kōsoku bēsuran) | C34: ='FULL Special Ability List'!C68 -> "Express Baserunning" | D34: ='FULL Special Ability List'!D68 -> When running the bases, top run speed is completely maintained. Also prevents head-first sliding into third base *Does not impact run speed when stealing bases | E34: ='FULL Special Ability List'!E68 -> 走塁時（盗塁は除く）の走力が大きく上がり、三塁到達時にヘッドスライディングをしない | F34: ='FULL Special Ability List'!F68 -> "Hustle" | G34: ='FULL Special Ability List'!G68 -> 走塁がものすごくうまい
A35: 高速レーザー Gold レーザービーム (Laser Beam) | B35: ='FULL Special Ability List'!B69 -> こうそくれーざー (kōsoku rēzā) | C35: ='FULL Special Ability List'!C69 -> "High-Speed Laser" | D35: ='FULL Special Ability List'!D69 -> The speed of an outfielder's throw back into the infield will be increased greatly and its trajectory low | E35: ='FULL Special Ability List'!E69 -> 外野守備時に、軌道が低く非常に速い送球をする | F35: ='FULL Special Ability List'!F69 | G35: ='FULL Special Ability List'!G69 -> 矢のような鋭い送球ができるようになる
A36: 渾身の決勝打 Gold 決勝打 (GWRBI) | B36: ='FULL Special Ability List'!B71 -> こんしんのけっしょうだ (konshin-no-kesshōda) | C36: ='FULL Special Ability List'!C71 -> Literally: "Putting All of One's Body into the Deciding Hit" Localization: "Late Night Hero" | D36: ='FULL Special Ability List'!D71 -> While batting after the 6th inning... if there is a runner on base that can score the go-ahead run... Contact: +12 | E36: ='FULL Special Ability List'!E71 -> 同点または負けているときの6回以降、塁上の走者が精悍すれば勝ち越しの場面でミート+12 | F36: ='FULL Special Ability List'!F71 | G36: ='FULL Special Ability List'!G71 -> 6回以降で勝ち越しのランナーがいると打力がすごく上がる
A37: 左腕キーラー Gold 対左投手 (vs. Lefty Pitcher) | B37: ='FULL Special Ability List'!B72 -> さわんきーらー (sawan kīrā) | C37: ='FULL Special Ability List'!C72 -> "Lefty Killer" | D37: ='FULL Special Ability List'!D72 -> When facing a left-handed pitcher... Contact: +20 Power: +15 | E37: ='FULL Special Ability List'!E72 -> 左投手が相手のとき、ミート+20、パワー+15 | F37: ='FULL Special Ability List'!F72 | G37: ='FULL Special Ability List'!G72 -> 左投手にものすごく強くなる
A38: 重戦車 Gold ホーム突入 ([Storming Home]) | B38: ='FULL Special Ability List'!B73 -> じゅうせんしゃ (jūsensha) | C38: ='FULL Special Ability List'!C73 -> "Heavy Tank" | D38: ='FULL Special Ability List'!D73 -> When running home... slide hard to try and make the catcher drop the ball | E38: ='FULL Special Ability List'!E73 -> 本塁への激しいスライディングで捕手の捕球ミスを狙う | F38: ='FULL Special Ability List'!F73 -> "Tanker" | G38: ='FULL Special Ability List'!G73 -> 本塁への激しいスライディングで捕手の捕球ミスを狙う
A39: 勝負師 Gold チャンス (Clutch) | B39: ='FULL Special Ability List'!B74 -> しょうぶし (shōbushi) | C39: ='FULL Special Ability List'!C74 -> "Gambler" | D39: ='FULL Special Ability List'!D74 -> While batting with runners in scoring position... Contact: +20 Power: +15 | E39: ='FULL Special Ability List'!E74 -> 得点圏に走者がいるとき、ミート+20、パワー+15 | F39: ='FULL Special Ability List'!F74 -> "Gambler" | G39: ='FULL Special Ability List'!G74 -> チャンスのときにものすごく打力が上がる
A40: ストライク送球 Gold 送球 (Throwing) | B40: ='FULL Special Ability List'!B75 -> すとらいくそうきゅう (sutoraiku sōkyū) | C40: ='FULL Special Ability List'!C75 -> "Strike Thrower" | D40: ='FULL Special Ability List'!D75 -> Throw the ball with extreme accuracy | E40: ='FULL Special Ability List'!E75 -> 送球がすごくそれにくくなる | F40: ='FULL Special Ability List'!F75 -> "Bullseye" | G40: ='FULL Special Ability List'!G75 -> 送球がすごくそれにくくなる
A41: 精神的支柱 Gold ムード◯ (Mood) | B41: ='FULL Special Ability List'!B76 -> せいしんてきしちゅう (seishinteki shichū) | C41: ='FULL Special Ability List'!C76 -> "Emotional Pillar" | D41: ='FULL Special Ability List'!D76 -> When in the lineup or on the bench... Team's Pitchers: +10 Control Team's Batters: +10 Contact, +5 Power | E41: ='FULL Special Ability List'!E76 -> 味方投手のコントロール+10、味方打者のミート+10、パワー+5 | F41: ='FULL Special Ability List'!F76 -> "Leader" | G41: ='FULL Special Ability List'!G76 -> 試合に出場するとチームメイト全員の能力がものすごく上がる
A42: 代打の神様 Gold 代打 (Pinch Hitter) | B42: ='FULL Special Ability List'!B80 -> だいだのかみさま (daida-no-kamisama) | C42: ='FULL Special Ability List'!C80 -> "God of Pinch Hitting" | D42: ='FULL Special Ability List'!D80 -> When pinch hitting... Contact: +25 Power: +20 | E42: ='FULL Special Ability List'!E80 -> 代打として打席に立ったとき、ミート+25、パワー+21 | F42: ='FULL Special Ability List'!F80 | G42: ='FULL Special Ability List'!G80 -> 代打のときに打力がものすごく上がる
A43: 低球必打 Gold ローボールヒッター (Low Ball Hitter) | B43: ='FULL Special Ability List'!B82 -> ていきゅうひつだ (teikyū hitsuda) | C43: Literally: "Low Ball Certain Hit" Localization: "Old Fashioned" | D43: ='FULL Special Ability List'!D82 -> Making solid contact on pitches on the lower edge of the zone becomes much easier *Cannot be paired with ハイボールヒッター (High Ball Hitter) or 高球必打 (7 and 7) | E43: ='FULL Special Ability List'!E82 -> 低めのボールを打つのがすごく得意になる。ハイボールヒッター、高球必打とは一緒につけられない | F43: ='FULL Special Ability List'!F82 | G43: ='FULL Special Ability List'!G82 -> 低めのボールを打つのがすごく得意になる。ハイボールヒッター、高球必打とは一緒につけられない
A44: 鉄人 Gold ケガしにくさ (Durability) | B44: ='FULL Special Ability List'!B83 -> てつじん (tetsujin) | C44: ='FULL Special Ability List'!C83 -> "Iron Man" | D44: ='FULL Special Ability List'!D83 -> Almost impossible to get injured [Pennant / MyLife Ability] | E44: ='FULL Special Ability List'!E83 -> ものすごくケガをしにくくなる | F44: ='FULL Special Ability List'!F83 | G44: ='FULL Special Ability List'!G83 -> ものすごくケガをしにくくなる
A45: 電光石火 Gold 盗塁 (Stealing) | B45: ='FULL Special Ability List'!B84 -> でんこうせっか (denkōsekka) | C45: ='FULL Special Ability List'!C84 -> "Lightning Speed" | D45: ='FULL Special Ability List'!D84 -> Run speed while stealing bases is greatly increased and while on base... Pitcher Control: -10 Stamina Consumption Increased | E45: ='FULL Special Ability List'!E84 -> 盗塁時の走力が大きく上がる。また塁上が一塁または一・三塁の状況で一塁走者のとき、相手投手のコントロール-10、スタミナ消費量増 | F45: ='FULL Special Ability List'!F84 | G45: ='FULL Special Ability List'!G84 -> 盗塁がものすごくうまくなってピッチャーに動揺を与える
A46: 伝説のサヨナラ男 Gold サヨナラ男 (Walkoff Hitter) | B46: ='FULL Special Ability List'!B85 -> でんせつのさよならおとこ (densetsu-no-sayonaru otoko) | C46: ='FULL Special Ability List'!C85 -> Literally: "Sayonara Man of Legend" Localization: "Legendary Walkoff Hitter" | D46: ='FULL Special Ability List'!D85 -> When in a walkoff situation... Contact: +20 Power: +20 | E46: ='FULL Special Ability List'!E85 -> サヨナラ勝利になる場面でミート+20、パワー+20 | F46: ='FULL Special Ability List'!F85 -> "Legend" | G46: ='FULL Special Ability List'!G85 -> サヨナラの場面で打力がものすごく上がる
A47: トリックスター Gold かく乱 (Disturbance) | B47: ='FULL Special Ability List'!B86 -> とりっくすたー (torikkusutā) | C47: ='FULL Special Ability List'!C86 -> "Trickster" | D47: ='FULL Special Ability List'!D86 -> When on base, put an extreme amount of pressure on the opposing pitcher and infielders Pitcher Stamina Consumption Increased Infield Defense Decreased *Can stack if more than one player with this ability is on base AND also cause the pitcher's control and breaking ball levels to decrease | E47: ='FULL Special Ability List'!E86 -> 出塁時、相手投手のスタミナ消費量が上がり、内野の守備力が下がる（塁上にこの能力を持つ走者が増えると効果が高まり、投手のコントロールと変化量も低下） | F47: ='FULL Special Ability List'!F86 -> "Joker" | G47: ='FULL Special Ability List'!G86 -> 出塁するとピッチャーにプレッシャーをものすごく与える
A48: 内角必打 Gold インコースヒッター (Inside Hitter) | B48: ='FULL Special Ability List'!B87 -> ないかくひつだ (naikaku hitsuda) | C48: ='FULL Special Ability List'!C87 -> Literally: "Inside Corner Certain Hit" Localization: "Inner Artist" | D48: ='FULL Special Ability List'!D87 -> Making solid contact on pitches on the inner edge of the zone becomes much easier *Cannot be paired with アウトコースヒッター (Outside Hitter) or 外角必打 (Art Brut) | E48: ='FULL Special Ability List'!E87 -> インコースのボールを打つのがすごく得意になる。アウトコースヒッター、外角必打とは一緒につけられない | F48: ='FULL Special Ability List'!F87 | G48: ='FULL Special Ability List'!G87 -> インコースのボールを打つのがすごく得意になる。アウトコースヒッター、外角必打とは一緒につけられない
...

Sheet OB-Exclusive Special Abilities
A1: パワフルプロ野球2024-2025 OB-Exclusive Special Ability List (Translated to English by tweav) Presented in Japanese Syllabary Order (五十音順) Ability Descriptions / Numerical Data from: game8 OB Ability Information from: seesaawiki
H2: Copy code: " = 'FULL Ability List'! [Cell letter/Number]"
A9: Ability Name (Japanese) | B9: Ability Name (Hiragana + Romaji) | C9: Ability Name (English) | D9: Description (English) | E9: Description (Japanese) | F9: WBSC English Translation | G9: In-Game Description (Japanese)
A11: Pitcher Gold Abilities
A13: 神の子 OB: Masahiro Tanaka [田中将大], Rakuten Eagles Gold Equivalent: 勝利の星 (Lucky Star) | B13: かみのこ (kami no ko) | C13: Literally: "Child of God" or "Prodigy" Colloquially: Self-explanatory, perhaps. Tanaka is a pitching prodigy from an early age - striking out an astounding 458 batters in his high school career (the current all-time record), with 35 wins and 3 losses in 57 games pitched (over 329.2 innings) and an ERA of 1.31. He also hit 13 homeruns... Localization: "Kami-no-ko" | D13: When actively pitching, Tanaka's team's lineup will benefit from both +5 Contact and +5 Power | E13: 登板中、味方打者のミート+5、パワー+5 | F13: ='FULL Special Ability List'!F16 -> N/A | G13: ='FULL Special Ability List'!G16 -> 登板するとぐっと勝ちを呼び込む
A14: ケンカ投法 OB: Osamu Higashio [東尾修], [Seibu Lions] Gold Equivalent: 内角無双 (Painter) | B14: けんかとうほう (kenka tōhō) | C14: Literally: "Brawling Pitching Style" Colloquially: Osamu Higashio is the NPB's all-time leader in HBP. He was known for his aggressive style of pitching to the inside corner and his headstrong personality. Localization: "Kenka Tōhō" | D14: Osamu Higashio's control on the inner edge of the plate is elite. How he chooses to use that elite control, however... | E14: 内角への投球時、コントロールが良くなり球威も大きく上がる | F14: ='FULL Special Ability List'!F23 -> N/A | G14: ='FULL Special Ability List'!G23 -> 内角に投げたときにコントロールがすごく良くなる
A15: 草魂 OB: Keishi Suzuki [鈴木啓示], Kintetsu Buffaloes Gold Equivalent: 不屈の魂 (Indomitable Soul) | B15: そうこん (sōkon) | C15: Literally: "Grass Soul" Colloquially: This is Keishi Suzuki's motto and a phrase he is widely known for. It is derived from the word 「雑草魂」(zassōdamashi), meaning "The tenacity (or stubborness) of weeds." In other words, this is a phrase to represent Suzuki's unflappable sensibilty Localization: "Sōkon" | D15: Keishi Suzuki will not be rattled | E15: 動揺状態にほとんどならない | F15: ='FULL Special Ability List'!F28 -> N/A | G15: ='FULL Special Ability List'!G28 -> 打ちこまれてもすごく動揺しにくい
A17: Fielder Gold Abilities
A19: 牛若丸 OB: Yoshio Yoshida [吉田義男], Hanshin Tigers Gold Equivalent: 魔術師 (Magician) | B19: うしわかまる (ushiwakamaru) | C19: Literally: "Young, Round Cow (or Bull)" Colloquially: Ushiwakamaru was the birth name of one of Japan's most famous samurai: Minamoto no Yoshitsune, a man enshrouded in legend and myth. Yoshio Yoshida was granted the nickname for his prodigious defensive work at shortstop and obsession with perfecting the craft. Localization: "Ushiwakamaru" | D19: Yoshio Yoshida's range at shortstop is nothing short of legendary now almost 60 years from his final playing days. Swift of foot and quick of hand, nothing hit to the left side of the infield will get by him | E19: 守備時に送球速度と背走速度が上がり、動き出しも早くなる | F19: ='FULL Special Ability List'!F56 -> N/A | G19: ='FULL Special Ability List'!G56 -> 魔術的な守備をみせる
A20: 小坂ゾーン OB: Makoto Kosaka [小坂誠], Chiba Lotte Marines Gold Equivalent: 魔術師 (Magician) | B20: こさかぞーん (kosaka zōn) | C20: Literally: "Kosaka Zone" Colloquially: Makoto Kosaka is a shortstop par excellence. He is the all time leader for the Chiba Lotte Marines in defensive win shares, and led the NPB in range factor for 7 consecutive years starting from 1997. From 1998 - 2003, he had a range factor over 5 Localization: "Kosaka Zone" | D20: Makoto Kosaka's speed combined with his incredible range at short will stop anything hit in his direction | E20: 守備時に送球速度と背走速度が上がり、動き出しも早くなる | F20: ='FULL Special Ability List'!F70 -> N/A | G20: ='FULL Special Ability List'!G70 -> 魔術的な守備をみせる
A21: 世界の王 OB: Sadaharu Oh [王貞治], Yomiuri Giants Gold Equivalent: アーチスト (Artist) | B21: せかいのおう (sekai-no-ō) | C21: Literally: "King of the World" Colloquially: Sadaharu Oh. The world's leader in career homeruns at an astounding 868. Not to be overshadowed by that record are the rest of his counting and rate stats... Over 22 years and 11,866, Oh finished his career with a triple slash of .301/.446/.634 with 2,786 hits (422 of which were doubles), 2,390 walks to just 1,319 stikeouts (a 1.81 BB/K ratio) and an incredible 5,862 total bases (which would put him sixth all-time behind Barry Bonds and ahead of Ty Cobb, for an MLB comparison). Localization: "Sekai-no-Oh" | D21: Sadaharu Oh (王) is the King (王), literally! Expect trouble when he steps up to the plate | E21: 強振して打つと、ホームラン性の打球がかなり出やすくなる。ラインドライブとは一緒につけられない | F21: ='FULL Special Ability List'!F77 -> N/A | G21: ='FULL Special Ability List'!G77 -> ホームラン性の打球がとても出やすい
A22: 世界の代打王 OB: Yaushiro Takai [高井保弘], Hankyū Braves Gold Equivalent: 代打の神様 (God of Pinch Hitting) | B22: せかいのだいだおう (sekai-no-daida ō) | C22: Localization: "Pinch Hitting King of the World" Colloquially: Primarily used as a bench bat for the Hankyū Braves, Yasuhiro Takai holds the pinch-hit homerun world record (27) to this day. Localization: "Sekai-no-Daida Ō" | D22: Pitcher's take note when Yasuhiro Takai steps into the on-deck circle. When Takai enters the game as a pinch hitter, he receives... Contact: +25 Power: +20 | E22: 代打として打席に立ったとき、ミート+25、パワー+20 | F22: ='FULL Special Ability List'!F78 -> N/A | G22: ='FULL Special Ability List'!G78 -> 代打のときに打力がすごく上がる
A23: 世界の盗塁王 OB: Yutaka Fukumoto [福本豊], Hankyū Braves Gold Equivalent: 電光石火 (Lightning Speed) | B23: せかいのとうるいおう (sekai-no-tōrui ō) | C23: Literally: "Stolen Base King of the World" Colloquially: Yutaka Fukumoto is Japan's all-time leader in stolen bases, swiping 1,065 over his 20 year career with the Hankyū Braves. In addition to this - he holds the single season record at 106 stolen bases (set in 1972). He wasn't just a threat on the basepaths, however, as he also holds the Japanese record for leadoff homeruns at 41 and retired with a career .291/.380/.440 triple slash across 10,130 plate appearances. Also - he's a YouTuber. Localization: "Sekai-no-Tōrui Ō" | D23: Yutaka Fukumoto is Japan's King of Stolen Bases. Worldwide, his 1,065 career bases stolen sit behind only one other person - Rickey Henderson. Regardless where he is on the basepaths... expect him to end up on third When Fukumoto is on base... Pitcher Control: -10 Stamina Consumption Increased | E23: 盗塁時の走力が大きく上がる。また塁上が一塁または一・三塁の状況で一塁走者のとき、相手投手のコントロール-10、スタミナ消費量増 | F23: ='FULL Special Ability List'!F79 -> N/A | G23: ='FULL Special Ability List'!G79 -> 盗塁がものすごくうまく、投手に動揺を与える
A24: 打撃の神様 OB: Tetsuharu Kawakami [川上哲治], Yomiuri Giants Gold Equivalent: 安打製造機 (Hit Machine) | B24: だげきのかみさま (dageki-no-kamisama) | C24: Literally: "God of Batting" Colloquially: Dubbed the "God of Batting" in his youth, Tetsuharu Kawakmi lived up to expectations by becoming the first player in NPB history to reach 2,000 hits. He was known for his power to all fields (dubbed "Bullet Liners" [弾丸ライナー]). Later in his career, he was known for his "Texas Leaguer" hits (soft fly balls that land in between the infelders and outfielders) due to a bad hip that sapped his power. He holds the NPB's second highest career batting average all time at .314 behind only Isao Harimoto's .319. Localization: "Dageki-no-Kamisama" | D24: It's best to assume a hit is en-route when Tetsuharu Kawakami steps up to the plate | E24: ミート打ちのとき、ヒット性の打球がかなり出やすくなる。 | F24: ='FULL Special Ability List'!F81 -> N/A | G24: ='FULL Special Ability List'!G81 -> ヒット性の打球がとても出やすい
A25: 忍者 OB: Ryosuke Kikuchi [菊池涼介], Hiroshima Carp Gold Equivalent: 魔術師 (Magician) | B25: にんじゃ (ninja) | C25: Literally: "A Person Trained in Ninjutsu" (in other words... a Ninja) Colloquially: Ryosuke Kikuchi, still an active player at the time of writing (July 2024), is something of a wizard in the field. Or perhaps, it should be said he's a ninja. He holds the single season NPB record for assists at second base with 535 and had 569 consecutive opportunities without an error (also an NPB record). He won 10 consecutive gold gloves from 2013 - 2022. Though he is in the twilight of his career, his accolades as Hiroshima's second baseman are second-to-none Localization: "Ninja" | D25: With a range so impressive it's almost as he teleports to the ball, anything hit in the area of Ryosuke Kikuchi will be dealt with with ease | E25: 守備時に送球速度と背走速度が上がり、動き出しも早くなる | F25: ='FULL Special Ability List'!F88 -> N/A | G25: ='FULL Special Ability List'!G88 -> 魔術的な守備をみせる
A27: Pitcher Special Abilities
A29: 雑草魂 OB: Koji Uehara [上原浩治], Yomiuri Giants Equivalent: 打たれ強さ (Poise) | B29: ざっそうだましい (zassoudamashii) | C29: Literally: "The Tenacity of Weeds" Colloquially: Like Keichi Suzuki before him, Koji Uehara's favorite saying was 雑草魂 ("the tenacity of weeds"). Though he has since risen to greatness both in Japan and the United States, Uehara initially was a complete unknown as a player with aspirations of becoming a PE teacher. He failed the entrance exam. But even so, he continued on and eventually was admitted to Osaka University of Health and Sciences, where he joined the baseball team as a bit of a side activity. Through all his stuggles, he never gave up and continued to grow and develop. Just as a weed will sprout no matter what stands in its way, Uehara became a star despite the hardships. And now - he's a YouTuber. Localization: "Zassoudamashii" | D29: Despite it all, Koji Uehara shall not be rattled *...He has a B in this | E29: 打たれたときに動揺しにくいかどうか、A~Gまでの7段階ある。 | F29: ='FULL Special Ability List'!F108 -> N/A | G29: ='FULL Special Ability List'!G108 -> 打たれると動揺しにくいか
A30: 大魔神 OB: Kazuhiro Sasaki [佐々木主浩], Yokohama BayStars Equivalent: 威圧感 (Intimidator) | B30: だいまじん (daimajin) | C30: Litrally: "Great Evil God" Colloquially: Like a devil was Kazuhiro Sasaki to opposing lineups. So much so, that in 1994, a reporter following the Yomiuri Giants declared him to be as such 「悪魔の守護神」Couple that with his supposed resemblence to Daiei's kaiju - Daimajin - and a nickname befitting the demon was born. Localization: "Daimajin" | D30: When Sasaki enters the game, opposing lineups quiver in fear... Opposing batters when facing Sasaki as a closer: Contact: -20 Power: -20 | E30: 2番手以降で登板時、相手打者のミート-20、パワー-20 | F30: ='FULL Special Ability List'!F112 -> N/A | G30: ='FULL Special Ability List'!G112 -> 打者に威圧感を与える
