Workbook

Sheet FULL Special Ability List
A1: パワフルプロ野球2024-2025 FULL Special Ability List (Translated to English by tweav) Presented in Japanese Syllabary Order (五十音順) Ability Descriptions / Numerical Data from: game8 OB Ability Information from: seesaawiki WBSC Localizations from: Zumikaku
H2: Copy code: " = 'FULL Ability List'! [Cell letter/Number]"
A9: Ability Name (Japanese) | B9: Ability Name (Hiragana + Romaji) | C9: Ability Name (English) | D9: Description (English) | E9: Description (Japanese) | F9: WBSC English Localization | G9: In-Game Description (Japanese)
A11: Pitcher Gold Abilities
A13: 暴れ球 Gold 荒れ球 (Wild Fastball) | B13: あばれきゅう (abare kyū) | C13: Literally: "Violent Ball" Localization: "Explosive Fastball" | D13: Fastball speed, power, and break is greatly increased at the cost of control Control: - ~20 when throwing a Fastball | E13: ストレートを投げたとき、よりノビが良くなるが、ブレやすくなる | G13: 制球がさだまらないが、威力のあるストレートが投げられる
A14: 怪童 Gold ノビ (Fastball Spin Rate) | B14: かいどう (kaidō) | C14: Literally: "Unusually Large/Strong Child" Localization: "Ozaki Fastball" Ozaki Yukio | D14: Perceived speed on a pitcher's fastball will be greatly increased | E14: ストレートが球速よりも大幅に速く見える | F14: "Bullet" | G14: ストレートのノビがものすごく良くなる
A15: 怪物球威 Gold 重い球 (Heavy Ball) | B15: かいぶつきゅうい (kaibutsu kyūi) | C15: Literally: "Monster Stuff" Localization: "Anchored" | D15: Batted balls are extremely unlikely to fly | E15: 球質が非常に重くなり、打たれたときの打球が飛びにくくなる | F15: "Leadball" | G15: 球質が非常に重くなり、打たれたときの打球が飛びにくくなる
A16: 神の子 OB: Masahiro Tanaka [田中将大], Rakuten Eagles Gold Equivalent: 勝利の星 (Lucky Star) | B16: かみのこ (kami no ko) | C16: Literally: "Child of God" or "Prodigy" Colloquially: Self-explanatory, perhaps. Tanaka is a pitching prodigy from an early age - striking out an astounding 458 batters in his high school career (the current all-time record), with 35 wins and 3 losses in 57 games pitched (over 329.2 innings) and an ERA of 1.31. He also hit 13 homeruns... Localization: "Kami-no-ko" | D16: When actively pitching, Tanaka's team's lineup will benefit from both +5 Contact and +5 Power | E16: 登板中、味方打者のミート+5、パワー+5 | F16: N/A | G16: 登板するとぐっと勝ちを呼び込む
A17: ガソリンタンク Gold 回復 (Recovery) | B17: がそりんたんく (gasorin tanku) | C17: "Gas Tank" | D17: After pitching, stamina is very quickly recovered [Pennant / MyLife Ability] | E17: 登板後のスタミナ回復が非常に早い | F17: "Dynamo" | G17: 疲れがとても早くとれるようになる
A18: 完全燃焼 Gold 全開 (Full Throttle) | B18: かんぜんねんしょ (kanzen nensho) | C18: Literally: "Perfect Combustion" Colloquially: "Giving One's All" / "Using All of One's Ability" Localization: "Unfettered" | D18: If the pitcher still has at least 1/3 of their stamina and there are RISP... pitches will be much heavier and ノビ ("nobi" [pitch tunneling]) will be much improved, however... stamina consumption will be increased | E18: 得点圏に走者がいてスタミナ残量約1/3以上のとき、より球質が重く、ノビがよくなりスタミナ消費量が増える | G18: ピンチでスタミナ消費がすごく増えるが、能力もすごく上がる
A19: ギアチェンジ Gold 力配分 (Strength Distribution) | B19: ぎあちぇんじ (gia chenji) | C19: "Gear Change" | D19: When a starting pitcher has reached the 5th inning... and the score is tied or their team has a maximum of a 3 run lead... and there are runners on base... Top Speed: +1 km/h Control: +10 Breaking Ball Levels: +1 | E19: 先発時の5回以降、リードが3点以内または同点で走者がいるとき、球速+1km/h、コントロール+10、変化球が打者の近くで変化するようになる | G19: 特定の場面で強打者と対戦するとき先発投手の能力が上がる
A20: 驚異の切れ味 Gold キレ (Sharpness) | B20: きょういのきれあじ (kyōi no kireaji) | C20: "Miracle Sharpness" | D20: Breaking pitches break extremely late | E20: 変化球の曲がり始めが極端に遅くなり、より打者の近くで変化する | F20: "Carver" | G20: 変化球のキレがものすごく良くなる
A21: 強心臓 Gold 対ピンチ (vs. RISP) | B21: きょうしんぞう (kyō shinzō) | C21: "Sangfroid" | D21: With runners in scoring position... Top Speed: +2 km/h Breaking Ball Levels: +3 | E21: 得点圏に走者がいるとき、球速+2km/h、変化量+3 | F21: "Resolve" | G21: 得点圏にランナーがいるとものすごく能力が上がる
A22: クロスキャノン Gold クロスファイヤー(Crossfire) | B22: くろすきゃのん (kurosu kyanon) | C22: "Cross Cannon" | D22: Pitch speed will appear much faster when throwing inside to an opposite-handed batter (ie right-handed pitcher throwing to a left-handed batter) | E22: 対角線となるコースに投げたとき、球速よりも速く見える | G22: 対角線のコースに投球したときに能力がすごく上がる
A23: ケンカ投法 OB: Osamu Higashio [東尾修], [Seibu Lions] Gold Equivalent: 内角無双 (Painter) | B23: けんかとうほう (kenka tōhō) | C23: Literally: "Brawling Pitching Style" Colloquially: Osamu Higashio is the NPB's all-time leader in HBP. He was known for his aggressive style of pitching to the inside corner and his headstrong personality. Localization: "Kenka Tōhō" | D23: Osamu Higashio's control on the inner edge of the plate is elite. How he chooses to use that elite control, however... | E23: 内角への投球時、コントロールが良くなり球威も大きく上がる | F23: N/A | G23: 内角に投げたときにコントロールがすごく良くなる
A24: 終盤力 Gold 尻上がり (Strong Finisher) | B24: しゅうばんりょく (shuban ryoku) | C24: Literally: "Endgame Strength" Localization: "Wizard Mode" | D24: When a starting pitcher has reached the 5th(?) inning... and their team is either winning or losing by fewer than 3 runs... Top Speed: +4 km/h Control: +10 Breaking Ball Levels: +2 | E24: 先発時に勝っているか3点差以内で負けているとき、球速+4km/h、コントロール+10、変化量+2 | G24: 試合後半からすごく調子が良くなる
A25: 主砲キラー Gold 対強打者 (vs. Strong Batter) | B25: しゅぼうきらー (shubō kirā) | C25: Literally: "Main Gun Killer" Localization: "Slugger Killer" | D25: When facing a batter with Contact at or above B and/or Power at or above A... Top Speed: +3 km/h Breaking Ball Levels: +1 キレ: +1 | E25: ミートB以上かパワーA以上の打者が相手のとき、球速+3km/h、変化量+1km/h、さらに変化球が打者の近くで変化するようになる | G25: 強打者と対戦するときに能力がものすごく上がる
A26: 勝利の星 Gold 勝ち運 (Winner's Luck) | B26: しょうりのほし (shori-no-hoshi) | C26: "Lucky Star" | D26: When actively pitching, the pitcher's team's lineup will benefit from both +5 Contact and +5 Power | E26: 登板中、味方打者のミート+5、パワー+5 | F26: "Charm" | G26: 登板するとチームに勝ちをものすごく呼び込みやすくなる
A27: 精密機械 Gold 低め (Low Ball) | B27: せいみつきかい (seimitsu kikai) | C27: "Precision Instrument" | D27: Control of pitches low in the zone is greatly improved | E27: ストライクゾーン低めへのコントロールが非常に良くなる。 | F27: "Engineer" | G27: 低めのコースのコントロールがものすごく良くなる
A28: 草魂 OB: Keishi Suzuki [鈴木啓示], Kintetsu Buffaloes Gold Equivalent: 不屈の魂 (Indomitable Soul) | B28: そうこん (sōkon) | C28: Literally: "Grass Soul" Colloquially: This is Keishi Suzuki's motto and a phrase he is widely known for. It is derived from the word 「雑草魂」(zassōdamashi), meaning "The tenacity (or stubborness) of weeds." In other words, this is a phrase to represent Suzuki's unflappable sensibilty Localization: "Sōkon" | D28: Keishi Suzuki will not be rattled | E28: 動揺状態にほとんどならない | F28: N/A | G28: 打ちこまれてもすごく動揺しにくい
A29: 走者釘付 Gold クイック (Quickness) | B29: そうしゃくぎづけ (sōsha kugidzuke) | C29: Literally: "Freezing Baserunners" or "Nailing Down Baserunners" Localization: "Halting Quickness" | D29: Delivery while pitching out of the stretch is dramatically increased, hampering stolen base attempts | E29: 投球モーションがより速くなる | G29: クイックがものすごくうまく、盗塁がされにくい
A30: 超投打躍動 Gold 投打躍動 (Kageura) | B30: ちょうとうだやくどう (chō tōda yakudō) | C30: Literally: "Ultra Lively Pitching and Batting" Localization: "Showtime" | D30: When pitching, if the pitcher has let up fewer than 2 runs, their Contact and Power will increase greatly and... When batting, if the batter has at least one hit, their Control and Breaking Ball Levels will increase greatly | E30: 投手で出場して2失点以下だとミートとパワーが大きく上がり、1安打以上だとコントロールと変化量が大きく上がる | G30: 好投しているほど打撃に、ヒットを打つほど投球にかなりの好影響を及ぼす
A31: ディレイドアーム Gold 球持ち◯ (Tunneling) | B31: でぃれいどあーむ (direido āmu) | C31: Literally: "Delayed Arm" Localization: "Seikan Tunneling" | D31: Pitch location indicator will appear much later and smaller | E31: 投球時の球持ちがより長くなり、打者からは腕の振りが見えづらく、打ちにくい | G31: バッターから腕の振りが見えづらくなる
A32: 鉄腕 Gold 調子安定 (Stable Condition) | B32: てつわん (tetsuwan) | C32: Literally: "Iron Arm" Localization: "Iron Will" | D32: Mood barely affects performance | E32: 調子による影響がほとんどない | F32: "Steeled" | G32: ピッチングが調子にすごく影響されにくい
A33: 闘魂 Gold 闘志 (Fighting Spirit) | B33: とうこん (tōkon) | C33: Literally: "Fighting Spirit" Localization: "Fighting Soul" | D33: If the pitcher still has stamina remaining... and their team is leading by 2 or fewer runs or losing by 2 or more runs... pitches will become much heavier and any batter's Intimidator (威圧感) special ability will not activate | E33: スタミナ切れ状態ではなく、リードが2点以内か負けていて自責点2以下の場合、球質が重くなり、動揺状態になりにくくなって打者の威圧感を無効化する | G33: 闘魂みなぎるピッチングをする
A34: ドクターK Gold 奪三振 (Strikeout) | B34: どくたーK (dokutā K) | C34: "Doctor K" | D34: When there are two stikes on the current batter... Top Speed: +4 km/h Breaking Ball Levels: +2 | E34: 2ストライクに追い込むと、球速+4km/h、変化量+2 | G34: 2ストライクに追い込んだときに能力がものすごくあがる。Kは奪三振のこと
A35: ド根性 Gold 根性 (Guts) | B35: どこんせい (do konsei) | C35: "Grit" | D35: Pitching ability will remain consistent, regardless of stamina level | E35: 先発したとき、スタミナ切れになっても能力の減少が早めに止まる | G35: スタミナが減っても疲れを見せずにド根性で投げる
A36: トップギア Gold 立ち上がり (Strong Starter) | B36: とっぷぎあ (toppu gia) | C36: Literally: "Top Gear" Localization: "Ace Opener" | D36: For the first two innings... Top Speed: +4 km/h Control: +13 Breaking Ball Levels: +2 | E36: 先発時の1~2回は球速+4km/h、コントロール+13、変化量+2 | G36: 試合序盤の立ち上がりがすごく良くなる
A37: 内角無双 Gold 内角攻め (Inside Pitch) | B37: ないかくむそう (naikaku musō) | C37: Literally: "Merciless Inside Pitch" Localization: "Painter" | D37: Control of inside pitches is greatly increased | E37: 内角への投球時、コントロールが良くなり球威も大きく上がる | G37: インコースに投げたときにコントロールがすごく良くなる
A38: ハイスピンジャイロ Gold ジャイロボール (Gyroball) | B38: はいすぴんじゃいろ (haisupin jairo) | C38: "High Spin Gyroball" | D38: Fastball greatly spins without horizontal movement and appears much faster than it truly is | E38: ストレートがジャイロ回転し、球速よりも非常に速く見える | G38: ストレートの回転軸が打者に向かって進み手元ですごく伸びるようになる
A39: 左キラー Gold 対左打者 (vs. Lefty Batter) | B39: ひだりきらー (hidari kirā) | C39: "Lefty Killer" | D39: When facing a left-handed batter... Top Speed: +3 km/h Control: +7 Stamina Consumption Increased | E39: 左打者が相手のとき、球速+3km/h、コントロール+7、スタミナ消費量増 | G39: 左打者にものすごく強くなる
A40: 不屈の魂 Gold 打たれ強さ (Poise) | B40: ふくつのたましい (fukutsu-no-tamashī) | C40: "Indomitable Soul" | D40: Pitcher is almost impossible to rattle | E40: 動揺状態にほとんどならない | F40: "Unshaken" | G40: 打ち込まれてもすごく動揺しにくくなる
A41: 変幻自在 Gold 緩急 (Pace) | B41: へんげんじざい (hengenjizai) | C41: "Phantasmagoric" | D41: Mixing fastballs and breaking pitches will both greatly increase the perceived speed of the fastballs and the perceived break of the breaking pitches | E41: 速い球のあとに遅い変化球、またはその逆で投球したとき、ストレートは球速よりもかなり速く見え、変化球は曲がり始めがかなり遅くなる | G41: ストレートと遅い変化球を組み合わせて投球すると能力がものすごく上がる
A42: 本塁打厳禁 Gold 逃げ球 (Escape Pitch) | B42: ほんるいだげんきん (honruida genkin) | C42: Literally: "Homeruns Strictly Forbidden" Localization: "Houdini" | D42: Becomes extremely unlikely (2.5% chance) for a mistake pitch to land in the middle of the strikezone | E42: 失投時にど真ん中にいく確率がかなり下がる | G42: ピッチャーのすっぽ抜けたボールがかなりど真ん中にいきにくくなる
A44: Catcher Exclusive Gold Abilities
A46: 球界の頭脳 Gold キャッチャー (Catcher) | B46: きゅうかいのずのう (kyūkai-no-zunō) | C46: Literally: "Understanding of the Baseball World" Localization: "The Almanac" | D46: When behind the plate... Pitcher's Contol: +15 Stamina Consumption Decreased and if the pithcer has a poor mood (blue/purple)... Top Speed: +2 km/h | E46: 味方投手のコントロール+15、消費スタミナ-11。味方投手が不調または絶不調の場合、球速+2km/h | G46: ピッチャーの能力をものすごくうまく引き出せる
A47: ささやき戦術 | B47: ささやきせんじゅつ (sasayaki senjutsu) | C47: Literally: "Whispeing Tactics" Localization: "Trash Talk" | D47: When the opposing team has runners in scoring position... active batter suffers from... Contact: -5 Power: -5 | E47: 捕手のときに得点圏に走者がいると、相手打者のミート-5、パワー-5 | F47: "Heckler" | G47: 打者にささやいてまどわす
A48: 鉄の壁 Gold ホーム死守 (Home Defense) | B48: てつのかべ (tetsu-no-kabe) | C48: "Iron Wall" | D48: The catcher shall not be moved *Significantly lowers the chances of ホーム突入 (Storming Home) and 重戦車 (Heavy Tank) abilities from activating | E48: 捕手のとき、本塁クロスプレイの際に走者の「ホーム突入」「重戦車」の発動確率をかなり下げる | G48: 確実なタッチでランナーの生還を阻止する
A49: バズーカ送球 | B49: ばずーかそうきゅう (bazūka sōkyū) | C49: Literally: "Bazooka Throw" Localizaiton: "Bazooka Arm" | D49: Catcher pop time is greatly decreased when throwing down to prevent a stolen base | E49: 盗塁阻止時の送球がものすごく鋭くなる | G49: 盗塁阻止時の送球がものすごく鋭くなる
A51: Fielder Gold Abilities
A53: アーチスト Gold パワーヒッター (Power Hitter) | B53: あーちすと (āchisuto) | C53: "Artist" | D53: Homeruns are much easier to come by when using a power swing *Cannot be paired with ラインドライブ (Line Drive) Ability | E53: 強振して打つと、ホームラン性の打球がかなり出やすくなる。ラインドライブとは一緒につけられない | F53: "Homer" | G53: ホームラン性の打球がとても出やすくなる。ラインドライブとは一緒につけられない
A54: 安打製造機 Gold アべレージヒッター (Contact Hitter) | B54: あんだせいぞうき (anda seizōki) | C54: "Hit Machine" | D54: Strong contact is much easier to come by when using a contact swing | E54: ミート打ちのとき、ヒット性の打球がかなり出やすくなる。 | F54: "Surgical" | G54: ヒット性の打球がとても出やすくなる
A55: 一球入魂 Gold 初球 (First Pitch Hitter) | B55: いっきゅうにゅうこん (ikkyū nyūkon) | C55: Literally: "Putting One's Heart and Soul into Each Pitch" Localization: "First Pitch King" | D55: Prior to the first taken strike... Contact: +15 Power: +15 | E55: 1ストライクを取られるまで、ミート+15、パワー+15 | F55: "Zealous" | G55: 初球にとても強くなる
A56: 牛若丸 OB: Yoshio Yoshida [吉田義男], Hanshin Tigers Gold Equivalent: 魔術師 (Magician) | B56: うしわかまる (ushiwakamaru) | C56: Literally: "Young, Round Cow (or Bull)" Colloquially: Ushiwakamaru was the birth name of one of Japan's most famous samurai: Minamoto no Yoshitsune, a man enshrouded in legend and myth. Yoshio Yoshida was granted the nickname for his prodigious defensive work at shortstop and obsession with perfecting the craft. Localization: "Ushiwakamaru" | D56: Yoshio Yoshida's range at shortstop is nothing short of legendary now almost 60 years from his final playing days. Swift of foot and quick of hand, nothing hit to the left side of the infield will get by him | E56: 守備時に送球速度と背走速度が上がり、動き出しも早くなる | F56: N/A | G56: 魔術的な守備をみせる
A57: エースキラー Gold 対エース (vs. Ace) | B57: えーすきらー (ēsu kirā) | C57: "Ace Killer" | D57: When facing an "Ace Level" pitcher... Contact: +15 Power: +15 | E57: エース級の投手との対戦時に、ミート+15、パワー+15 | G57: エース級のピッチャーと対戦したときに能力がすごく上がる
A58: 大番狂わせ Gold 意外性 (Unpredictable) | B58: おおばんくるわせ (ōbankuruwase) | C58: Literally: "Stunning Upset" Localization: "Surprise!" | D58: If originally in the starting lineup... and it is either tied after the 5th inning or their team is tied or losing in the "late innings"... the batter's power becomes S (does not activate if their power is already at S) | E58: スタメン出場し、5回以降で同点か試合終盤で負けているか同点だと、走者がいるときにパワーがSになる（もとがSだと変化なし） | F58: "Stunner" | G58: ある条件で大番狂わせを起こすことがある
A59: 外角必打 Gold アウトコースヒッター (Outside Hitter) | B59: がいかくひつだ (gaikaku hitsuda) | C59: Literally: "Outside Corner Certain Hit" Localization: "Art Brut" | D59: Making solid contact on pitches on the outside edge of the zone becomes much easier *Cannot be paired with インコースヒッター (Inside Hitter) or 内角必打 (Inner Artist) | E59: アウトコースのボールを打つのがすごく得意になる。インコースヒッター、内角必打とは一緒につけられない。 | G59: アウトコースのボールを打つのがすごく得意になる。インコースヒッター、内角必打、とは一緒につけられない
A60: 火事場の馬鹿力 Gold 逆境 (Resilient) | B60: かじばのばかぢから (kajiba-no-bakadjikara) | C60: Literally: "Animal Power at the Scene of a Fire" Colloquially: "Stupid Power of the Fireplace" Idiomatic Translation: "Fight-or-Flight Response" Localization: "Fight-or-Flight" | D60: If the batter's team is trailing after the 7th inning... Contact: +20 Power: +20 | E60: 試合終盤で負けているとき、ミート+20、パワー+20 | G60: 負けていると打力がすごく上がる
A61: 気迫ヘッド Gold ヘッドスライディング (Head-first Slide) | B61: きはくへっど (kihaku heddo) | C61: Literally: "Vigorous Head" or "Spirit Head" Localization: "Spirit Head" | D61: Will slide head-first into a base when the situation calls for it *(with extra spirit!) | E61: きわどいときにベースに頭からすべりこむ | G61: きわどいときにベースに頭からすべりこむ
A62: 逆襲 Gold リベンジ (Revenge) | B62: ぎゃくしゅう (gyakushū) | C62: "Counterattack" | D62: If a batter failed to record a hit in their previous at-bat and is facing the same pitcher... Contact: +10 Power: +5 | E62: 前の打席で抑えられた投手が相手のとき、ミート+10、パワー+5 | G62: 前の打席で抑えられていると、次の打席で打力がすごく上がる
A63: 恐怖の満塁男 Gold 満塁男 (Bases Loaded Slugger) | B63: きょうふのまんるいおとこ (kyōfu-no-manrui otoko) | C63: Literally: "Dreaded Bases Loaded Man" Localization: "Bases Loaded King" | D63: With bases loaded... Contact: +20 Power: +20 | E63: 満塁のとき、ミート+20、パワー+20 | F63: "Slammer" | G63: 満塁のチャンスで打力がものすごく上がる
A64: 切り込み隊長 Gold チャンスメーカー (Chance Maker) | B64: きりこみたいちょう (kirikomi taichō) | C64: Literally: "Shock Troop Commander" Localization: "Table Setter" | D64: With bases empty... Contact: +15 Power: +10 | E64: 走者がいないとき、ミート+15、パワー+10 | F64: "Builder" | G64: チャンスを作るのがものすごくうまい
A65: 芸術的流し打ち Gold 流し打ち (Push Hitter) | B65: げいじゅつてきながしうち (geijutsuteki nagashiuchi) | C65: Literally: "Artistically Hitting to the Opposite Field" Localization: "Pushy" | D65: Greatly raises the chance of making solid contact to the opposite field while also greatly lowering the chance of pushing a ball foul | E65: ミートで流し打ちをしたとき、打球がヒットになりやすい | G65: 流し打ちがものすごくうまくなる
A66: 広角砲 Gold 広角打法 (Spray Hitter) | B66: こうかくほう (kokaku hō) | C66: Literally: "Wide Angle Cannon" Localization: "Sprinkler" | D66: Can hit with power to the opposite field with extreme efficiency *Cannot be paired with Dead Pull (引っ張り屋) or Pull Hitter (プルヒッター) abilities | E66: 流し方向にものすごい強い打球が打てるようになる。プルヒッター、引っ張り屋とは一緒につけられない | G66: 流し方向にものすごい強い打球が打てるようになる。プルヒッター、引っ張り屋とは一緒につけられない
A67: 高球必打 Gold ハイボールヒッター (High Ball Hitter) | B67: こうきゅうひつだ (kōkyū hitsuda) | C67: Literally: "High Ball Certain Hit" Localization: "7 and 7" | D67: Making solid contact on pitches high in the zone becomes much easier *Cannot be paired with ローボールヒッター (Lowball Hitter) or 低球必打 (Old Fashioned) | E67: 高めのボールを打つのがすごく得意になる。ローボールヒッター、低球必打、とは一緒につけられない | G67: 高めのボールを打つのがすごく得意になる。ローボールヒッター、低球必打、とは一緒につけられない
A68: 高速ベースラン Gold 走塁 (Baserunning) | B68: こうそくべーすらん (kōsoku bēsuran) | C68: "Express Baserunning" | D68: When running the bases, top run speed is completely maintained. Also prevents head-first sliding into third base *Does not impact run speed when stealing bases | E68: 走塁時（盗塁は除く）の走力が大きく上がり、三塁到達時にヘッドスライディングをしない | F68: "Hustle" | G68: 走塁がものすごくうまい
A69: 高速レーザー Gold レーザービーム (Laser Beam) | B69: こうそくれーざー (kōsoku rēzā) | C69: "High-Speed Laser" | D69: The speed of an outfielder's throw back into the infield will be increased greatly and its trajectory low | E69: 外野守備時に、軌道が低く非常に速い送球をする | G69: 矢のような鋭い送球ができるようになる
A70: 小坂ゾーン OB: Makoto Kosaka [小坂誠], Chiba Lotte Marines Gold Equivalent: 魔術師 (Magician) | B70: こさかぞーん (kosaka zōn) | C70: Literally: "Kosaka Zone" Colloquially: Makoto Kosaka is a shortstop par excellence. He is the all time leader for the Chiba Lotte Marines in defensive win shares, and led the NPB in range factor for 7 consecutive years starting from 1997. From 1998 - 2003, he had a range factor over 5 Localization: "Kosaka Zone" | D70: Makoto Kosaka's speed combined with his incredible range at short will stop anything hit in his direction | E70: 守備時に送球速度と背走速度が上がり、動き出しも早くなる | F70: N/A | G70: 魔術的な守備をみせる
A71: 渾身の決勝打 Gold 決勝打 (GWRBI) | B71: こんしんのけっしょうだ (konshin-no-kesshōda) | C71: Literally: "Putting All of One's Body into the Deciding Hit" Localization: "Late Night Hero" | D71: While batting after the 6th inning... if there is a runner on base that can score the go-ahead run... Contact: +12 | E71: 同点または負けているときの6回以降、塁上の走者が精悍すれば勝ち越しの場面でミート+12 | G71: 6回以降で勝ち越しのランナーがいると打力がすごく上がる
A72: 左腕キーラー Gold 対左投手 (vs. Lefty Pitcher) | B72: さわんきーらー (sawan kīrā) | C72: "Lefty Killer" | D72: When facing a left-handed pitcher... Contact: +20 Power: +15 | E72: 左投手が相手のとき、ミート+20、パワー+15 | G72: 左投手にものすごく強くなる
A73: 重戦車 Gold ホーム突入 (Storming Home) | B73: じゅうせんしゃ (jūsensha) | C73: "Heavy Tank" | D73: When running home... slide hard to try and make the catcher drop the ball | E73: 本塁への激しいスライディングで捕手の捕球ミスを狙う | F73: "Tanker" | G73: 本塁への激しいスライディングで捕手の捕球ミスを狙う
A74: 勝負師 Gold チャンス (Clutch) | B74: しょうぶし (shōbushi) | C74: "Gambler" | D74: While batting with runners in scoring position... Contact: +20 Power: +15 | E74: 得点圏に走者がいるとき、ミート+20、パワー+15 | F74: "Gambler" | G74: チャンスのときにものすごく打力が上がる
A75: ストライク送球 Gold 送球 (Throwing) | B75: すとらいくそうきゅう (sutoraiku sōkyū) | C75: "Strike Thrower" | D75: Throw the ball with extreme accuracy | E75: 送球がすごくそれにくくなる | F75: "Bullseye" | G75: 送球がすごくそれにくくなる
A76: 精神的支柱 Gold ムード◯ (Mood) | B76: せいしんてきしちゅう (seishinteki shichū) | C76: "Emotional Pillar" | D76: When in the lineup or on the bench... Team's Pitchers: +10 Control Team's Batters: +10 Contact, +5 Power | E76: 味方投手のコントロール+10、味方打者のミート+10、パワー+5 | F76: "Leader" | G76: 試合に出場するとチームメイト全員の能力がものすごく上がる
A77: 世界の王 OB: Sadaharu Oh [王貞治], Yomiuri Giants Gold Equivalent: アーチスト (Artist) | B77: せかいのおう (sekai-no-ō) | C77: Literally: "King of the World" Colloquially: Sadaharu Oh. The world's leader in career homeruns at an astounding 868. Not to be overshadowed by that record are the rest of his counting and rate stats... Over 22 years and 11,866, Oh finished his career with a triple slash of .301/.446/.634 with 2,786 hits (422 of which were doubles), 2,390 walks to just 1,319 stikeouts (a 1.81 BB/K ratio) and an incredible 5,862 total bases (which would put him sixth all-time behind Barry Bonds and ahead of Ty Cobb, for an MLB comparison). Localization: "Sekai-no-Oh" | D77: Sadaharu Oh (王) is the King (王), literally! Expect trouble when he steps up to the plate | E77: 強振して打つと、ホームラン性の打球がかなり出やすくなる。ラインドライブとは一緒につけられない | F77: N/A | G77: ホームラン性の打球がとても出やすい
A78: 世界の代打王 OB: Yaushiro Takai [高井保弘], Hankyū Braves Gold Equivalent: 代打の神様 (God of Pinch Hitting) | B78: せかいのだいだおう (sekai-no-daida ō) | C78: Localization: "Pinch Hitting King of the World" Colloquially: Primarily used as a bench bat for the Hankyū Braves, Yasuhiro Takai holds the pinch-hit homerun world record (27) to this day. Localization: "Sekai-no-Daida Ō" | D78: Pitcher's take note when Yasuhiro Takai steps into the on-deck circle. When Takai enters the game as a pinch hitter, he receives... Contact: +25 Power: +20 | E78: 代打として打席に立ったとき、ミート+25、パワー+20 | F78: N/A | G78: 代打のときに打力がすごく上がる
A79: 世界の盗塁王 OB: Yutaka Fukumoto [福本豊], Hankyū Braves Gold Equivalent: 電光石火 (Lightning Speed) | B79: せかいのとうるいおう (sekai-no-tōrui ō) | C79: Literally: "Stolen Base King of the World" Colloquially: Yutaka Fukumoto is Japan's all-time leader in stolen bases, swiping 1,065 over his 20 year career with the Hankyū Braves. In addition to this - he holds the single season record at 106 stolen bases (set in 1972). He wasn't just a threat on the basepaths, however, as he also holds the Japanese record for leadoff homeruns at 41 and retired with a career .291/.380/.440 triple slash across 10,130 plate appearances. Also - he's a YouTuber. Localization: "Sekai-no-Tōrui Ō" | D79: Yutaka Fukumoto is Japan's King of Stolen Bases. Worldwide, his 1,065 career bases stolen sit behind only one other person - Rickey Henderson. Regardless where he is on the basepaths... expect him to end up on third When Fukumoto is on base... Pitcher Control: -10 Stamina Consumption Increased | E79: 盗塁時の走力が大きく上がる。また塁上が一塁または一・三塁の状況で一塁走者のとき、相手投手のコントロール-10、スタミナ消費量増 | F79: N/A | G79: 盗塁がものすごくうまく、投手に動揺を与える
A80: 代打の神様 Gold 代打 (Pinch Hitter) | B80: だいだのかみさま (daida-no-kamisama) | C80: "God of Pinch Hitting" | D80: When pinch hitting... Contact: +25 Power: +20 | E80: 代打として打席に立ったとき、ミート+25、パワー+21 | G80: 代打のときに打力がものすごく上がる
A81: 打撃の神様 OB: Tetsuharu Kawakami [川上哲治], Yomiuri Giants Gold Equivalent: 安打製造機 (Hit Machine) | B81: だげきのかみさま (dageki-no-kamisama) | C81: Literally: "God of Batting" Colloquially: Dubbed the "God of Batting" in his youth, Tetsuharu Kawakmi lived up to expectations by becoming the first player in NPB history to reach 2,000 hits. He was known for his power to all fields (dubbed "Bullet Liners" [弾丸ライナー]). Later in his career, he was known for his "Texas Leaguer" hits (soft fly balls that land in between the infelders and outfielders) due to a bad hip that sapped his power. He holds the NPB's second highest career batting average all time at .314 behind only Isao Harimoto's .319. Localization: "Dageki-no-Kamisama" | D81: It's best to assume a hit is en-route when Tetsuharu Kawakami steps up to the plate | E81: ミート打ちのとき、ヒット性の打球がかなり出やすくなる。 | F81: N/A | G81: ヒット性の打球がとても出やすい
A82: 低球必打 Gold ローボールヒッター (Low Ball Hitter) | B82: ていきゅうひつだ (teikyū hitsuda) | C82: Literally: "Low Ball Certain Hit" Localization: "Old Fashioned" | D82: Making solid contact on pitches on the lower edge of the zone becomes much easier *Cannot be paired with ハイボールヒッター (High Ball Hitter) or 高球必打 (7 and 7) | E82: 低めのボールを打つのがすごく得意になる。ハイボールヒッター、高球必打とは一緒につけられない | G82: 低めのボールを打つのがすごく得意になる。ハイボールヒッター、高球必打とは一緒につけられない
A83: 鉄人 Gold ケガしにくさ (Durability) | B83: てつじん (tetsujin) | C83: "Iron Man" | D83: Almost impossible to get injured [Pennant / MyLife Ability] | E83: ものすごくケガをしにくくなる | G83: ものすごくケガをしにくくなる
A84: 電光石火 Gold 盗塁 (Stealing) | B84: でんこうせっか (denkōsekka) | C84: "Lightning Speed" | D84: Run speed while stealing bases is greatly increased and while on base... Pitcher Control: -10 Stamina Consumption Increased | E84: 盗塁時の走力が大きく上がる。また塁上が一塁または一・三塁の状況で一塁走者のとき、相手投手のコントロール-10、スタミナ消費量増 | G84: 盗塁がものすごくうまくなってピッチャーに動揺を与える
A85: 伝説のサヨナラ男 Gold サヨナラ男 (Walkoff Hitter) | B85: でんせつのさよならおとこ (densetsu-no-sayonaru otoko) | C85: Literally: "Sayonara Man of Legend" Localization: "Legendary Walkoff Hitter" | D85: When in a walkoff situation... Contact: +20 Power: +20 | E85: サヨナラ勝利になる場面でミート+20、パワー+20 | F85: "Legend" | G85: サヨナラの場面で打力がものすごく上がる
A86: トリックスター Gold かく乱 (Disturbance) | B86: とりっくすたー (torikkusutā) | C86: "Trickster" | D86: When on base, put an extreme amount of pressure on the opposing pitcher and infielders Pitcher Stamina Consumption Increased Infield Defense Decreased *Can stack if more than one player with this ability is on base AND also cause the pitcher's control and breaking ball levels to decrease | E86: 出塁時、相手投手のスタミナ消費量が上がり、内野の守備力が下がる（塁上にこの能力を持つ走者が増えると効果が高まり、投手のコントロールと変化量も低下） | F86: "Joker" | G86: 出塁するとピッチャーにプレッシャーをものすごく与える
A87: 内角必打 Gold インコースヒッター (Inside Hitter) | B87: ないかくひつだ (naikaku hitsuda) | C87: Literally: "Inside Corner Certain Hit" Localization: "Inner Artist" | D87: Making solid contact on pitches on the inner edge of the zone becomes much easier *Cannot be paired with アウトコースヒッター (Outside Hitter) or 外角必打 (Art Brut) | E87: インコースのボールを打つのがすごく得意になる。アウトコースヒッター、外角必打とは一緒につけられない | G87: インコースのボールを打つのがすごく得意になる。アウトコースヒッター、外角必打とは一緒につけられない
A88: 忍者 OB: Ryosuke Kikuchi [菊池涼介], Hiroshima Carp Gold Equivalent: 魔術師 (Magician) | B88: にんじゃ (ninja) | C88: Literally: "A Person Trained in Ninjutsu" (in other words... a Ninja) Colloquially: Ryosuke Kikuchi, still an active player at the time of writing (July 2024), is something of a wizard in the field. Or perhaps, it should be said he's a ninja. He holds the single season NPB record for assists at second base with 535 and had 569 consecutive opportunities without an error (also an NPB record). He won 10 consecutive gold gloves from 2013 - 2022. Though he is in the twilight of his career, his accolades as Hiroshima's second baseman are second-to-none Localization: "Ninja" | D88: With a range so impressive it's almost as he teleports to the ball, anything hit in the area of Ryosuke Kikuchi will be dealt with with ease | E88: 守備時に送球速度と背走速度が上がり、動き出しも早くなる | F88: N/A | G88: 魔術的な守備をみせる
A89: ヒートアップ Gold 窮地〇 (Predicament) | B89: ひーとあっぷ (hītoapu) | C89: "Heat Up" | D89: With each additional strike taken... Contact: +8 Power: +8 | E89: ストライクカウントの数ぶん、ミート+8、パワー+8 | G89: ストライクカウントが増えるたびに、打力がすごく上がっていく
A90: 引っ張り屋 Gold プルヒッター (Pull Hitter) | B90: ひっぱりや (hippari ya) | C90: Literally: "Someone who Pulls" Localization: "Dead Pull" | D90: Power to the pull side is exceptionally increased *Cannot be paired with 広角打法 (Spray Hitter), or 広角砲 (Sprinkler) | E90: 強振で引っ張るとすごく強い打球が飛ぶようになる。広角打法、広角砲とは一緒につけられない | G90: 強振で引っ張るとすごく強い打球が飛ぶようになる。広角打法、広角砲とは一緒につけられない
A91: 魔術師 Gold 守備職人 (Defensive Artisan) | B91: まじゅつし (majutsushi) | C91: "Magician" | D91: While fielding... Initial jump speed, overall running speed, and throwing speed are greatly increased | E91: 守備時に送球速度と背走速度が上がり、動き出しも早くなる | F91: "Magnet" | G91: 守備のときに魔術的な守備を見せるときがある
A92: メッタ打ち Gold 固め打ち (Multi-Hit) | B92: めったうち (metta uchi) | C92: Literally: "Showering with Blows" Localization: "Unrelenting" | D92: After already recording two hits in a game, each following at-bat will benefit from... Contact: +20 Power: +5 | E92: 2安打以上していると3打席目以降はミート+20、パワー+5 | G92: 2安打以上打つと、次の打席から能力がすごく上がる
A93: ロケットスタート Gold 内野安打 (Good Infield Hit) | B93: ろけっとすたーと (rokettosutãto) | C93: Literally: "Rocket Start" (Wasei) Localization: "Flying Start" | D93: Speed out of the box running to first base is greatly increased | E93: 打ってからのスタートダッシュがものすごく速くなる | G93: 打ってからのスタートダッシュがものすごく速くなる
A95: Pitcher Special Abilities
A97: 威圧感 | B97: いあつかん (iatsukan) | C97: Literally: "Intimidating Air" Localization: "Intimidator" | D97: When entering a game as a reliever... Opposing batter is affected with: Contact: -20 Power: -20 | E97: 2番手以降で登板時、相手打者のミート-20、パワー-20 | F97: "Tyrant" | G97: リリーフで登板した時、相手打者のミート-20、パワー-20
A98: 重い球 | B98: おもいきゅう (omoi kyū) | C98: Literally: "Heavy Ball" Localization: "Ironball" | D98: Batted balls are less likely to fly | E98: 打たれても打球が飛びにくくなる | F98: "Ironball" | G98: 打たれても打球が飛びにくくなる
A99: 回またぎ◯ | B99: かいまたぎ (kaimatagi) | C99: Literally: "Inning Straddle" Localization: "Straddle" | D99: Stamina is decreases more slowly for relivers pitching multiple innings *Relievers recover 10% stamina upon the beginning of their second inning of work | E99: リリーフ登板でイニングをまたいでも疲れにくくなる | G99: リリーフ登板でイニングをまたいでも疲れにくくなる
A100: 勝ち運 | B100: かちうん (kachi un) | C100: "Winner's Luck" | D100: When actively pitching, pitcher's team's lineup benefits from... Power: +5 | E100: 登板中、味方打者のパワー+5 | F100: "Lucky" | G100: 登板するとチームに勝ちを呼び込みやすくなる
A101: 緩急◯ | B101: かんきゅう (kankyū) | C101: Literally: "High and Low Speed" or "Fast and Slow" Localization: "Pace" | D101: Mixing fastballs and breaking pitches will both increase the perceived speed of the fastballs and the perceived break of the breaking pitches | E101: ストレートと遅い変化球を組み合わせて投球すると能力が上がる。 | F101: "Toolkit" | G101: ストレートと遅い変化球を組み合わせて投球すると能力が上がる
A102: 球速安定 | B102: きゅうそくあんてい (kyūsoku antei) | C102: Literally: "Stable Pitch Speed" Localization: "Constant Speed" | D102: Average pitch speed is increased by 2 km/h | E102: 平均球速+2km/h | F102: "Timer" | G102: 安定して速い球を投げることができる
A103: キレ◯ | B103: きれ (kire) | C103: "Sharpness" | D103: Breaking balls will break closer to the plate | E103: 変化球のキレが良くなる。 | F103: "Cutter" | G103: 変化球のキレが良くなる
A104: 緊急登板◯ | B104: きんきゅうとうばん (kinkyū tōban) | C104: Literally: "Emergency Taking of the Mound" Localization: "Fireman" | D104: When a reliever enters mid-inning... Control: +10 | E104: イニング途中での登板時、コントロール+10 | G104: イニングの途中で登板すると能力が上がる
A105: クロスファイヤー | B105: くろすふぁいやー (kurosufaiyã) | C105: "Crossfire" | D105: Pitch speed will appear faster when throwing a fastball to the inside corner of an opposite-handed batter (i.e. right-handed pitcher throwing inside to a left-handed batter) | E105: 対角線のコースにストレートを投げたとき、球速よりも速く見える | F105: "Crossfire" | G105: 対角線のコースに投球したときに能力が上がる
A106: 牽制◯ | B106: けんせい (kensei) | C106: "Good Pickoff" | D106: Pickoff motion becomes quicker AND chance of an erroneous throw is lowered | E106: 牽制球を投げるモーションが少し早くなり、悪送球しにくくなる | F106: "Pickoff" | G106: 牽制がうまくなる
A107: 根性◯ | B107: こんじょう (konjō) | C107: "Guts" | D107: The negative effects of stamina loss are lessened, eventually stopping, even if stamina runs out *Starters Only | E107: 先発したとき、スタミナ切れになっても能力の減少がある程度のところで止まる | F107: "Guts" | G107: スタミナが減っても疲れを見せず根性で投げる
A108: 雑草魂 OB: Koji Uehara [上原浩治], Yomiuri Giants Equivalent: 打たれ強さ (Poise) | B108: ざっそうだましい (zassoudamashii) | C108: Literally: "The Tenacity of Weeds" Colloquially: Like Keichi Suzuki before him, Koji Uehara's favorite saying was 雑草魂 ("the tenacity of weeds"). Though he has since risen to greatness both in Japan and the United States, Uehara initially was a complete unknown as a player with aspirations of becoming a PE teacher. He failed the entrance exam. But even so, he continued on and eventually was admitted to Osaka University of Health and Sciences, where he joined the baseball team as a bit of a side activity. Through all his stuggles, he never gave up and continued to grow and develop. Just as a weed will sprout no matter what stands in its way, Uehara became a star despite the hardships. And now - he's a YouTuber. Localization: "Zassoudamashii" | D108: Despite it all, Koji Uehara shall not be rattled *...He has a B in this | E108: 打たれたときに動揺しにくいかどうか、A~Gまでの7段階ある。 | F108: N/A | G108: 打たれると動揺しにくいか
A109: ジャイロボール | B109: じゃいろぼーる (jairobõru) | C109: "Gyroball" | D109: Fastball spins without horizontal movement and appears faster than it truly is | E109: ストレートがジャイロ回転し、球速よりも速く見える | F109: "Gyroball" | G109: ストレートの回転軸が打者に向かって進み手元で伸びるようになる
A110: 尻上がり | B110: しりあがり (shiriagari) | C110: Literally: "Rising Tendency" Localization: "Strong Finisher" | D110: In the seventh and eighth innings... Top Speed: +2 km/h Control: +5 Breaking Ball Levels: +1 In the ninth inning... Top Speed: +4 km/h Contol: +10 Breaking Ball Levels: +2 *Only applies for a starting pitcher who has reached the 7/8/9th inning | E110: 先発時、7,8回は球速+2km/h、変化量+1、コントロール+5。9回以降は球速+4km/h、変化量+2、コントロール+10 | F110: "Momentum" | G110: 試合後半から調子が良くなる
A111: 対強打者◯ | B111: たいきょうだしゃ (tai kyōdasha) | C111: Literally: "vs. Strong Batters" Localization: "vs. Slugger" | D111: When facing a batter with B Contact and/or A Power... Top Speed: +2 km/h Breaking Ball Levels: +1 | E111: ミートBまたはパワーAの強打者が相手の時、球速+2km/h、変化量+1 | F111: "vs. Slugger" | G111: 強打者と対戦するときに能力が上がる
A112: 大魔神 OB: Kazuhiro Sasaki [佐々木主浩], Yokohama BayStars Equivalent: 威圧感 (Intimidator) | B112: だいまじん (daimajin) | C112: Litrally: "Great Evil God" Colloquially: Like a devil was Kazuhiro Sasaki to opposing lineups. So much so, that in 1994, a reporter following the Yomiuri Giants declared him to be as such 「悪魔の守護神」Couple that with his supposed resemblence to Daiei's kaiju - Daimajin - and a nickname befitting the demon was born. Localization: "Daimajin" | D112: When Sasaki enters the game, opposing lineups quiver in fear... Opposing batters when facing Sasaki as a closer: Contact: -20 Power: -20 | E112: 2番手以降で登板時、相手打者のミート-20、パワー-20 | F112: N/A | G112: 打者に威圧感を与える
A113: 対ランナー◯ | B113: たいらんなー (tai rannā) | C113: Literally: "vs. Runner" Localization: "Staredown" | D113: When there is a runner on first (or runners on first and third)... Control: +5 Stamina Consumption Decreased | E113: 走者一塁か、一塁・三塁のとき、コントロール+5、スタミナ消費量減 | F113: "vs. Runner" | G113: ランナーが一塁、または一・三塁にいるときにピッチャーの能力が上がる
A114: 打球反応◯ | B114: だきゅうはんのう (dakyů hannō) | C114: Literally: "Batted Ball Reaction" Localization: "Quick Hands" | D114: Pitcher reacts more quickly to balls hit back up the middle | E114: ピッチャー返しをさばくのがうまくなる | F114: "Reflexes" | G114: ピッチャー返しをさばくのがうまくなる
...

Sheet Pitcher Special Ability List
A1: パワフルプロ野球2024-2025 Pitcher Special Ability List (Translated to English by tweav) Presented in Japanese Syllabary Order (五十音順) Ability Descriptions / Numerical Data from: game8 OB Ability Information from: seesaawiki WBSC Localizations from: Zumikaku
H2: Copy code: " = 'FULL Ability List'! [Cell letter/Number]"
A9: Ability Name (Japanese) | B9: Ability Name (Hiragana + Romaji) | C9: Ability Name (English) | D9: Description (English) | E9: Description (Japanese) | F9: WBSC English Localization | G9: In-Game Description (Japanese)
A11: Pitcher Gold Abilities
A13: 暴れ球 Gold 荒れ球 (Wild Fastball) | B13: ='FULL Special Ability List'!B13 -> あばれきゅう (abare kyū) | C13: ='FULL Special Ability List'!C13 -> Literally: "Violent Ball" Localization: "Explosive Fastball" | D13: ='FULL Special Ability List'!D13 -> Fastball speed, power, and break is greatly increased at the cost of control Control: - ~20 when throwing a Fastball | E13: ='FULL Special Ability List'!E13 -> ストレートを投げたとき、よりノビが良くなるが、ブレやすくなる | F13: ='FULL Special Ability List'!F13 | G13: ='FULL Special Ability List'!G13 -> 制球がさだまらないが、威力のあるストレートが投げられる
A14: 怪童 Gold ノビ (Fastball Spin Rate) | B14: ='FULL Special Ability List'!B14 -> かいどう (kaidō) | C14: Literally: "Unusually Large/Strong Child" Localization: "Ozaki Fastball" Ozaki Yukio | D14: ='FULL Special Ability List'!D14 -> Perceived speed on a pitcher's fastball will be greatly increased | E14: ='FULL Special Ability List'!E14 -> ストレートが球速よりも大幅に速く見える | F14: ='FULL Special Ability List'!F14 -> "Bullet" | G14: ='FULL Special Ability List'!G14 -> ストレートのノビがものすごく良くなる
A15: 怪物球威 Gold 重い球 (Heavy Ball) | B15: ='FULL Special Ability List'!B15 -> かいぶつきゅうい (kaibutsu kyūi) | C15: ='FULL Special Ability List'!C15 -> Literally: "Monster Stuff" Localization: "Anchored" | D15: ='FULL Special Ability List'!D15 -> Batted balls are extremely unlikely to fly | E15: ='FULL Special Ability List'!E15 -> 球質が非常に重くなり、打たれたときの打球が飛びにくくなる | F15: ='FULL Special Ability List'!F15 -> "Leadball" | G15: ='FULL Special Ability List'!G15 -> 球質が非常に重くなり、打たれたときの打球が飛びにくくなる
A16: ガソリンタンク Gold 回復 (Recovery) | B16: ='FULL Special Ability List'!B17 -> がそりんたんく (gasorin tanku) | C16: ='FULL Special Ability List'!C17 -> "Gas Tank" | D16: ='FULL Special Ability List'!D17 -> After pitching, stamina is very quickly recovered [Pennant / MyLife Ability] | E16: ='FULL Special Ability List'!E17 -> 登板後のスタミナ回復が非常に早い | F16: ='FULL Special Ability List'!F17 -> "Dynamo" | G16: ='FULL Special Ability List'!G17 -> 疲れがとても早くとれるようになる
A17: 完全燃焼 Gold 全開 (Full Throttle) | B17: ='FULL Special Ability List'!B18 -> かんぜんねんしょ (kanzen nensho) | C17: ='FULL Special Ability List'!C18 -> Literally: "Perfect Combustion" Colloquially: "Giving One's All" / "Using All of One's Ability" Localization: "Unfettered" | D17: ='FULL Special Ability List'!D18 -> If the pitcher still has at least 1/3 of their stamina and there are RISP... pitches will be much heavier and ノビ ("nobi" [pitch tunneling]) will be much improved, however... stamina consumption will be increased | E17: ='FULL Special Ability List'!E18 -> 得点圏に走者がいてスタミナ残量約1/3以上のとき、より球質が重く、ノビがよくなりスタミナ消費量が増える | F17: ='FULL Special Ability List'!F18 | G17: ='FULL Special Ability List'!G18 -> ピンチでスタミナ消費がすごく増えるが、能力もすごく上がる
A18: ギアチェンジ Gold 力配分 (Strength Distribution) | B18: ='FULL Special Ability List'!B19 -> ぎあちぇんじ (gia chenji) | C18: ='FULL Special Ability List'!C19 -> "Gear Change" | D18: ='FULL Special Ability List'!D19 -> When a starting pitcher has reached the 5th inning... and the score is tied or their team has a maximum of a 3 run lead... and there are runners on base... Top Speed: +1 km/h Control: +10 Breaking Ball Levels: +1 | E18: ='FULL Special Ability List'!E19 -> 先発時の5回以降、リードが3点以内または同点で走者がいるとき、球速+1km/h、コントロール+10、変化球が打者の近くで変化するようになる | F18: ='FULL Special Ability List'!F19 | G18: ='FULL Special Ability List'!G19 -> 特定の場面で強打者と対戦するとき先発投手の能力が上がる
A19: 驚異の切れ味 Gold キレ (Sharpness) | B19: ='FULL Special Ability List'!B20 -> きょういのきれあじ (kyōi no kireaji) | C19: ='FULL Special Ability List'!C20 -> "Miracle Sharpness" | D19: ='FULL Special Ability List'!D20 -> Breaking pitches break extremely late | E19: ='FULL Special Ability List'!E20 -> 変化球の曲がり始めが極端に遅くなり、より打者の近くで変化する | F19: ='FULL Special Ability List'!F20 -> "Carver" | G19: ='FULL Special Ability List'!G20 -> 変化球のキレがものすごく良くなる
A20: 強心臓 Gold 対ピンチ (vs. RISP) | B20: ='FULL Special Ability List'!B21 -> きょうしんぞう (kyō shinzō) | C20: ='FULL Special Ability List'!C21 -> "Sangfroid" | D20: ='FULL Special Ability List'!D21 -> With runners in scoring position... Top Speed: +2 km/h Breaking Ball Levels: +3 | E20: ='FULL Special Ability List'!E21 -> 得点圏に走者がいるとき、球速+2km/h、変化量+3 | F20: ='FULL Special Ability List'!F21 -> "Resolve" | G20: ='FULL Special Ability List'!G21 -> 得点圏にランナーがいるとものすごく能力が上がる
A21: クロスキャノン Gold クロスファイヤー(Crossfire) | B21: ='FULL Special Ability List'!B22 -> くろすきゃのん (kurosu kyanon) | C21: ='FULL Special Ability List'!C22 -> "Cross Cannon" | D21: ='FULL Special Ability List'!D22 -> Pitch speed will appear much faster when throwing inside to an opposite-handed batter (ie right-handed pitcher throwing to a left-handed batter) | E21: ='FULL Special Ability List'!E22 -> 対角線となるコースに投げたとき、球速よりも速く見える | F21: ='FULL Special Ability List'!F22 | G21: ='FULL Special Ability List'!G22 -> 対角線のコースに投球したときに能力がすごく上がる
A22: 終盤力 Gold 尻上がり (Strong Finisher) | B22: ='FULL Special Ability List'!B24 -> しゅうばんりょく (shuban ryoku) | C22: Literally: "Endgame Strength" Localization: "Wizard Mode" | D22: ='FULL Special Ability List'!D24 -> When a starting pitcher has reached the 5th(?) inning... and their team is either winning or losing by fewer than 3 runs... Top Speed: +4 km/h Control: +10 Breaking Ball Levels: +2 | E22: ='FULL Special Ability List'!E24 -> 先発時に勝っているか3点差以内で負けているとき、球速+4km/h、コントロール+10、変化量+2 | F22: ='FULL Special Ability List'!F24 | G22: ='FULL Special Ability List'!G24 -> 試合後半からすごく調子が良くなる
A23: 主砲キラー Gold 対強打者 (vs. Strong Batter) | B23: ='FULL Special Ability List'!B25 -> しゅぼうきらー (shubō kirā) | C23: ='FULL Special Ability List'!C25 -> Literally: "Main Gun Killer" Localization: "Slugger Killer" | D23: ='FULL Special Ability List'!D25 -> When facing a batter with Contact at or above B and/or Power at or above A... Top Speed: +3 km/h Breaking Ball Levels: +1 キレ: +1 | E23: ='FULL Special Ability List'!E25 -> ミートB以上かパワーA以上の打者が相手のとき、球速+3km/h、変化量+1km/h、さらに変化球が打者の近くで変化するようになる | F23: ='FULL Special Ability List'!F25 | G23: ='FULL Special Ability List'!G25 -> 強打者と対戦するときに能力がものすごく上がる
A24: 勝利の星 Gold 勝ち運 (Winner's Luck) | B24: ='FULL Special Ability List'!B26 -> しょうりのほし (shori-no-hoshi) | C24: ='FULL Special Ability List'!C26 -> "Lucky Star" | D24: ='FULL Special Ability List'!D26 -> When actively pitching, the pitcher's team's lineup will benefit from both +5 Contact and +5 Power | E24: ='FULL Special Ability List'!E26 -> 登板中、味方打者のミート+5、パワー+5 | F24: ='FULL Special Ability List'!F26 -> "Charm" | G24: ='FULL Special Ability List'!G26 -> 登板するとチームに勝ちをものすごく呼び込みやすくなる
A25: 精密機械 Gold 低め (Low Ball) | B25: ='FULL Special Ability List'!B27 -> せいみつきかい (seimitsu kikai) | C25: ='FULL Special Ability List'!C27 -> "Precision Instrument" | D25: ='FULL Special Ability List'!D27 -> Control of pitches low in the zone is greatly improved | E25: ='FULL Special Ability List'!E27 -> ストライクゾーン低めへのコントロールが非常に良くなる。 | F25: ='FULL Special Ability List'!F27 -> "Engineer" | G25: ='FULL Special Ability List'!G27 -> 低めのコースのコントロールがものすごく良くなる
A26: 走者釘付 Gold クイック (Quickness) | B26: ='FULL Special Ability List'!B29 -> そうしゃくぎづけ (sōsha kugidzuke) | C26: ='FULL Special Ability List'!C29 -> Literally: "Freezing Baserunners" or "Nailing Down Baserunners" Localization: "Halting Quickness" | D26: ='FULL Special Ability List'!D29 -> Delivery while pitching out of the stretch is dramatically increased, hampering stolen base attempts | E26: ='FULL Special Ability List'!E29 -> 投球モーションがより速くなる | F26: ='FULL Special Ability List'!F29 | G26: ='FULL Special Ability List'!G29 -> クイックがものすごくうまく、盗塁がされにくい
A27: 超投打躍動 Gold 投打躍動 (Kageura) | B27: ='FULL Special Ability List'!B30 -> ちょうとうだやくどう (chō tōda yakudō) | C27: ='FULL Special Ability List'!C30 -> Literally: "Ultra Lively Pitching and Batting" Localization: "Showtime" | D27: ='FULL Special Ability List'!D30 -> When pitching, if the pitcher has let up fewer than 2 runs, their Contact and Power will increase greatly and... When batting, if the batter has at least one hit, their Control and Breaking Ball Levels will increase greatly | E27: ='FULL Special Ability List'!E30 -> 投手で出場して2失点以下だとミートとパワーが大きく上がり、1安打以上だとコントロールと変化量が大きく上がる | F27: ='FULL Special Ability List'!F30 | G27: ='FULL Special Ability List'!G30 -> 好投しているほど打撃に、ヒットを打つほど投球にかなりの好影響を及ぼす
A28: ディレイドアーム Gold 球持ち◯ (Tunneling) | B28: ='FULL Special Ability List'!B31 -> でぃれいどあーむ (direido āmu) | C28: Literally: "Delayed Arm" Localization: "Seikan Tunneling" | D28: ='FULL Special Ability List'!D31 -> Pitch location indicator will appear much later and smaller | E28: ='FULL Special Ability List'!E31 -> 投球時の球持ちがより長くなり、打者からは腕の振りが見えづらく、打ちにくい | F28: ='FULL Special Ability List'!F31 | G28: ='FULL Special Ability List'!G31 -> バッターから腕の振りが見えづらくなる
A29: 鉄腕 Gold 調子安定 (Stable Condition) | B29: ='FULL Special Ability List'!B32 -> てつわん (tetsuwan) | C29: ='FULL Special Ability List'!C32 -> Literally: "Iron Arm" Localization: "Iron Will" | D29: ='FULL Special Ability List'!D32 -> Mood barely affects performance | E29: ='FULL Special Ability List'!E32 -> 調子による影響がほとんどない | F29: ='FULL Special Ability List'!F32 -> "Steeled" | G29: ='FULL Special Ability List'!G32 -> ピッチングが調子にすごく影響されにくい
A30: 闘魂 Gold 闘志 (Fighting Spirit) | B30: ='FULL Special Ability List'!B33 -> とうこん (tōkon) | C30: ='FULL Special Ability List'!C33 -> Literally: "Fighting Spirit" Localization: "Fighting Soul" | D30: ='FULL Special Ability List'!D33 -> If the pitcher still has stamina remaining... and their team is leading by 2 or fewer runs or losing by 2 or more runs... pitches will become much heavier and any batter's Intimidator (威圧感) special ability will not activate | E30: ='FULL Special Ability List'!E33 -> スタミナ切れ状態ではなく、リードが2点以内か負けていて自責点2以下の場合、球質が重くなり、動揺状態になりにくくなって打者の威圧感を無効化する | F30: ='FULL Special Ability List'!F33 | G30: ='FULL Special Ability List'!G33 -> 闘魂みなぎるピッチングをする
A31: ドクターK Gold 奪三振 (Strikeout) | B31: ='FULL Special Ability List'!B34 -> どくたーK (dokutā K) | C31: ='FULL Special Ability List'!C34 -> "Doctor K" | D31: ='FULL Special Ability List'!D34 -> When there are two stikes on the current batter... Top Speed: +4 km/h Breaking Ball Levels: +2 | E31: ='FULL Special Ability List'!E34 -> 2ストライクに追い込むと、球速+4km/h、変化量+2 | F31: ='FULL Special Ability List'!F34 | G31: ='FULL Special Ability List'!G34 -> 2ストライクに追い込んだときに能力がものすごくあがる。Kは奪三振のこと
A32: ド根性 Gold 根性 (Guts) | B32: ='FULL Special Ability List'!B35 -> どこんせい (do konsei) | C32: ='FULL Special Ability List'!C35 -> "Grit" | D32: ='FULL Special Ability List'!D35 -> Pitching ability will remain consistent, regardless of stamina level | E32: ='FULL Special Ability List'!E35 -> 先発したとき、スタミナ切れになっても能力の減少が早めに止まる | F32: ='FULL Special Ability List'!F35 | G32: ='FULL Special Ability List'!G35 -> スタミナが減っても疲れを見せずにド根性で投げる
A33: トップギア Gold 立ち上がり (Strong Starter) | B33: ='FULL Special Ability List'!B36 -> とっぷぎあ (toppu gia) | C33: ='FULL Special Ability List'!C36 -> Literally: "Top Gear" Localization: "Ace Opener" | D33: ='FULL Special Ability List'!D36 -> For the first two innings... Top Speed: +4 km/h Control: +13 Breaking Ball Levels: +2 | E33: ='FULL Special Ability List'!E36 -> 先発時の1~2回は球速+4km/h、コントロール+13、変化量+2 | F33: ='FULL Special Ability List'!F36 | G33: ='FULL Special Ability List'!G36 -> 試合序盤の立ち上がりがすごく良くなる
A34: 内角無双 Gold 内角攻め (Inside Pitch) | B34: ='FULL Special Ability List'!B37 -> ないかくむそう (naikaku musō) | C34: ='FULL Special Ability List'!C37 -> Literally: "Merciless Inside Pitch" Localization: "Painter" | D34: ='FULL Special Ability List'!D37 -> Control of inside pitches is greatly increased | E34: ='FULL Special Ability List'!E37 -> 内角への投球時、コントロールが良くなり球威も大きく上がる | F34: ='FULL Special Ability List'!F37 | G34: ='FULL Special Ability List'!G37 -> インコースに投げたときにコントロールがすごく良くなる
A35: ハイスピンジャイロ Gold ジャイロボール (Gyroball) | B35: ='FULL Special Ability List'!B38 -> はいすぴんじゃいろ (haisupin jairo) | C35: ='FULL Special Ability List'!C38 -> "High Spin Gyroball" | D35: ='FULL Special Ability List'!D38 -> Fastball greatly spins without horizontal movement and appears much faster than it truly is | E35: ='FULL Special Ability List'!E38 -> ストレートがジャイロ回転し、球速よりも非常に速く見える | F35: ='FULL Special Ability List'!F38 | G35: ='FULL Special Ability List'!G38 -> ストレートの回転軸が打者に向かって進み手元ですごく伸びるようになる
A36: 左キラー Gold 対左打者 (vs. Lefty Batter) | B36: ='FULL Special Ability List'!B39 -> ひだりきらー (hidari kirā) | C36: ='FULL Special Ability List'!C39 -> "Lefty Killer" | D36: ='FULL Special Ability List'!D39 -> When facing a left-handed batter... Top Speed: +3 km/h Control: +7 Stamina Consumption Increased | E36: ='FULL Special Ability List'!E39 -> 左打者が相手のとき、球速+3km/h、コントロール+7、スタミナ消費量増 | F36: ='FULL Special Ability List'!F39 | G36: ='FULL Special Ability List'!G39 -> 左打者にものすごく強くなる
A37: 不屈の魂 Gold 打たれ強さ (Poise) | B37: ='FULL Special Ability List'!B40 -> ふくつのたましい (fukutsu-no-tamashī) | C37: ='FULL Special Ability List'!C40 -> "Indomitable Soul" | D37: ='FULL Special Ability List'!D40 -> Pitcher is almost impossible to rattle | E37: ='FULL Special Ability List'!E40 -> 動揺状態にほとんどならない | F37: ='FULL Special Ability List'!F40 -> "Unshaken" | G37: ='FULL Special Ability List'!G40 -> 打ち込まれてもすごく動揺しにくくなる
A38: 変幻自在 Gold 緩急 (Pace) | B38: ='FULL Special Ability List'!B41 -> へんげんじざい (hengenjizai) | C38: ='FULL Special Ability List'!C41 -> "Phantasmagoric" | D38: ='FULL Special Ability List'!D41 -> Mixing fastballs and breaking pitches will both greatly increase the perceived speed of the fastballs and the perceived break of the breaking pitches | E38: ='FULL Special Ability List'!E41 -> 速い球のあとに遅い変化球、またはその逆で投球したとき、ストレートは球速よりもかなり速く見え、変化球は曲がり始めがかなり遅くなる | F38: ='FULL Special Ability List'!F41 | G38: ='FULL Special Ability List'!G41 -> ストレートと遅い変化球を組み合わせて投球すると能力がものすごく上がる
A39: 本塁打厳禁 Gold 逃げ球 (Escape Ball) | B39: ='FULL Special Ability List'!B42 -> ほんるいだげんきん (honruida genkin) | C39: ='FULL Special Ability List'!C42 -> Literally: "Homeruns Strictly Forbidden" Localization: "Houdini" | D39: ='FULL Special Ability List'!D42 -> Becomes extremely unlikely (2.5% chance) for a mistake pitch to land in the middle of the strikezone | E39: ='FULL Special Ability List'!E42 -> 失投時にど真ん中にいく確率がかなり下がる | F39: ='FULL Special Ability List'!F42 | G39: ='FULL Special Ability List'!G42 -> ピッチャーのすっぽ抜けたボールがかなりど真ん中にいきにくくなる
A41: Pitcher Special Abilities
A43: ='FULL Special Ability List'!A97 -> 威圧感 | B43: ='FULL Special Ability List'!B97 -> いあつかん (iatsukan) | C43: ='FULL Special Ability List'!C97 -> Literally: "Intimidating Air" Localization: "Intimidator" | D43: ='FULL Special Ability List'!D97 -> When entering a game as a reliever... Opposing batter is affected with: Contact: -20 Power: -20 | E43: ='FULL Special Ability List'!E97 -> 2番手以降で登板時、相手打者のミート-20、パワー-20 | F43: ='FULL Special Ability List'!F97 -> "Tyrant" | G43: ='FULL Special Ability List'!G97 -> リリーフで登板した時、相手打者のミート-20、パワー-20
A44: ='FULL Special Ability List'!A98 -> 重い球 | B44: ='FULL Special Ability List'!B98 -> おもいきゅう (omoi kyū) | C44: ='FULL Special Ability List'!C98 -> Literally: "Heavy Ball" Localization: "Ironball" | D44: ='FULL Special Ability List'!D98 -> Batted balls are less likely to fly | E44: ='FULL Special Ability List'!E98 -> 打たれても打球が飛びにくくなる | F44: ='FULL Special Ability List'!F98 -> "Ironball" | G44: ='FULL Special Ability List'!G98 -> 打たれても打球が飛びにくくなる
A45: ='FULL Special Ability List'!A99 -> 回またぎ◯ | B45: ='FULL Special Ability List'!B99 -> かいまたぎ (kaimatagi) | C45: ='FULL Special Ability List'!C99 -> Literally: "Inning Straddle" Localization: "Straddle" | D45: ='FULL Special Ability List'!D99 -> Stamina is decreases more slowly for relivers pitching multiple innings *Relievers recover 10% stamina upon the beginning of their second inning of work | E45: ='FULL Special Ability List'!E99 -> リリーフ登板でイニングをまたいでも疲れにくくなる | F45: ='FULL Special Ability List'!F100 -> "Lucky" | G45: ='FULL Special Ability List'!G99 -> リリーフ登板でイニングをまたいでも疲れにくくなる
A46: ='FULL Special Ability List'!A100 -> 勝ち運 | B46: ='FULL Special Ability List'!B100 -> かちうん (kachi un) | C46: ='FULL Special Ability List'!C100 -> "Winner's Luck" | D46: ='FULL Special Ability List'!D100 -> When actively pitching, pitcher's team's lineup benefits from... Power: +5 | E46: ='FULL Special Ability List'!E100 -> 登板中、味方打者のパワー+5 | F46: =#REF! -> #REF! | G46: ='FULL Special Ability List'!G100 -> 登板するとチームに勝ちを呼び込みやすくなる
A47: ='FULL Special Ability List'!A101 -> 緩急◯ | B47: ='FULL Special Ability List'!B101 -> かんきゅう (kankyū) | C47: ='FULL Special Ability List'!C101 -> Literally: "High and Low Speed" or "Fast and Slow" Localization: "Pace" | D47: ='FULL Special Ability List'!D101 -> Mixing fastballs and breaking pitches will both increase the perceived speed of the fastballs and the perceived break of the breaking pitches | E47: ='FULL Special Ability List'!E101 -> ストレートと遅い変化球を組み合わせて投球すると能力が上がる。 | F47: ='FULL Special Ability List'!F101 -> "Toolkit" | G47: ='FULL Special Ability List'!G101 -> ストレートと遅い変化球を組み合わせて投球すると能力が上がる
A48: ='FULL Special Ability List'!A102 -> 球速安定 | B48: ='FULL Special Ability List'!B102 -> きゅうそくあんてい (kyūsoku antei) | C48: ='FULL Special Ability List'!C102 -> Literally: "Stable Pitch Speed" Localization: "Constant Speed" | D48: ='FULL Special Ability List'!D102 -> Average pitch speed is increased by 2 km/h | E48: ='FULL Special Ability List'!E102 -> 平均球速+2km/h | F48: ='FULL Special Ability List'!F102 -> "Timer" | G48: ='FULL Special Ability List'!G102 -> 安定して速い球を投げることができる
A49: ='FULL Special Ability List'!A103 -> キレ◯ | B49: ='FULL Special Ability List'!B103 -> きれ (kire) | C49: ='FULL Special Ability List'!C103 -> "Sharpness" | D49: ='FULL Special Ability List'!D103 -> Breaking balls will break closer to the plate | E49: ='FULL Special Ability List'!E103 -> 変化球のキレが良くなる。 | F49: ='FULL Special Ability List'!F103 -> "Cutter" | G49: ='FULL Special Ability List'!G103 -> 変化球のキレが良くなる
A50: ='FULL Special Ability List'!A104 -> 緊急登板◯ | B50: ='FULL Special Ability List'!B104 -> きんきゅうとうばん (kinkyū tōban) | C50: ='FULL Special Ability List'!C104 -> Literally: "Emergency Taking of the Mound" Localization: "Fireman" | D50: ='FULL Special Ability List'!D104 -> When a reliever enters mid-inning... Control: +10 | E50: ='FULL Special Ability List'!E104 -> イニング途中での登板時、コントロール+10 | F50: ='FULL Special Ability List'!F104 | G50: ='FULL Special Ability List'!G104 -> イニングの途中で登板すると能力が上がる
A51: ='FULL Special Ability List'!A105 -> クロスファイヤー | B51: ='FULL Special Ability List'!B105 -> くろすふぁいやー (kurosufaiyã) | C51: ='FULL Special Ability List'!C105 -> "Crossfire" | D51: ='FULL Special Ability List'!D105 -> Pitch speed will appear faster when throwing a fastball to the inside corner of an opposite-handed batter (i.e. right-handed pitcher throwing inside to a left-handed batter) | E51: ='FULL Special Ability List'!E105 -> 対角線のコースにストレートを投げたとき、球速よりも速く見える | F51: ='FULL Special Ability List'!F105 -> "Crossfire" | G51: ='FULL Special Ability List'!G105 -> 対角線のコースに投球したときに能力が上がる
A52: ='FULL Special Ability List'!A106 -> 牽制◯ | B52: ='FULL Special Ability List'!B106 -> けんせい (kensei) | C52: ='FULL Special Ability List'!C106 -> "Good Pickoff" | D52: ='FULL Special Ability List'!D106 -> Pickoff motion becomes quicker AND chance of an erroneous throw is lowered | E52: ='FULL Special Ability List'!E106 -> 牽制球を投げるモーションが少し早くなり、悪送球しにくくなる | F52: ='FULL Special Ability List'!F106 -> "Pickoff" | G52: ='FULL Special Ability List'!G106 -> 牽制がうまくなる
A53: ='FULL Special Ability List'!A107 -> 根性◯ | B53: ='FULL Special Ability List'!B107 -> こんじょう (konjō) | C53: ='FULL Special Ability List'!C107 -> "Guts" | D53: ='FULL Special Ability List'!D107 -> The negative effects of stamina loss are lessened, eventually stopping, even if stamina runs out *Starters Only | E53: ='FULL Special Ability List'!E107 -> 先発したとき、スタミナ切れになっても能力の減少がある程度のところで止まる | F53: ='FULL Special Ability List'!F107 -> "Guts" | G53: ='FULL Special Ability List'!G107 -> スタミナが減っても疲れを見せず根性で投げる
A54: ='FULL Special Ability List'!A109 -> ジャイロボール | B54: ='FULL Special Ability List'!B109 -> じゃいろぼーる (jairobõru) | C54: ='FULL Special Ability List'!C109 -> "Gyroball" | D54: ='FULL Special Ability List'!D109 -> Fastball spins without horizontal movement and appears faster than it truly is | E54: ='FULL Special Ability List'!E109 -> ストレートがジャイロ回転し、球速よりも速く見える | F54: ='FULL Special Ability List'!F109 -> "Gyroball" | G54: ='FULL Special Ability List'!G109 -> ストレートの回転軸が打者に向かって進み手元で伸びるようになる
A55: ='FULL Special Ability List'!A110 -> 尻上がり | B55: ='FULL Special Ability List'!B110 -> しりあがり (shiriagari) | C55: ='FULL Special Ability List'!C110 -> Literally: "Rising Tendency" Localization: "Strong Finisher" | D55: ='FULL Special Ability List'!D110 -> In the seventh and eighth innings... Top Speed: +2 km/h Control: +5 Breaking Ball Levels: +1 In the ninth inning... Top Speed: +4 km/h Contol: +10 Breaking Ball Levels: +2 *Only applies for a starting pitcher who has reached the 7/8/9th inning | E55: ='FULL Special Ability List'!E110 -> 先発時、7,8回は球速+2km/h、変化量+1、コントロール+5。9回以降は球速+4km/h、変化量+2、コントロール+10 | F55: ='FULL Special Ability List'!F110 -> "Momentum" | G55: ='FULL Special Ability List'!G110 -> 試合後半から調子が良くなる
A56: ='FULL Special Ability List'!A111 -> 対強打者◯ | B56: ='FULL Special Ability List'!B111 -> たいきょうだしゃ (tai kyōdasha) | C56: ='FULL Special Ability List'!C111 -> Literally: "vs. Strong Batters" Localization: "vs. Slugger" | D56: ='FULL Special Ability List'!D111 -> When facing a batter with B Contact and/or A Power... Top Speed: +2 km/h Breaking Ball Levels: +1 | E56: ='FULL Special Ability List'!E111 -> ミートBまたはパワーAの強打者が相手の時、球速+2km/h、変化量+1 | F56: ='FULL Special Ability List'!F111 -> "vs. Slugger" | G56: ='FULL Special Ability List'!G111 -> 強打者と対戦するときに能力が上がる
A57: ='FULL Special Ability List'!A113 -> 対ランナー◯ | B57: ='FULL Special Ability List'!B113 -> たいらんなー (tai rannā) | C57: ='FULL Special Ability List'!C113 -> Literally: "vs. Runner" Localization: "Staredown" | D57: ='FULL Special Ability List'!D113 -> When there is a runner on first (or runners on first and third)... Control: +5 Stamina Consumption Decreased | E57: ='FULL Special Ability List'!E113 -> 走者一塁か、一塁・三塁のとき、コントロール+5、スタミナ消費量減 | F57: ='FULL Special Ability List'!F113 -> "vs. Runner" | G57: ='FULL Special Ability List'!G113 -> ランナーが一塁、または一・三塁にいるときにピッチャーの能力が上がる
A58: ='FULL Special Ability List'!A114 -> 打球反応◯ | B58: ='FULL Special Ability List'!B114 -> だきゅうはんのう (dakyů hannō) | C58: ='FULL Special Ability List'!C114 -> Literally: "Batted Ball Reaction" Localization: "Quick Hands" | D58: ='FULL Special Ability List'!D114 -> Pitcher reacts more quickly to balls hit back up the middle | E58: ='FULL Special Ability List'!E114 -> ピッチャー返しをさばくのがうまくなる | F58: ='FULL Special Ability List'!F114 -> "Reflexes" | G58: ='FULL Special Ability List'!G114 -> ピッチャー返しをさばくのがうまくなる
A59: ='FULL Special Ability List'!A115 -> 立ち上がり◯ | B59: ='FULL Special Ability List'!B115 -> たちあがり (tachiagari) | C59: ='FULL Special Ability List'!C115 -> Literally: "Beginning" Baseball Specific Meaning: "How well a pitcher performs at the start of the game" Localization: "Strong Starter" | D59: ='FULL Special Ability List'!D115 -> In the first inning... Top Speed: +4 km/h Control: +13 Breaking Ball Levels: +2 In the second inning... Top Speed: +2 km/h Control: +7 Breaking Ball Levels: +1 | E59: ='FULL Special Ability List'!E115 -> 先発時の1回は球速+4km/h、コントロール+13、変化量+2。2回は球速+2km/h、コントロール+7、変化量+1 | F59: ='FULL Special Ability List'!F115 | G59: ='FULL Special Ability List'!G115 -> 投手が試合序盤に投球したときの調子のこと
A60: ='FULL Special Ability List'!A116 -> 奪三振 | B60: ='FULL Special Ability List'!B116 -> だつさんしん (datsusanshin) | C60: ='FULL Special Ability List'!C116 -> Literally: "Strikeout" Localization: "Mr. K" | D60: ='FULL Special Ability List'!D116 -> When there are two stikes on the current batter... Top Speed: +2 km/h Breaking Ball Levels: +1 | E60: ='FULL Special Ability List'!E116 -> 打者を2ストライクに追い込むと球速+2km/h、変化量+1 | F60: ='FULL Special Ability List'!F116 -> "Dr. K" | G60: ='FULL Special Ability List'!G116 -> 2ストライクに追い込んだときに能力があがる
A61: ='FULL Special Ability List'!A117 -> 球持ち◯ | B61: ='FULL Special Ability List'!B117 -> たまもち (tama mochi) | C61: ='FULL Special Ability List'!C117 -> Literally: "Ball Holding" Localization: "Tunneling" | D61: ='FULL Special Ability List'!D117 -> Pitch location indicator will appear much later and smaller | E61: ='FULL Special Ability List'!E117 -> 球持ちが良くなり、投球した際の投球地点の表示が遅くなる | F61: ='FULL Special Ability List'!F117 -> "Gripper" | G61: ='FULL Special Ability List'!G117 -> 球持ちが良くなり、投球した際の投球地点の表示が遅くなる
A62: ='FULL Special Ability List'!A119 -> 闘志 | B62: ='FULL Special Ability List'!B119 -> とうし (tōshi) | C62: ='FULL Special Ability List'!C119 -> "Fighting Spirit" | D62: ='FULL Special Ability List'!D119 -> If stamina is not yet emptied and the pithcer has let up 0 runs AND their team is winning or the score is tied... pitches become heavier and the chances of the pitcher being rattled are lowered *Also nullifies the effects of any batter's 威圧感 (Intimidator) ability | E62: ='FULL Special Ability List'!E119 -> スタミナ切れ状態ではなく、自責点0以下で同点か勝っているときにボールが重くなり、動揺状態になりにくくなる。また、相手打者の威圧感無効化 | F62: ='FULL Special Ability List'!F119 -> "Battler" | G62: ='FULL Special Ability List'!G119 -> 闘志あふれる投球をするようになる。ポーカーフェイスとは一緒につけられない
A63: ='FULL Special Ability List'!A120 -> 投打躍動 | B63: ='FULL Special Ability List'!B120 -> とうだやくどう (tōda yakudō) | C63: Literally: "Lively Pitching and Batting Motion" Localization: "Kageura" | D63: ='FULL Special Ability List'!D120 -> When pitching, if the pitcher has let up fewer than 2 runs, their Contact and Power will increase and... When batting, if the batter has at least one hit, their Control and Breaking Ball Levels will increase | E63: ='FULL Special Ability List'!E120 -> 投手で出場し、2失点以下だとミートとパワーが上がり、1安打以上だとコントロールと変化量が上がる | F63: ='FULL Special Ability List'!F120 -> "Two-Way" | G63: ='FULL Special Ability List'!G120 -> 好投しているほど打撃に、ヒットを打つほど投球に好影響を及ぼす
A64: ='FULL Special Ability List'!A121 -> 内角攻め | B64: ='FULL Special Ability List'!B121 -> ないかくせめ (naikaku seme) | C64: ='FULL Special Ability List'!C121 -> Literal: "Inside Angle Attack" Localization: "Inside Pitch" | D64: ='FULL Special Ability List'!D121 -> Control of pitches on the inside edge of the plate is improved | E64: ='FULL Special Ability List'!E121 -> インコースに投げたときにコントロールが良くなる。 | F64: ='FULL Special Ability List'!F121 -> "Insider" | G64: ='FULL Special Ability List'!G121 -> インコースに投げたときにコントロールが良くなる
A65: ='FULL Special Ability List'!A122 -> ナチュラルシュート | B65: ='FULL Special Ability List'!B122 -> なちゅらるしゅーと (nachuraru shūto) | C65: ='FULL Special Ability List'!C122 -> "Natural Shuuto" | D65: ='FULL Special Ability List'!D122 -> When throwing a fastball, there will always be a "shuuto" spin (arm-side run) | E65: ='FULL Special Ability List'!E122 -> 常にストレートが微妙にシュート変化する | F65: ='FULL Special Ability List'!F122 | G65: ='FULL Special Ability List'!G122 -> 常にストレートが微妙にシュート変化する
A66: ='FULL Special Ability List'!A123 -> 逃げ球 | B66: ='FULL Special Ability List'!B123 -> にげきゅう (nige kyū) | C66: ='FULL Special Ability List'!C123 -> Literally: "Escape Ball" Localization: "Escape Pitch" | D66: ='FULL Special Ability List'!D123 -> Becomes unlikely (5% chance) for a mistake pitch to land in the middle of the strikezone | E66: ='FULL Special Ability List'!E123 -> ピッチャーのすっぽ抜けたボールがど真ん中にいきにくくなる | F66: ='FULL Special Ability List'!F123 -> "Trusty" | G66: ='FULL Special Ability List'!G123 -> ピッチャーのすっぽ抜けたボールがど真ん中にいきにくくなる
A67: ='FULL Special Ability List'!A124 -> 低め◯ | B67: ='FULL Special Ability List'!B124 -> ひくめ (hikume) | C67: ='FULL Special Ability List'!C124 -> "Low Ball" | D67: ='FULL Special Ability List'!D124 -> Control of pitches low in the zone is improved | E67: ='FULL Special Ability List'!E124 -> 低めへのコントロールが良くなる。 | F67: ='FULL Special Ability List'!F124 -> "Low Ball" | G67: ='FULL Special Ability List'!G124 -> 低めへのコントロールが良くなる。
A68: ='FULL Special Ability List'!A129 -> 真っスラ | B68: ='FULL Special Ability List'!B129 -> まっすら (massura) | C68: ='FULL Special Ability List'!C129 -> Literally: "True Slider" Localization: "Natural Slider" | D68: ='FULL Special Ability List'!D129 -> When throwing a fastball, there will always be a "slider" spin (glove-side run) | E68: ='FULL Special Ability List'!E129 -> ＜まっすら＞と読む。ストレートを投げると自然に利き手と反対方向に曲がる球種のこと | F68: ='FULL Special Ability List'!F129 | G68: ='FULL Special Ability List'!G129 -> ストレートを投げると自然に利き手と反対方向に曲がる球種のこと
A69: ='FULL Special Ability List'!A131 -> 要所◯ | B69: ='FULL Special Ability List'!B131 -> ようしょ (yōsho) | C69: ='FULL Special Ability List'!C131 -> Literally: "Important Point," "Main Point," or "Stretegic Point" Localization: "Decisive" | D69: ='FULL Special Ability List'!D131 -> When the pitcher's team is leading late in the game and there is a runner on base who would, upon scoring, tie the game or give the other team the lead... Top Speed: +2 Control: +5 | E69: ='FULL Special Ability List'!E131 -> 試合終盤でリードしており、走者が生還すると同点か逆転の場面で、球速+2km/h、コントロール+5 | F69: ='FULL Special Ability List'!F131 -> "Clincher" | G69: ='FULL Special Ability List'!G131 -> 勝利のかかった大事な場面でピッチャーの能力が上がる
A70: ='FULL Special Ability List'!A132 -> リリース◯ | B70: ='FULL Special Ability List'!B132 -> りりーす (rirīsu) | C70: ='FULL Special Ability List'!C132 -> Literally: "Release" Localization: "Repeatable Motion" | D70: ='FULL Special Ability List'!D132 -> Pitching motion for fastballs and breaking pitches is consistent | E70: ='FULL Special Ability List'!E132 -> ストレートと変化球の投球モーションが同じになる。 | F70: ='FULL Special Ability List'!F132 -> "Handler" | G70: ='FULL Special Ability List'!G132 -> ストレートと変化球の投球モーションが同じになる
A71: ='FULL Special Ability List'!A134 -> (チーム)キラー | B71: ='FULL Special Ability List'!B134 -> (ちーむ)きらー ([chīmu] kirā) | C71: ='FULL Special Ability List'!C134 -> "(Team) Killer" | D71: ='FULL Special Ability List'!D134 -> When pitching against the team in parentheses, opponent batters are affected by... Contact: -10 Power: -5 [Pennant / MyLife Ability] | E71: ='FULL Special Ability List'!E134 -> カッコ内に記載されたチームとの対戦時に、相手打者のミート-10、パワー-5 | F71: ='FULL Special Ability List'!F134 | G71: ='FULL Special Ability List'!G134 -> カッコ内に記載されたチームとの対戦時に、相手打者のミート-10、パワー-5
A72: ='FULL Special Ability List'!A135 | B72: ='FULL Special Ability List'!B135 | C72: ='FULL Special Ability List'!C135 | D72: ='FULL Special Ability List'!D135 | E72: ='FULL Special Ability List'!E135 | F72: ='FULL Special Ability List'!F135 | G72: ='FULL Special Ability List'!G135
A73: Pitcher Ranked Abilities (A - G)
A74: ='FULL Special Ability List'!A137 | B74: ='FULL Special Ability List'!B137 | C74: ='FULL Special Ability List'!C137 | D74: ='FULL Special Ability List'!D137 | E74: ='FULL Special Ability List'!E137 | F74: ='FULL Special Ability List'!F137 | G74: ='FULL Special Ability List'!G137
A75: ='FULL Special Ability List'!A138 -> 打たれ強さ | B75: ='FULL Special Ability List'!B138 -> うたれつよさ (utare tsuyosa) | C75: ='FULL Special Ability List'!C138 -> Literally: "Resiliency From Hits" Localization: "Poise" | D75: ='FULL Special Ability List'!D138 -> Determines how likely a pitcher is to get rattled [A is lowest chance, G is highest chance] | E75: ='FULL Special Ability List'!E138 -> 打たれたときに動揺しにくいかどうか、A~Gまでの7段階ある。 | F75: ='FULL Special Ability List'!F138 -> "Poise" | G75: ='FULL Special Ability List'!G138 -> 打たれたときに動揺しにくいかどうか、A~Gまでの7段階ある。
A76: ='FULL Special Ability List'!A139 -> 回復 | B76: ='FULL Special Ability List'!B139 -> かいふく (kaifuku) | C76: ='FULL Special Ability List'!C139 -> "Recovery" | D76: ='FULL Special Ability List'!D139 -> Determines how quickly a pitcher recovers stamina after an appearnace [A is quickest, G is slowest] [Pennant / MyLife Ability] | E76: ='FULL Special Ability List'!E139 -> 疲れがとれやすいかどうか、A〜Gまでの7段階ある | F76: ='FULL Special Ability List'!F139 -> "Recovery" | G76: ='FULL Special Ability List'!G139 -> 疲れがとれやすいかどうか、A〜Gまでの7段階ある
A77: ='FULL Special Ability List'!A140 -> クイック | B77: ='FULL Special Ability List'!B140 -> くいっく (kuikku) | C77: ='FULL Special Ability List'!C140 -> Literally: "Quick" Localization: "Quickness" | D77: ='FULL Special Ability List'!D140 -> Determines the speed of a pitcher's delivery [A is quickest, G is slowest] | E77: ='FULL Special Ability List'!E140 -> クイックがうまく盗塁がされにくいかどうか、A〜Gの7段階ある | F77: ='FULL Special Ability List'!F140 -> "Agile" | G77: ='FULL Special Ability List'!G140 -> クイックがうまく盗塁がされにくいかどうか、A〜Gの7段階ある
A78: ='FULL Special Ability List'!A141 -> 対左打者 | B78: ='FULL Special Ability List'!B141 -> たいひだりだしゃ (tai hidari dasha) | C78: ='FULL Special Ability List'!C141 -> "vs. Lefty Batter" | D78: ='FULL Special Ability List'!D141 -> When facing a left-handed batter... A: Top Speed +3 km/h, Control +6, Stamina Consumption -6 B: Top Speed +2 km/h, Control +5, Stamina Consumption -5 C: Top Speed +1 km/h, Control +2, Stamina Consumption -2 D: Neutral E: Top Speed -1 km/h, Control -2, Stamina Consumption +2 F: Top Speed -2 km/h, Control -5, Stamina Consumption +5 G: Top Speed -3 km/h, Control -6, Stamina Consumption +6 | E78: ='FULL Special Ability List'!E141 -> 左のバッターに対して強いかどうか、A〜Gまでの7段階ある | F78: ='FULL Special Ability List'!F141 -> "vs. LHB" | G78: ='FULL Special Ability List'!G141 -> 左のバッターに対して強いかどうか、A〜Gまでの7段階ある
A79: ='FULL Special Ability List'!A142 -> 対ピンチ | B79: ='FULL Special Ability List'!B142 -> たいぴんち (tai pinchi) | C79: ='FULL Special Ability List'!C142 -> Literally: "Against a Tough Spot" Localization: "vs. RISP" | D79: ='FULL Special Ability List'!D142 -> When runners are in scoring position... A: Top Speed + 2 km/h, Breaking Balls +2 Levels B: Top Speed +1 km/h, Breaking Balls +1 Level C: Top Speed +1 km/h D: Neutral E: Top Speed -1 km/h F: Top Speed -1 km/h, Breaking Balls -1 Level G: Top Speed -2 km/h, Breaking Balls -2 Levels | E79: ='FULL Special Ability List'!E142 -> 得点圏にランナーがいるときに強いかどうか、A〜Gまでの7段階ある | F79: ='FULL Special Ability List'!F142 -> "vs. RISP" | G79: ='FULL Special Ability List'!G142 -> 得点圏にランナーがいるときに強いかどうか、A〜Gまでの7段階ある
A80: ='FULL Special Ability List'!A143 -> ノビ | B80: ='FULL Special Ability List'!B143 -> のび (nobi) | C80: ='FULL Special Ability List'!C143 -> Literally: "Stretching" Baseball Specific Meaning: "High Spin Rate Fastball Which Appears Faster Than It Truly Is" Localization: "Fastball Spin Rate" | D80: ='FULL Special Ability List'!D143 -> Determines the speed at which the pitcher's fastball appears to be [A is fastest, G is slowest] | E80: ='FULL Special Ability List'!E143 -> ストレートのノビが良いかどうか、A〜Gまでの7段階ある | F80: ='FULL Special Ability List'!F143 -> "Heater" | G80: ='FULL Special Ability List'!G143 -> ストレートのノビが良いかどうか、A〜Gまでの7段階ある
A82: Pitcher Red Abilities
A84: ='FULL Special Ability List'!A213 -> 一発 | B84: ='FULL Special Ability List'!B213 -> いっぱつ (ippatsu) | C84: ='FULL Special Ability List'!C213 -> Literally: "Shot," or "Punch" Baseball Specific Meaning: "Home Run" Localization: "Unlucky Pitch" | D84: ='FULL Special Ability List'!D213 -> Mistake pitches are more likely to land in the middle of the strike zone (20% chance) | E84: ='FULL Special Ability List'!E213 -> 失投時にど真ん中にいく確率が上がる | F84: ='FULL Special Ability List'!F213 -> "Meatball" | G84: ='FULL Special Ability List'!G213 -> ピッチャーのすっぽ抜けたボールがど真ん中にいきやすくなる
A85: ='FULL Special Ability List'!A214 -> ガラスのハート | B85: ='FULL Special Ability List'!B214 -> がらすのはーと (garasu-no-hāto) | C85: ='FULL Special Ability List'!C214 -> "Glass Heart" | D85: ='FULL Special Ability List'!D214 -> Very easy to become rattled | E85: ='FULL Special Ability List'!E214 -> 打たれるとものすごく動揺しやすくなる | F85: ='FULL Special Ability List'!F214 | G85: ='FULL Special Ability List'!G214 -> 打たれるとものすごく動揺しやすくなる
A86: ='FULL Special Ability List'!A215 -> 軽い球 | B86: ='FULL Special Ability List'!B215 -> かるいきゅう (karui kyū) | C86: ='FULL Special Ability List'!C215 -> "Light Ball" | D86: ='FULL Special Ability List'!D215 -> Batted balls are more likely to fly | E86: ='FULL Special Ability List'!E215 -> 打たれると打球が飛びやすくなる | F86: ='FULL Special Ability List'!F215 -> "Airball" | G86: ='FULL Special Ability List'!G215 -> 打たれると打球が飛びやすくなる
A87: ='FULL Special Ability List'!A216 -> 四球 | B87: ='FULL Special Ability List'!B216 -> しきゅう (shikyu) | C87: ='FULL Special Ability List'!C216 -> Literally: "Four Balls" Localization: "Walk" | D87: ='FULL Special Ability List'!D216 -> When there are three balls in the count to the current batter... Control: -20 | E87: ='FULL Special Ability List'!E216 -> 3ボールになると、コントロール-20 | F87: ='FULL Special Ability List'!F216 -> "Walker" | G87: ='FULL Special Ability List'!G216 -> フォアボールを与えやすくなる
A88: ='FULL Special Ability List'!A217 -> スロースターター | B88: ='FULL Special Ability List'!B217 -> すろーすたーたー (surō sutātā) | C88: ='FULL Special Ability List'!C217 -> "Slow Starter" | D88: ='FULL Special Ability List'!D217 -> In the 1st inning... Top Speed: -4 km/h Control: -13 Breaking Ball Levels: -2 In the 2nd inning... Top Speed: -2 km/h Control: -7 Breaking Ball Levels: -1 | E88: ='FULL Special Ability List'!E217 -> 先発時の1回は球速-4km/h、コントロール-13、変化量-2。2回は球速-2km/h、コントロール-7、変化量-1 | F88: ='FULL Special Ability List'!F217 | G88: ='FULL Special Ability List'!G217 -> 試合序盤の立ち上がりが悪くなる
A89: ='FULL Special Ability List'!A218 -> 寸前 | B89: ='FULL Special Ability List'!B218 -> すんぜん (sunzen) | C89: ='FULL Special Ability List'!C218 -> Literally: "On the Verge of" Localization: "Poor Finisher" | D89: ='FULL Special Ability List'!D218 -> In the 5th and/or 9th inning if the pitcher's team is leading... Top Speed: -2 km/h Control: -10 | E89: ='FULL Special Ability List'!E218 -> 最終回または先発時の5回でリードしていると、球速-2km/h、コントロール-10 | F89: ='FULL Special Ability List'!F218 -> "Choker" | G89: ='FULL Special Ability List'!G218 -> 勝利目前で能力が下がる
A90: ='FULL Special Ability List'!A219 -> 対ランナー | B90: ='FULL Special Ability List'!B219 -> たいらんなー (tai rannā) | C90: ='FULL Special Ability List'!C219 -> Literally: "vs. Runner" Localization: "Frozen" | D90: ='FULL Special Ability List'!D219 -> When there are runners on first or first and third... Control: -5 Stamina Consumption Increased | E90: ='FULL Special Ability List'!E219 -> ランナーが一塁、または一・三塁にいるときにピッチャーの能力が下がる | F90: ='FULL Special Ability List'!F219 -> "vs. Runner" | G90: ='FULL Special Ability List'!G219 -> ランナーが一塁、または一・三塁にいるときにピッチャーの能力が下がる
A91: ='FULL Special Ability List'!A220 -> 短気 | B91: ='FULL Special Ability List'!B220 -> たんき (tanki) | C91: ='FULL Special Ability List'!C220 -> Literally: "Short Temper" Localization: "Hot Head" | D91: ='FULL Special Ability List'!D220 -> Very easy to become rattled AND angry. After letting up multiple hits in quick succession... Control: -10 | E91: ='FULL Special Ability List'!E220 -> 動揺状態になったとき、コントロール-10 | F91: ='FULL Special Ability List'!F220 -> "Hot Head" | G91: ='FULL Special Ability List'!G220 -> 打ち込まれると怒り出しコントロールが悪くなり失投が増える
A92: ='FULL Special Ability List'!A221 -> 抜け球 | B92: ='FULL Special Ability List'!B221 -> ぬけきゅう (nuke kyū) | C92: ='FULL Special Ability List'!C221 -> Literally: "Slipped Ball" Localization: "Shoot-o" | D92: ='FULL Special Ability List'!D221 -> Fastballs will occasionally spin towards the pitcher's arm side *Formerly known as シュート回転 (Shuuto Spin) | E92: ='FULL Special Ability List'!E221 -> ストレートがときどきシュート方向に曲がる | F92: ='FULL Special Ability List'!F221 | G92: ='FULL Special Ability List'!G221 -> ストレートがときどきシュート方向高めに抜ける
A93: ='FULL Special Ability List'!A222 -> ノミの心臓 | B93: ='FULL Special Ability List'!B222 -> のみのしんぞう (nomi-no-shinzō) | C93: ='FULL Special Ability List'!C222 -> Literally: "Flea Heart" Idiomatic Translation: "Chicken Hearted" Localization: "Cowardly" | D93: ='FULL Special Ability List'!D222 -> With runners in scoring position... Breaking Ball Levels: -3 | E93: ='FULL Special Ability List'!E222 -> 得点圏に走者がいるとき、変化量-3 | F93: ='FULL Special Ability List'!F222 | G93: ='FULL Special Ability List'!G222 -> 得点圏にランナーがいると能力がものすごく下がる
A94: ='FULL Special Ability List'!A224 -> 負け運 | B94: ='FULL Special Ability List'!B224 -> まけうん (make un) | C94: ='FULL Special Ability List'!C224 -> "Loser's Luck" | D94: ='FULL Special Ability List'!D224 -> When actively pitching, pitcher's team's lineup will be affected by... Contact: -5 Power: -5 | E94: ='FULL Special Ability List'!E224 -> 登板中、味方打者のパワー-5 | F94: ='FULL Special Ability List'!F224 -> "Unlucky" | G94: ='FULL Special Ability List'!G224 -> 登板するとチームに負けを呼び込みやすくなる
A95: ='FULL Special Ability List'!A225 -> 乱調 | B95: ='FULL Special Ability List'!B225 -> らんちょう (ranchō) | C95: ='FULL Special Ability List'!C225 -> "Confusion" | D95: ='FULL Special Ability List'!D225 -> If the starting pitcher, sometimes randomly start an inning (after the 3rd inning) with... Control: -20 *Starters only | E95: ='FULL Special Ability List'!E225 -> 先発登板での3回以降のイニング開始時、確率でコントロール-20 | F95: ='FULL Special Ability List'!F225 | G95: ='FULL Special Ability List'!G225 -> 先発した時、イニングによってコントロールが下がる時がある
A97: Neutral Abilities (Red/Blue)
A99: ='FULL Special Ability List'!A238 -> 荒れ球 | B99: ='FULL Special Ability List'!B238 -> あれきゅう (are kyū) | C99: ='FULL Special Ability List'!C238 -> Literally: "Wild Ball" Localization: "Wild Fastball" | D99: ='FULL Special Ability List'!D238 -> When throwing a fastball... ノビ Increased Control: -20 | E99: ='FULL Special Ability List'!E238 -> ストレートのブレ幅が通常より大きく、ノビが少しつく | F99: ='FULL Special Ability List'!F238 | G99: ='FULL Special Ability List'!G238 -> ストレートのブレ幅が通常より大きく、ノビが少しつく
A100: ='FULL Special Ability List'!A239 -> ゴロピッチャー | B100: ='FULL Special Ability List'!B239 -> ごろぴっちゃー (goro picchā) | C100: ='FULL Special Ability List'!C239 -> "Groundball Pitcher" | D100: ='FULL Special Ability List'!D239 -> All batters faced with be affected by... Trajectory: -0.5 | E100: ='FULL Special Ability List'!E239 -> 相手バッターの弾道がやや下がる | F100: ='FULL Special Ability List'!F239 | G100: ='FULL Special Ability List'!G239 -> 相手バッターの弾道がやや下がる
A101: ='FULL Special Ability List'!A240 -> 全開 | B101: ='FULL Special Ability List'!B240 -> ぜんかい (zenkai) | C101: ='FULL Special Ability List'!C240 -> "Full Throttle" | D101: ='FULL Special Ability List'!D240 -> With runners in scoring position and stamina ≥50%... Pitches Become Heavier ノビ Increases Stamina Consumption Increased | E101: ='FULL Special Ability List'!E240 -> 得点圏に走者がいてスタミナ残量が約半分以上のとき、球質が重くなりノビがよくなりスタミナ消費量が増える | F101: ='FULL Special Ability List'!F240 | G101: ='FULL Special Ability List'!G240 -> ピンチでスタミナ消費が増えるが、能力も上がる
A102: ='FULL Special Ability List'!A241 -> 力配分 | B102: ='FULL Special Ability List'!B241 -> ちからはいぶん (chikara haibun) | C102: ='FULL Special Ability List'!C241 -> "Strength Distribution" | D102: ='FULL Special Ability List'!D241 -> When facing a batter with ≤E power or a batter with ≤F power and runners in scoring position... Top Speed: -2 km/h Breaking Ball Levels: -1 Stamina Consumption Decreased | E102: ='FULL Special Ability List'!E241 -> パワーE以下の打者か、得点圏に走者が存在してパワーF以下の打者が相手のとき、球速-2km/h、変化量-1、スタミナ消費量増 | F102: ='FULL Special Ability List'!F241 -> "Downplay" | G102: ='FULL Special Ability List'!G241 -> 弱い相手に対して手を抜く
A103: ='FULL Special Ability List'!A242 -> フライボールピッチャー | B103: ='FULL Special Ability List'!B242 -> ふらいぼーるぴっちゃー (furaibōru picchā) | C103: ='FULL Special Ability List'!C242 -> "Flyball Pitcher" | D103: ='FULL Special Ability List'!D242 -> All batters faced with be affected by... Trajectory: +0.5 | E103: ='FULL Special Ability List'!E242 -> 相手バッターの弾道がやや上がる | F103: ='FULL Special Ability List'!F242 | G103: ='FULL Special Ability List'!G242 -> 相手バッターの弾道がやや上がる
A104: ='FULL Special Ability List'!A243 -> ポーカーフェイス | B104: ='FULL Special Ability List'!B243 -> ぽーかーふぇいす (pōkā feisu) | C104: ='FULL Special Ability List'!C243 -> "Poker Face" | D104: ='FULL Special Ability List'!D243 -> Pitcher will show no signs of fatigue or rattling *Cannot be paired with 闘志 (Fighting Spirit) ability | E104: ='FULL Special Ability List'!E243 -> 疲れや動揺が表情に出なくなる。闘志とは一緒につけられない | F104: ='FULL Special Ability List'!F243 -> "Bluffer" | G104: ='FULL Special Ability List'!G243 -> 疲れや動揺が表情に出なくなる。闘志とは一緒につけられない
A106: Green (and Miscellaneous) Special Abilities (from seesaawiki)
A108: ='FULL Special Ability List'!A255 -> 速球中心 | B108: ='FULL Special Ability List'!B255 -> そうきゅうちゅうしん (sōkyū chūshin) | C108: ='FULL Special Ability List'!C255 -> "Fastball-Oriented" | D108: ='FULL Special Ability List'!D255 -> Pitcher prefers to throw fastballs when controlled by the CPU | E108: ='FULL Special Ability List'!E255 -> ストレート系を中心に投げる | F108: ='FULL Special Ability List'!F255 -> "Power P" | G108: ='FULL Special Ability List'!G255 -> ストレート系を中心に投げる
A109: ='FULL Special Ability List'!A256 -> チームプレイ〇 | B109: ='FULL Special Ability List'!B256 -> ちーむぷれい (chīmu purei) | C109: ='FULL Special Ability List'!C256 -> "Good Team Player" | D109: ='FULL Special Ability List'!D256 -> Player drops sacrifice bunts more often | E109: ='FULL Special Ability List'!E256 -> 犠打狙いが多くなる | F109: ='FULL Special Ability List'!F256 -> "Selfless" | G109: ='FULL Special Ability List'!G256 -> 犠打狙いが多くなる
A110: ='FULL Special Ability List'!A257 -> チームプレイx | B110: ='FULL Special Ability List'!B257 -> ちーむぷれい (chīmu purei) | C110: ='FULL Special Ability List'!C257 -> "Bad Team Player" | D110: ='FULL Special Ability List'!D257 -> Player drops sacrifice bunts less often | E110: ='FULL Special Ability List'!E257 -> 犠打狙いが少なくなる | F110: ='FULL Special Ability List'!F257 -> "Selfish" | G110: ='FULL Special Ability List'!G257 -> 犠打狙いが少なくなる
A111: ='FULL Special Ability List'!A258 -> 調子安定 | B111: ='FULL Special Ability List'!B258 -> ちょうしあんてい (chōshi antei) | C111: ='FULL Special Ability List'!C258 -> "Stable Condition" | D111: ='FULL Special Ability List'!D258 -> Player's abilities are not affected heavily by their mood | E111: ='FULL Special Ability List'!E258 -> 調子が不調、絶不調でもあまり影響を受けない | F111: ='FULL Special Ability List'!F258 -> Chill (Pitcher) / Level-Headed (Fielder) | G111: ='FULL Special Ability List'!G258 -> 調子が不調、絶不調でもあまり影響を受けない
A112: ='FULL Special Ability List'!A259 -> 調子極端 | B112: ='FULL Special Ability List'!B259 -> ちょうしきょくたん (chōshi kyokutan) | C112: ='FULL Special Ability List'!C259 -> "Extreme Condition" | D112: ='FULL Special Ability List'!D259 -> Player's abilities are heavily affected by their mood | E112: ='FULL Special Ability List'!E259 -> 調子が好調以上または不調以下のときの影響が大きい | F112: ='FULL Special Ability List'!F259 -> Moody (Pitcher) / Mood Swinger (Fielder) | G112: ='FULL Special Ability List'!G259 -> 調子が好調以上または不調以下のときの影響が大きい
A113: ='FULL Special Ability List'!A260 -> テンポ〇 | B113: ='FULL Special Ability List'!B260 -> てんぽ (tenpo) | C113: ='FULL Special Ability List'!C260 -> "Good Tempo" | D113: ='FULL Special Ability List'!D260 -> Pitcher throws at a good pace | E113: ='FULL Special Ability List'!E260 -> テンポよく投げる | F113: ='FULL Special Ability List'!F260 -> "Pace" | G113: ='FULL Special Ability List'!G260 -> テンポよく投げる
A114: ='FULL Special Ability List'!A261 -> 投手位置左 | B114: ='FULL Special Ability List'!B261 -> とうしゅいちひだり (tōshu ichi hidari) | C114: ='FULL Special Ability List'!C261 -> "Pitcher Position Left" | D114: ='FULL Special Ability List'!D261 -> Pitcher stands on the left side of the mound (Batter's POV) | E114: ='FULL Special Ability List'!E261 -> 打者から見て左側（三塁）に立つ | F114: ='FULL Special Ability List'!F261 | G114: ='FULL Special Ability List'!G261 -> プレートの左端に立つ
A115: ='FULL Special Ability List'!A262 -> 投手位置右 | B115: ='FULL Special Ability List'!B262 -> とうしゅいちみぎ (tōshu ichi migi) | C115: ='FULL Special Ability List'!C262 -> "Pitcher Position Right" | D115: ='FULL Special Ability List'!D262 -> Pitcher stands on the right side of the mound (Batter's POV) | E115: ='FULL Special Ability List'!E262 -> 打者から見て左側（一塁）に立つ | F115: ='FULL Special Ability List'!F262 | G115: ='FULL Special Ability List'!G262 -> プレートの右端に立つ
A116: ='FULL Special Ability List'!A265 -> 変化球中心 | B116: ='FULL Special Ability List'!B265 -> へんかきゅうちゅうしん (henkakyū chūshin) | C116: ='FULL Special Ability List'!C265 -> "Breaking Ball-Oriented" | D116: ='FULL Special Ability List'!D265 -> Pitcher prefers to throw breaking balls when controlled by the CPU | E116: ='FULL Special Ability List'!E265 -> 変化球を中心に投げる | F116: ='FULL Special Ability List'!F265 -> "Breaking Ball P" | G116: ='FULL Special Ability List'!G265 -> 変化球を中心に投げる
...

Sheet Fielder Special Ability List
A1: パワフルプロ野球2024-2025 Fielder Special Ability List (Translated to English by tweav) Presented in Japanese Syllabary Order (五十音順) Ability Descriptions / Numerical Data from: game8 OB Ability Information from: seesaawiki WBSC Localizations from: Zumikaku
H2: Copy code: " = 'FULL Ability List'! [Cell letter/Number]"
A9: Ability Name (Japanese) | B9: Ability Name (Hiragana + Romaji) | C9: Ability Name (English) | D9: Description (English) | E9: Description (Japanese) | F9: WBSC English Localization | G9: In-Game Description (Japanese)
A11: Catcher Exclusive Gold Abilities
A13: 球界の頭脳 Gold キャッチャー (Catcher) | B13: ='FULL Special Ability List'!B46 -> きゅうかいのずのう (kyūkai-no-zunō) | C13: ='FULL Special Ability List'!C46 -> Literally: "Understanding of the Baseball World" Localization: "The Almanac" | D13: ='FULL Special Ability List'!D46 -> When behind the plate... Pitcher's Contol: +15 Stamina Consumption Decreased and if the pithcer has a poor mood (blue/purple)... Top Speed: +2 km/h | E13: ='FULL Special Ability List'!E46 -> 味方投手のコントロール+15、消費スタミナ-11。味方投手が不調または絶不調の場合、球速+2km/h | F13: ='FULL Special Ability List'!F46 | G13: ='FULL Special Ability List'!G46 -> ピッチャーの能力をものすごくうまく引き出せる
A14: ささやき戦術 | B14: ='FULL Special Ability List'!B47 -> ささやきせんじゅつ (sasayaki senjutsu) | C14: ='FULL Special Ability List'!C47 -> Literally: "Whispeing Tactics" Localization: "Trash Talk" | D14: ='FULL Special Ability List'!D47 -> When the opposing team has runners in scoring position... active batter suffers from... Contact: -5 Power: -5 | E14: ='FULL Special Ability List'!E47 -> 捕手のときに得点圏に走者がいると、相手打者のミート-5、パワー-5 | F14: ='FULL Special Ability List'!F47 -> "Heckler" | G14: ='FULL Special Ability List'!G47 -> 打者にささやいてまどわす
A15: 鉄の壁 Gold ホーム死守 (Home Defense) | B15: ='FULL Special Ability List'!B48 -> てつのかべ (tetsu-no-kabe) | C15: ='FULL Special Ability List'!C48 -> "Iron Wall" | D15: ='FULL Special Ability List'!D48 -> The catcher shall not be moved *Significantly lowers the chances of ホーム突入 (Storming Home) and 重戦車 (Heavy Tank) abilities from activating | E15: ='FULL Special Ability List'!E48 -> 捕手のとき、本塁クロスプレイの際に走者の「ホーム突入」「重戦車」の発動確率をかなり下げる | F15: ='FULL Special Ability List'!F48 | G15: ='FULL Special Ability List'!G48 -> 確実なタッチでランナーの生還を阻止する
A16: バズーカ送球 | B16: ='FULL Special Ability List'!B49 -> ばずーかそうきゅう (bazūka sōkyū) | C16: ='FULL Special Ability List'!C49 -> Literally: "Bazooka Throw" Localizaiton: "Bazooka Arm" | D16: ='FULL Special Ability List'!D49 -> Catcher pop time is greatly decreased when throwing down to prevent a stolen base | E16: ='FULL Special Ability List'!E49 -> 盗塁阻止時の送球がものすごく鋭くなる | F16: ='FULL Special Ability List'!F49 | G16: ='FULL Special Ability List'!G49 -> 盗塁阻止時の送球がものすごく鋭くなる
A17: ='FULL Special Ability List'!A50 | B17: ='FULL Special Ability List'!B50 | C17: ='FULL Special Ability List'!C50 | D17: ='FULL Special Ability List'!D50 | E17: ='FULL Special Ability List'!E50 | F17: ='FULL Special Ability List'!F50 | G17: ='FULL Special Ability List'!G50
A18: Fielder Gold Abilities
A19: ='FULL Special Ability List'!A52 | B19: ='FULL Special Ability List'!B52 | C19: ='FULL Special Ability List'!C52 | D19: ='FULL Special Ability List'!D52 | E19: ='FULL Special Ability List'!E52 | F19: ='FULL Special Ability List'!F52 | G19: ='FULL Special Ability List'!G52
A20: アーチスト Gold パワーヒッター (Power Hitter) | B20: ='FULL Special Ability List'!B53 -> あーちすと (āchisuto) | C20: ='FULL Special Ability List'!C53 -> "Artist" | D20: ='FULL Special Ability List'!D53 -> Homeruns are much easier to come by when using a power swing *Cannot be paired with ラインドライブ (Line Drive) Ability | E20: ='FULL Special Ability List'!E53 -> 強振して打つと、ホームラン性の打球がかなり出やすくなる。ラインドライブとは一緒につけられない | F20: ='FULL Special Ability List'!F53 -> "Homer" | G20: ='FULL Special Ability List'!G53 -> ホームラン性の打球がとても出やすくなる。ラインドライブとは一緒につけられない
A21: 安打製造機 Gold アべレージヒッター (Contact Hitter) | B21: ='FULL Special Ability List'!B54 -> あんだせいぞうき (anda seizōki) | C21: ='FULL Special Ability List'!C54 -> "Hit Machine" | D21: ='FULL Special Ability List'!D54 -> Strong contact is much easier to come by when using a contact swing | E21: ='FULL Special Ability List'!E54 -> ミート打ちのとき、ヒット性の打球がかなり出やすくなる。 | F21: ='FULL Special Ability List'!F54 -> "Surgical" | G21: ='FULL Special Ability List'!G54 -> ヒット性の打球がとても出やすくなる
A22: 一球入魂 Gold 初球 (First Pitch Hitter) | B22: ='FULL Special Ability List'!B55 -> いっきゅうにゅうこん (ikkyū nyūkon) | C22: ='FULL Special Ability List'!C55 -> Literally: "Putting One's Heart and Soul into Each Pitch" Localization: "First Pitch King" | D22: ='FULL Special Ability List'!D55 -> Prior to the first taken strike... Contact: +15 Power: +15 | E22: ='FULL Special Ability List'!E55 -> 1ストライクを取られるまで、ミート+15、パワー+15 | F22: ='FULL Special Ability List'!F55 -> "Zealous" | G22: ='FULL Special Ability List'!G55 -> 初球にとても強くなる
A23: エースキラー Gold 対エース (vs. Ace) | B23: ='FULL Special Ability List'!B57 -> えーすきらー (ēsu kirā) | C23: ='FULL Special Ability List'!C57 -> "Ace Killer" | D23: ='FULL Special Ability List'!D57 -> When facing an "Ace Level" pitcher... Contact: +15 Power: +15 | E23: ='FULL Special Ability List'!E57 -> エース級の投手との対戦時に、ミート+15、パワー+15 | F23: ='FULL Special Ability List'!F57 | G23: ='FULL Special Ability List'!G57 -> エース級のピッチャーと対戦したときに能力がすごく上がる
A24: 大番狂わせ Gold 意外性 (Unpredictable) | B24: ='FULL Special Ability List'!B58 -> おおばんくるわせ (ōbankuruwase) | C24: ='FULL Special Ability List'!C58 -> Literally: "Stunning Upset" Localization: "Surprise!" | D24: ='FULL Special Ability List'!D58 -> If originally in the starting lineup... and it is either tied after the 5th inning or their team is tied or losing in the "late innings"... the batter's power becomes S (does not activate if their power is already at S) | E24: ='FULL Special Ability List'!E58 -> スタメン出場し、5回以降で同点か試合終盤で負けているか同点だと、走者がいるときにパワーがSになる（もとがSだと変化なし） | F24: ='FULL Special Ability List'!F58 -> "Stunner" | G24: ='FULL Special Ability List'!G58 -> ある条件で大番狂わせを起こすことがある
A25: 外角必打 Gold アウトコースヒッター (Outside Hitter) | B25: ='FULL Special Ability List'!B59 -> がいかくひつだ (gaikaku hitsuda) | C25: Literally: "Outside Corner Certain Hit" Localization: "Art Brut" | D25: ='FULL Special Ability List'!D59 -> Making solid contact on pitches on the outside edge of the zone becomes much easier *Cannot be paired with インコースヒッター (Inside Hitter) or 内角必打 (Inner Artist) | E25: ='FULL Special Ability List'!E59 -> アウトコースのボールを打つのがすごく得意になる。インコースヒッター、内角必打とは一緒につけられない。 | F25: ='FULL Special Ability List'!F59 | G25: ='FULL Special Ability List'!G59 -> アウトコースのボールを打つのがすごく得意になる。インコースヒッター、内角必打、とは一緒につけられない
A26: 火事場の馬鹿力 Gold 逆境 (Resilient) | B26: ='FULL Special Ability List'!B60 -> かじばのばかぢから (kajiba-no-bakadjikara) | C26: ='FULL Special Ability List'!C60 -> Literally: "Animal Power at the Scene of a Fire" Colloquially: "Stupid Power of the Fireplace" Idiomatic Translation: "Fight-or-Flight Response" Localization: "Fight-or-Flight" | D26: ='FULL Special Ability List'!D60 -> If the batter's team is trailing after the 7th inning... Contact: +20 Power: +20 | E26: ='FULL Special Ability List'!E60 -> 試合終盤で負けているとき、ミート+20、パワー+20 | F26: ='FULL Special Ability List'!F60 | G26: ='FULL Special Ability List'!G60 -> 負けていると打力がすごく上がる
A27: 気迫ヘッド Gold ヘッドスライディング (Head-first Slide) | B27: ='FULL Special Ability List'!B61 -> きはくへっど (kihaku heddo) | C27: ='FULL Special Ability List'!C61 -> Literally: "Vigorous Head" or "Spirit Head" Localization: "Spirit Head" | D27: ='FULL Special Ability List'!D61 -> Will slide head-first into a base when the situation calls for it *(with extra spirit!) | E27: ='FULL Special Ability List'!E61 -> きわどいときにベースに頭からすべりこむ | F27: ='FULL Special Ability List'!F61 | G27: ='FULL Special Ability List'!G61 -> きわどいときにベースに頭からすべりこむ
A28: 逆襲 Gold リベンジ (Revenge) | B28: ='FULL Special Ability List'!B62 -> ぎゃくしゅう (gyakushū) | C28: ='FULL Special Ability List'!C62 -> "Counterattack" | D28: ='FULL Special Ability List'!D62 -> If a batter failed to record a hit in their previous at-bat and is facing the same pitcher... Contact: +10 Power: +5 | E28: ='FULL Special Ability List'!E62 -> 前の打席で抑えられた投手が相手のとき、ミート+10、パワー+5 | F28: ='FULL Special Ability List'!F62 | G28: ='FULL Special Ability List'!G62 -> 前の打席で抑えられていると、次の打席で打力がすごく上がる
A29: 恐怖の満塁男 Gold 満塁男 (Bases Loaded Slugger) | B29: ='FULL Special Ability List'!B63 -> きょうふのまんるいおとこ (kyōfu-no-manrui otoko) | C29: ='FULL Special Ability List'!C63 -> Literally: "Dreaded Bases Loaded Man" Localization: "Bases Loaded King" | D29: ='FULL Special Ability List'!D63 -> With bases loaded... Contact: +20 Power: +20 | E29: ='FULL Special Ability List'!E63 -> 満塁のとき、ミート+20、パワー+20 | F29: ='FULL Special Ability List'!F63 -> "Slammer" | G29: ='FULL Special Ability List'!G63 -> 満塁のチャンスで打力がものすごく上がる
A30: 切り込み隊長 Gold チャンスメーカー (Chance Maker) | B30: ='FULL Special Ability List'!B64 -> きりこみたいちょう (kirikomi taichō) | C30: ='FULL Special Ability List'!C64 -> Literally: "Shock Troop Commander" Localization: "Table Setter" | D30: ='FULL Special Ability List'!D64 -> With bases empty... Contact: +15 Power: +10 | E30: ='FULL Special Ability List'!E64 -> 走者がいないとき、ミート+15、パワー+10 | F30: ='FULL Special Ability List'!F64 -> "Builder" | G30: ='FULL Special Ability List'!G64 -> チャンスを作るのがものすごくうまい
A31: 芸術的流し打ち Gold 流し打ち (Push Hitter) | B31: ='FULL Special Ability List'!B65 -> げいじゅつてきながしうち (geijutsuteki nagashiuchi) | C31: ='FULL Special Ability List'!C65 -> Literally: "Artistically Hitting to the Opposite Field" Localization: "Pushy" | D31: ='FULL Special Ability List'!D65 -> Greatly raises the chance of making solid contact to the opposite field while also greatly lowering the chance of pushing a ball foul | E31: ='FULL Special Ability List'!E65 -> ミートで流し打ちをしたとき、打球がヒットになりやすい | F31: ='FULL Special Ability List'!F65 | G31: ='FULL Special Ability List'!G65 -> 流し打ちがものすごくうまくなる
A32: 広角砲 Gold 広角打法 (Spray Hitter) | B32: ='FULL Special Ability List'!B66 -> こうかくほう (kokaku hō) | C32: ='FULL Special Ability List'!C66 -> Literally: "Wide Angle Cannon" Localization: "Sprinkler" | D32: ='FULL Special Ability List'!D66 -> Can hit with power to the opposite field with extreme efficiency *Cannot be paired with Dead Pull (引っ張り屋) or Pull Hitter (プルヒッター) abilities | E32: ='FULL Special Ability List'!E66 -> 流し方向にものすごい強い打球が打てるようになる。プルヒッター、引っ張り屋とは一緒につけられない | F32: ='FULL Special Ability List'!F66 | G32: ='FULL Special Ability List'!G66 -> 流し方向にものすごい強い打球が打てるようになる。プルヒッター、引っ張り屋とは一緒につけられない
A33: 高球必打 Gold ハイボールヒッター (High Ball Hitter) | B33: ='FULL Special Ability List'!B67 -> こうきゅうひつだ (kōkyū hitsuda) | C33: Literally: "High Ball Certain Hit" Localization: "7 and 7" | D33: ='FULL Special Ability List'!D67 -> Making solid contact on pitches high in the zone becomes much easier *Cannot be paired with ローボールヒッター (Lowball Hitter) or 低球必打 (Old Fashioned) | E33: ='FULL Special Ability List'!E67 -> 高めのボールを打つのがすごく得意になる。ローボールヒッター、低球必打、とは一緒につけられない | F33: ='FULL Special Ability List'!F67 | G33: ='FULL Special Ability List'!G67 -> 高めのボールを打つのがすごく得意になる。ローボールヒッター、低球必打、とは一緒につけられない
A34: 高速ベースラン Gold 走塁 (Baserunning) | B34: ='FULL Special Ability List'!B68 -> こうそくべーすらん (kōsoku bēsuran) | C34: ='FULL Special Ability List'!C68 -> "Express Baserunning" | D34: ='FULL Special Ability List'!D68 -> When running the bases, top run speed is completely maintained. Also prevents head-first sliding into third base *Does not impact run speed when stealing bases | E34: ='FULL Special Ability List'!E68 -> 走塁時（盗塁は除く）の走力が大きく上がり、三塁到達時にヘッドスライディングをしない | F34: ='FULL Special Ability List'!F68 -> "Hustle" | G34: ='FULL Special Ability List'!G68 -> 走塁がものすごくうまい
A35: 高速レーザー Gold レーザービーム (Laser Beam) | B35: ='FULL Special Ability List'!B69 -> こうそくれーざー (kōsoku rēzā) | C35: ='FULL Special Ability List'!C69 -> "High-Speed Laser" | D35: ='FULL Special Ability List'!D69 -> The speed of an outfielder's throw back into the infield will be increased greatly and its trajectory low | E35: ='FULL Special Ability List'!E69 -> 外野守備時に、軌道が低く非常に速い送球をする | F35: ='FULL Special Ability List'!F69 | G35: ='FULL Special Ability List'!G69 -> 矢のような鋭い送球ができるようになる
A36: 渾身の決勝打 Gold 決勝打 (GWRBI) | B36: ='FULL Special Ability List'!B71 -> こんしんのけっしょうだ (konshin-no-kesshōda) | C36: ='FULL Special Ability List'!C71 -> Literally: "Putting All of One's Body into the Deciding Hit" Localization: "Late Night Hero" | D36: ='FULL Special Ability List'!D71 -> While batting after the 6th inning... if there is a runner on base that can score the go-ahead run... Contact: +12 | E36: ='FULL Special Ability List'!E71 -> 同点または負けているときの6回以降、塁上の走者が精悍すれば勝ち越しの場面でミート+12 | F36: ='FULL Special Ability List'!F71 | G36: ='FULL Special Ability List'!G71 -> 6回以降で勝ち越しのランナーがいると打力がすごく上がる
A37: 左腕キーラー Gold 対左投手 (vs. Lefty Pitcher) | B37: ='FULL Special Ability List'!B72 -> さわんきーらー (sawan kīrā) | C37: ='FULL Special Ability List'!C72 -> "Lefty Killer" | D37: ='FULL Special Ability List'!D72 -> When facing a left-handed pitcher... Contact: +20 Power: +15 | E37: ='FULL Special Ability List'!E72 -> 左投手が相手のとき、ミート+20、パワー+15 | F37: ='FULL Special Ability List'!F72 | G37: ='FULL Special Ability List'!G72 -> 左投手にものすごく強くなる
A38: 重戦車 Gold ホーム突入 ([Storming Home]) | B38: ='FULL Special Ability List'!B73 -> じゅうせんしゃ (jūsensha) | C38: ='FULL Special Ability List'!C73 -> "Heavy Tank" | D38: ='FULL Special Ability List'!D73 -> When running home... slide hard to try and make the catcher drop the ball | E38: ='FULL Special Ability List'!E73 -> 本塁への激しいスライディングで捕手の捕球ミスを狙う | F38: ='FULL Special Ability List'!F73 -> "Tanker" | G38: ='FULL Special Ability List'!G73 -> 本塁への激しいスライディングで捕手の捕球ミスを狙う
A39: 勝負師 Gold チャンス (Clutch) | B39: ='FULL Special Ability List'!B74 -> しょうぶし (shōbushi) | C39: ='FULL Special Ability List'!C74 -> "Gambler" | D39: ='FULL Special Ability List'!D74 -> While batting with runners in scoring position... Contact: +20 Power: +15 | E39: ='FULL Special Ability List'!E74 -> 得点圏に走者がいるとき、ミート+20、パワー+15 | F39: ='FULL Special Ability List'!F74 -> "Gambler" | G39: ='FULL Special Ability List'!G74 -> チャンスのときにものすごく打力が上がる
A40: ストライク送球 Gold 送球 (Throwing) | B40: ='FULL Special Ability List'!B75 -> すとらいくそうきゅう (sutoraiku sōkyū) | C40: ='FULL Special Ability List'!C75 -> "Strike Thrower" | D40: ='FULL Special Ability List'!D75 -> Throw the ball with extreme accuracy | E40: ='FULL Special Ability List'!E75 -> 送球がすごくそれにくくなる | F40: ='FULL Special Ability List'!F75 -> "Bullseye" | G40: ='FULL Special Ability List'!G75 -> 送球がすごくそれにくくなる
A41: 精神的支柱 Gold ムード◯ (Mood) | B41: ='FULL Special Ability List'!B76 -> せいしんてきしちゅう (seishinteki shichū) | C41: ='FULL Special Ability List'!C76 -> "Emotional Pillar" | D41: ='FULL Special Ability List'!D76 -> When in the lineup or on the bench... Team's Pitchers: +10 Control Team's Batters: +10 Contact, +5 Power | E41: ='FULL Special Ability List'!E76 -> 味方投手のコントロール+10、味方打者のミート+10、パワー+5 | F41: ='FULL Special Ability List'!F76 -> "Leader" | G41: ='FULL Special Ability List'!G76 -> 試合に出場するとチームメイト全員の能力がものすごく上がる
A42: 代打の神様 Gold 代打 (Pinch Hitter) | B42: ='FULL Special Ability List'!B80 -> だいだのかみさま (daida-no-kamisama) | C42: ='FULL Special Ability List'!C80 -> "God of Pinch Hitting" | D42: ='FULL Special Ability List'!D80 -> When pinch hitting... Contact: +25 Power: +20 | E42: ='FULL Special Ability List'!E80 -> 代打として打席に立ったとき、ミート+25、パワー+21 | F42: ='FULL Special Ability List'!F80 | G42: ='FULL Special Ability List'!G80 -> 代打のときに打力がものすごく上がる
A43: 低球必打 Gold ローボールヒッター (Low Ball Hitter) | B43: ='FULL Special Ability List'!B82 -> ていきゅうひつだ (teikyū hitsuda) | C43: Literally: "Low Ball Certain Hit" Localization: "Old Fashioned" | D43: ='FULL Special Ability List'!D82 -> Making solid contact on pitches on the lower edge of the zone becomes much easier *Cannot be paired with ハイボールヒッター (High Ball Hitter) or 高球必打 (7 and 7) | E43: ='FULL Special Ability List'!E82 -> 低めのボールを打つのがすごく得意になる。ハイボールヒッター、高球必打とは一緒につけられない | F43: ='FULL Special Ability List'!F82 | G43: ='FULL Special Ability List'!G82 -> 低めのボールを打つのがすごく得意になる。ハイボールヒッター、高球必打とは一緒につけられない
A44: 鉄人 Gold ケガしにくさ (Durability) | B44: ='FULL Special Ability List'!B83 -> てつじん (tetsujin) | C44: ='FULL Special Ability List'!C83 -> "Iron Man" | D44: ='FULL Special Ability List'!D83 -> Almost impossible to get injured [Pennant / MyLife Ability] | E44: ='FULL Special Ability List'!E83 -> ものすごくケガをしにくくなる | F44: ='FULL Special Ability List'!F83 | G44: ='FULL Special Ability List'!G83 -> ものすごくケガをしにくくなる
A45: 電光石火 Gold 盗塁 (Stealing) | B45: ='FULL Special Ability List'!B84 -> でんこうせっか (denkōsekka) | C45: ='FULL Special Ability List'!C84 -> "Lightning Speed" | D45: ='FULL Special Ability List'!D84 -> Run speed while stealing bases is greatly increased and while on base... Pitcher Control: -10 Stamina Consumption Increased | E45: ='FULL Special Ability List'!E84 -> 盗塁時の走力が大きく上がる。また塁上が一塁または一・三塁の状況で一塁走者のとき、相手投手のコントロール-10、スタミナ消費量増 | F45: ='FULL Special Ability List'!F84 | G45: ='FULL Special Ability List'!G84 -> 盗塁がものすごくうまくなってピッチャーに動揺を与える
A46: 伝説のサヨナラ男 Gold サヨナラ男 (Walkoff Hitter) | B46: ='FULL Special Ability List'!B85 -> でんせつのさよならおとこ (densetsu-no-sayonaru otoko) | C46: ='FULL Special Ability List'!C85 -> Literally: "Sayonara Man of Legend" Localization: "Legendary Walkoff Hitter" | D46: ='FULL Special Ability List'!D85 -> When in a walkoff situation... Contact: +20 Power: +20 | E46: ='FULL Special Ability List'!E85 -> サヨナラ勝利になる場面でミート+20、パワー+20 | F46: ='FULL Special Ability List'!F85 -> "Legend" | G46: ='FULL Special Ability List'!G85 -> サヨナラの場面で打力がものすごく上がる
A47: トリックスター Gold かく乱 (Disturbance) | B47: ='FULL Special Ability List'!B86 -> とりっくすたー (torikkusutā) | C47: ='FULL Special Ability List'!C86 -> "Trickster" | D47: ='FULL Special Ability List'!D86 -> When on base, put an extreme amount of pressure on the opposing pitcher and infielders Pitcher Stamina Consumption Increased Infield Defense Decreased *Can stack if more than one player with this ability is on base AND also cause the pitcher's control and breaking ball levels to decrease | E47: ='FULL Special Ability List'!E86 -> 出塁時、相手投手のスタミナ消費量が上がり、内野の守備力が下がる（塁上にこの能力を持つ走者が増えると効果が高まり、投手のコントロールと変化量も低下） | F47: ='FULL Special Ability List'!F86 -> "Joker" | G47: ='FULL Special Ability List'!G86 -> 出塁するとピッチャーにプレッシャーをものすごく与える
A48: 内角必打 Gold インコースヒッター (Inside Hitter) | B48: ='FULL Special Ability List'!B87 -> ないかくひつだ (naikaku hitsuda) | C48: ='FULL Special Ability List'!C87 -> Literally: "Inside Corner Certain Hit" Localization: "Inner Artist" | D48: ='FULL Special Ability List'!D87 -> Making solid contact on pitches on the inner edge of the zone becomes much easier *Cannot be paired with アウトコースヒッター (Outside Hitter) or 外角必打 (Art Brut) | E48: ='FULL Special Ability List'!E87 -> インコースのボールを打つのがすごく得意になる。アウトコースヒッター、外角必打とは一緒につけられない | F48: ='FULL Special Ability List'!F87 | G48: ='FULL Special Ability List'!G87 -> インコースのボールを打つのがすごく得意になる。アウトコースヒッター、外角必打とは一緒につけられない
A49: ヒートアップ Gold 窮地〇 (Predicament) | B49: ='FULL Special Ability List'!B89 -> ひーとあっぷ (hītoapu) | C49: ='FULL Special Ability List'!C89 -> "Heat Up" | D49: ='FULL Special Ability List'!D89 -> With each additional strike taken... Contact: +8 Power: +8 | E49: ='FULL Special Ability List'!E89 -> ストライクカウントの数ぶん、ミート+8、パワー+8 | F49: ='FULL Special Ability List'!F89 | G49: ='FULL Special Ability List'!G89 -> ストライクカウントが増えるたびに、打力がすごく上がっていく
A50: 引っ張り屋 Gold プルヒッター (Pull Hitter) | B50: ='FULL Special Ability List'!B90 -> ひっぱりや (hippari ya) | C50: ='FULL Special Ability List'!C90 -> Literally: "Someone who Pulls" Localization: "Dead Pull" | D50: ='FULL Special Ability List'!D90 -> Power to the pull side is exceptionally increased *Cannot be paired with 広角打法 (Spray Hitter), or 広角砲 (Sprinkler) | E50: ='FULL Special Ability List'!E90 -> 強振で引っ張るとすごく強い打球が飛ぶようになる。広角打法、広角砲とは一緒につけられない | F50: ='FULL Special Ability List'!F90 | G50: ='FULL Special Ability List'!G90 -> 強振で引っ張るとすごく強い打球が飛ぶようになる。広角打法、広角砲とは一緒につけられない
A51: 魔術師 Gold 守備職人 (Defensive Artisan) | B51: ='FULL Special Ability List'!B91 -> まじゅつし (majutsushi) | C51: ='FULL Special Ability List'!C91 -> "Magician" | D51: ='FULL Special Ability List'!D91 -> While fielding... Initial jump speed, overall running speed, and throwing speed are greatly increased | E51: ='FULL Special Ability List'!E91 -> 守備時に送球速度と背走速度が上がり、動き出しも早くなる | F51: ='FULL Special Ability List'!F91 -> "Magnet" | G51: ='FULL Special Ability List'!G91 -> 守備のときに魔術的な守備を見せるときがある
A52: メッタ打ち Gold 固め打ち (Multi-Hit) | B52: ='FULL Special Ability List'!B92 -> めったうち (metta uchi) | C52: ='FULL Special Ability List'!C92 -> Literally: "Showering with Blows" Localization: "Unrelenting" | D52: ='FULL Special Ability List'!D92 -> After already recording two hits in a game, each following at-bat will benefit from... Contact: +20 Power: +5 | E52: ='FULL Special Ability List'!E92 -> 2安打以上していると3打席目以降はミート+20、パワー+5 | F52: ='FULL Special Ability List'!F92 | G52: ='FULL Special Ability List'!G92 -> 2安打以上打つと、次の打席から能力がすごく上がる
A53: ロケットスタート Gold 内野安打 (Good Infield Hit) | B53: ='FULL Special Ability List'!B93 -> ろけっとすたーと (rokettosutãto) | C53: Literally: "Rocket Start" (Wasei) Localization: "Flying Start" | D53: ='FULL Special Ability List'!D93 -> Speed out of the box running to first base is greatly increased | E53: ='FULL Special Ability List'!E93 -> 打ってからのスタートダッシュがものすごく速くなる | F53: ='FULL Special Ability List'!F93 | G53: ='FULL Special Ability List'!G93 -> 打ってからのスタートダッシュがものすごく速くなる
A55: Fielder Special Abilities
A57: ='FULL Special Ability List'!A147 -> アウトコースヒッター | B57: ='FULL Special Ability List'!B147 -> あうとこーすひったー (autokōsu hittā) | C57: ='FULL Special Ability List'!C147 -> Literally: "Outside Pitch Hitter" Localization: "Outside Hitter" | D57: ='FULL Special Ability List'!D147 -> Making solid contact on pitches on the outside edge of the zone becomes easier *Cannot be paired with インコースヒッター (Inside Hitter) or 内角必打 (Inner Artist) | E57: ='FULL Special Ability List'!E147 -> アウトコースのボールを打つのが得意になる。インコースヒッター、内角必打とは一緒につけられない。 | F57: ='FULL Special Ability List'!F147 -> "Outsider" | G57: ='FULL Special Ability List'!G147 -> アウトコースのボールを打つのが得意になる。インコースヒッター、内閣必打、とは一緒につけられない
A58: ='FULL Special Ability List'!A148 -> アベレージヒッター | B58: ='FULL Special Ability List'!B148 -> あべれーじひったー (aberēji hittā) | C58: ='FULL Special Ability List'!C148 -> Literally: "Average Hitter" Localization: "Contact Hitter" | D58: ='FULL Special Ability List'!D148 -> Strong contact is easier to come by when using a contact swing | E58: ='FULL Special Ability List'!E148 -> ミート打ちのとき、ヒット性の打球が出やすくなる。 | F58: ='FULL Special Ability List'!F148 -> "Clinical" | G58: ='FULL Special Ability List'!G148 -> ヒット性の打球が出やすくなる
A59: ='FULL Special Ability List'!A151 -> 威圧感 | B59: ='FULL Special Ability List'!B151 -> いあつかん (iatsukan) | C59: ='FULL Special Ability List'!C151 -> "Intimidator" | D59: ='FULL Special Ability List'!D151 -> When the fielder with this ability is at-bat, opposing pitcher is affected with... Top Speed: -2 Control: -10 Increased Stamina Consumption AND When the fielder with this ability is on-deck, opposing pitcher is affected with... Top speed: -2 Control: -10 (Slightly Less) Increased Stamina Consumption | E59: ='FULL Special Ability List'!E151 -> 相手投手の球速-2km/h、コントロール-10、スタミナ消費量+15。自分の前の打者のときは、相手投手の球速-2km/h、コントロール-10、スタミナ消費量+10 | F59: ='FULL Special Ability List'!F151 -> "Menace" | G59: ='FULL Special Ability List'!G151 -> バッターなら自身とその前のバッターの打席時に相手ピッチャーの送球とコントロールを下げて。消費するスタミナを上げる
A60: ='FULL Special Ability List'!A152 -> 意外性 | B60: ='FULL Special Ability List'!B152 -> いがいせい (igaisei) | C60: ='FULL Special Ability List'!C152 -> "Unpredictable" | D60: ='FULL Special Ability List'!D152 -> If the game is tied after the 5th inning, or the batter's team is losing (or tied) after the 7th inning, batter will be granted... A Power *No effect if batter already has A Power | E60: ='FULL Special Ability List'!E152 -> スタメン出場して5回以降で同点、または試合終盤で負けているか同点だと、走者がいるときにパワーがAになる（もとがA以上だと変化なし） | F60: ='FULL Special Ability List'!F152 -> "Clutch" | G60: ='FULL Special Ability List'!G152 -> ピンチのときに意外なバッターが活躍する
A61: ='FULL Special Ability List'!A153 -> いぶし銀 | B61: ='FULL Special Ability List'!B153 -> いぶしぎん (ibushi gin) | C61: ='FULL Special Ability List'!C153 -> Literally: "Oxidized Silver" Idiomatic Meaning: "Something Restrained but Impressive" Baseball Specific Meaning: "Non-Star Player Who Impresses With Team-Centric Play" Localization: "Consigliere" | D61: ='FULL Special Ability List'!D153 -> If the batter's team is losing by 1 run after the 7th inning AND there are runners in scoring position... It becomes easier to record solid contact with a contact swing | E61: ='FULL Special Ability List'!E153 -> 試合終盤に1点差で負けているか同点で、得点圏に走者がいると、ミート打ちをしたときにヒット性の当たりが出やすい | F61: ='FULL Special Ability List'!F153 -> "Refined" | G61: ='FULL Special Ability List'!G153 -> しぶさが光るバッティングをするようになる
A62: ='FULL Special Ability List'!A154 -> インコースヒッター | B62: ='FULL Special Ability List'!B154 -> いんこーすひったー (inkōsu hittā) | C62: ='FULL Special Ability List'!C154 -> Literally: "Inside Pitch Hitter" Localization: "Inside Hitter" | D62: ='FULL Special Ability List'!D154 -> Making solid contact on pitches on the inner edge of the zone becomes much easier *Cannot be paired with アウトコースヒッター (Outside Hitter) or 外角必打 (Art Brut) | E62: ='FULL Special Ability List'!E154 -> インコースのボールを打つのが得意になる。アウトコースヒッター、外角必打とは一緒につけられない。 | F62: ='FULL Special Ability List'!F154 -> "Insider" | G62: ='FULL Special Ability List'!G154 -> インコースのボールを打つのがすごく得意になる。アウトコースヒッター、外角必打とは一緒につけられない
A63: ='FULL Special Ability List'!A156 -> かく乱 | B63: ='FULL Special Ability List'!B156 -> かくらん (kakuran) | C63: ='FULL Special Ability List'!C156 -> "Disturbance" | D63: ='FULL Special Ability List'!D156 -> When on base, put pressure on the opposing pitcher and infielders Pitcher Stamina Consumption Increased Infield Defense Decreased *Can stack if more than one player with this ability is on base AND also cause the pitcher's control and breaking ball levels to decrease | E63: ='FULL Special Ability List'!E156 -> 出塁時、相手投手のスタミナ消費量が上がり、内野の守備力が下がる（塁上にこの能力を持つ走者が増えると効果が高まり、投手のコントロールと変化量も低下） | F63: ='FULL Special Ability List'!F156 -> "Jester" | G63: ='FULL Special Ability List'!G156 -> 出塁するとピッチャーにプレッシャーを与える
A64: ='FULL Special Ability List'!A157 -> 固め打ち | B64: ='FULL Special Ability List'!B157 -> かためうち (katame uchi) | C64: ='FULL Special Ability List'!C157 -> Literally: "Fortifying Hit" Localization: "Multi-Hit" | D64: ='FULL Special Ability List'!D157 -> After a batter has already recorded 2 hits in a single game... Contact: +10 Power: +5 | E64: ='FULL Special Ability List'!E157 -> 2安打以上していると、3打席目以降はミート+10、パワー+5 | F64: ='FULL Special Ability List'!F157 -> "Hot Bat" | G64: ='FULL Special Ability List'!G157 -> ヒットを打つと打力が上がる
A65: ='FULL Special Ability List'!A158 -> カット打ち | B65: ='FULL Special Ability List'!B158 -> かっとうち (katto uchi) | C65: ='FULL Special Ability List'!C158 -> Literally: "Cut Hit" Localiztion: "Tough Out" | D65: ='FULL Special Ability List'!D158 -> When a batter has two strikes on them... it becomes easier to foul off pitches, even if their timing is late | E65: ='FULL Special Ability List'!E158 -> 2ストライク時にミート打ちをすると、少し振り遅れてもバットに当たりやすい | F65: ='FULL Special Ability List'!F158 -> "Fighter" | G65: ='FULL Special Ability List'!G158 -> ボールをギリギリまで引き付けてから打つとファウルになりやすくなる
A66: ='FULL Special Ability List'!A159 -> 逆境◯ | B66: ='FULL Special Ability List'!B159 -> ぎゃっきょう (gyakkyō) | C66: ='FULL Special Ability List'!C159 -> Literally: "Adversity" Localization: "Resiliant" | D66: ='FULL Special Ability List'!D159 -> If batter's team is trailing after the 7th inning... Contact: +15 Power: +15 | E66: ='FULL Special Ability List'!E159 -> 試合終盤で負けているとき、ミート+15、パワー+15 | F66: ='FULL Special Ability List'!F159 -> "Rally" | G66: ='FULL Special Ability List'!G159 -> 負けていると打力が上がる
A67: ='FULL Special Ability List'!A160 -> 窮地◯ | B67: ='FULL Special Ability List'!B160 -> きゅうち (kyūchi) | C67: ='FULL Special Ability List'!C160 -> "Predicament" | D67: ='FULL Special Ability List'!D160 -> With each additional strike taken in an at-bat... Contact: +4 Power: +4 | E67: ='FULL Special Ability List'!E160 -> ストライクカウントの数のぶん、ミート+4、パワー+4 | F67: ='FULL Special Ability List'!F160 | G67: ='FULL Special Ability List'!G160 -> ストライクカウントが増えるだびに、打力が上がっていく
A68: ='FULL Special Ability List'!A161 -> 決勝打 | B68: ='FULL Special Ability List'!B161 -> けっしょうだ (kesshō da) | C68: ='FULL Special Ability List'!C161 -> Literally: "Winning Hit" Localization: "GWRBI" | D68: ='FULL Special Ability List'!D161 -> If it is after the 6th inning and there is a runner on base who would either tie the game or give the batter's team the lead... Contact: +5 | E68: ='FULL Special Ability List'!E161 -> 同点または負けているときの6回以降、塁上の走者が生還すれば勝ち越しの場面で、ミート+5 | F68: ='FULL Special Ability List'!F161 | G68: ='FULL Special Ability List'!G161 -> 6回以降で勝ち越しのランナーがいると打力が上がる
A69: ='FULL Special Ability List'!A162 -> 広角打法 | B69: ='FULL Special Ability List'!B162 -> こうかくだほう (kōkaku dahō) | C69: Literally: "Winning Hit" Localization: "GWRBI" | D69: ='FULL Special Ability List'!D162 -> Can hit with power to the opposite field *Cannot be paired with Dead Pull (引っ張り屋) or Pull Hitter (プルヒッター) abilities | E69: ='FULL Special Ability List'!E162 -> 流し方向に強い打球が打てるようになる。プルヒッター、引っ張り屋とは一緒につけられない。 | F69: ='FULL Special Ability List'!F162 -> "Sprayer" | G69: ='FULL Special Ability List'!G162 -> 流し方向に強い打球が打てるようになる。プルヒッター、引っ張り屋とは一緒につけられない
A70: ='FULL Special Ability List'!A163 -> 高速チャージ | B70: ='FULL Special Ability List'!B163 -> こうそくちゃーじ (kōsoku chāji) | C70: ='FULL Special Ability List'!C163 -> "High Speed Charge" | D70: ='FULL Special Ability List'!D163 -> Fielder responds quicker to a bunted ball | E70: ='FULL Special Ability List'!E163 -> バント時に早くボールに追いつく | F70: ='FULL Special Ability List'!F163 -> "Charger" | G70: ='FULL Special Ability List'!G163 -> バント時に早くボールに追いつく
A71: ='FULL Special Ability List'!A164 -> サヨナラ男 | B71: ='FULL Special Ability List'!B164 -> さよならおとこ (sayonara otoko) | C71: ='FULL Special Ability List'!C164 -> Literally: "Sayonara Man" Localization: "Walkoff Hitter" | D71: ='FULL Special Ability List'!D164 -> If in a potential walkoff situation... +15 Contact (if 安打 version) OR +15 Power (if 本塁打 version) | E71: ='FULL Special Ability List'!E164 -> 本塁打でサヨナラ勝利の場面でパワー+15、得点圏の走者が精悍すればサヨナラ勝利の場面でミート+15 | F71: ='FULL Special Ability List'!F164 -> "Victor" | G71: ='FULL Special Ability List'!G164 -> サヨナラの場面で打力が上がる
A72: ='FULL Special Ability List'!A165 -> 守備職人 | B72: ='FULL Special Ability List'!B165 -> しゅびしょくにん (shubi shokunin) | C72: ='FULL Special Ability List'!C165 -> "Defensive Artisan" | D72: ='FULL Special Ability List'!D165 -> While fielding... Initial jump speed, overall running speed, and throwing speed are increased | E72: ='FULL Special Ability List'!E165 -> 守備時に、送球速度と背走速度が上がる | F72: ='FULL Special Ability List'!F165 -> "Glover" | G72: ='FULL Special Ability List'!G165 -> 守備のときに熟練の技をみせることがある
A73: ='FULL Special Ability List'!A166 -> 初球◯ | B73: ='FULL Special Ability List'!B166 -> しょきゅう (shokyū) | C73: ='FULL Special Ability List'!C166 -> Literally: "First Pitch" Localization: "First Pitch Hitter" | D73: ='FULL Special Ability List'!D166 -> Prior to the first taken strike... Contact: +10 Power: +5 | E73: ='FULL Special Ability List'!E166 -> 1ストライクを取られるまで、ミート+10、パワー+5 | F73: ='FULL Special Ability List'!F166 -> "Eager" | G73: ='FULL Special Ability List'!G166 -> 初球に強くなる
A74: ='FULL Special Ability List'!A168 -> 対エース◯ | B74: ='FULL Special Ability List'!B168 -> たいえーす (tai ēsu) | C74: ='FULL Special Ability List'!C168 -> "vs. Ace" | D74: ='FULL Special Ability List'!D168 -> When batting against an "Ace Class" pitcher... Contact: +10 Power: +10 | E74: ='FULL Special Ability List'!E168 -> エース級の投手との対戦時に、ミート+10、パワー+10 | F74: ='FULL Special Ability List'!F168 -> "vs. Ace" | G74: ='FULL Special Ability List'!G168 -> エース級の投手と対戦したときに能力が上がる
A75: ='FULL Special Ability List'!A169 -> 対ストレート | B75: ='FULL Special Ability List'!B169 -> たいすとれーと (tai sutorēto) | C75: ='FULL Special Ability List'!C169 -> "vs. Fastballs" | D75: ='FULL Special Ability List'!D169 -> Batter is more skilled at hitting fastballs | E75: ='FULL Special Ability List'!E169 -> ストレートを打つのが上手くなる | F75: ='FULL Special Ability List'!F169 | G75: ='FULL Special Ability List'!G169 -> ストレートを打つのが上手くなる
A76: ='FULL Special Ability List'!A170 -> 代打◯ | B76: ='FULL Special Ability List'!B170 -> だいだ (daida) | C76: ='FULL Special Ability List'!C170 -> "Pinch Hitter" | D76: ='FULL Special Ability List'!D170 -> When pinch hitting... Contact: +15 Power: +15 | E76: ='FULL Special Ability List'!E170 -> 代打として打席に立ったとき、ミート+15、パワー+15 | F76: ='FULL Special Ability List'!F170 -> "Pinch" | G76: ='FULL Special Ability List'!G170 -> 代打のときに打力が上がる
A77: ='FULL Special Ability List'!A171 -> 対変化球 | B77: ='FULL Special Ability List'!B171 -> たいへんかきゅう (tai henkakyū) | C77: ='FULL Special Ability List'!C171 -> "vs. Breaking Pitches" | D77: ='FULL Special Ability List'!D171 -> Batter is more skill at hitting breaking pitches | E77: ='FULL Special Ability List'!E171 -> 変化球を打つのがうまくなる | F77: ='FULL Special Ability List'!F171 -> "Breaker" | G77: ='FULL Special Ability List'!G171 -> 変化球を打つのがうまくなる
A78: ='FULL Special Ability List'!A172 -> ダメ押し | B78: ='FULL Special Ability List'!B172 -> だめだめおし (damedameoshi) | C78: ='FULL Special Ability List'!C172 -> Literally: "Making Doubly Sure" Baseball Specific Meaning: "Insurance Run" Localization: "Insurer" | D78: ='FULL Special Ability List'!D172 -> When the batter's team is leading by 4 or more runs after the 7th inning... Power: +10 | E78: ='FULL Special Ability List'!E172 -> 4点以上リードしていると、終盤にパワー+10 | F78: ='FULL Special Ability List'!F172 -> "Insurer" | G78: ='FULL Special Ability List'!G172 -> 終盤にリードしているときに能力があがる
A79: ='FULL Special Ability List'!A174 -> チャンスメーカー | B79: ='FULL Special Ability List'!B174 -> ちゃんすめーかー (chansu mēkā) | C79: ='FULL Special Ability List'!C174 -> "Chance Maker" | D79: ='FULL Special Ability List'!D174 -> With bases empty... Contact: +10 Power: +5 | E79: ='FULL Special Ability List'!E174 -> 走者がいない時、ミート+10、パワー+5 | F79: ='FULL Special Ability List'!F174 -> "Setter" | G79: ='FULL Special Ability List'!G174 -> チャンスを作るのがうまい
A80: ='FULL Special Ability List'!A175 -> 内野安打◯ | B80: ='FULL Special Ability List'!B175 -> ないやあんだ (naiya anda) | C80: ='FULL Special Ability List'!C175 -> Literally: "Infield Hit" Localization: "Good Infield Hit" | D80: ='FULL Special Ability List'!D175 -> Speed out of the box running to first base is increased | E80: ='FULL Special Ability List'!E175 -> 打ってからのスタートダッシュが速くなる。 | F80: ='FULL Special Ability List'!F175 -> "Squibber" | G80: ='FULL Special Ability List'!G175 -> 打ってからのスタートダッシュが速くなる
A81: ='FULL Special Ability List'!A176 -> 流し打ち | B81: ='FULL Special Ability List'!B176 -> ながしうち (nagashi uchi) | C81: ='FULL Special Ability List'!C176 -> Literally: "Opposite Field Hit" Localization: "Push Hitter" | D81: ='FULL Special Ability List'!D176 -> Taises the chance of making solid contact to the opposite field while also lowering the chance of pushing a ball foul | E81: ='FULL Special Ability List'!E176 -> ミート打ちで流し打ちをするとヒットになりやすい。 | F81: ='FULL Special Ability List'!F176 -> "Push Hit" | G81: ='FULL Special Ability List'!G176 -> 流し打ちがうまくなる
A82: ='FULL Special Ability List'!A177 -> 粘り打ち | B82: ='FULL Special Ability List'!B177 -> ねばりうち (nebari uchi) | C82: ='FULL Special Ability List'!C177 -> Literally: "Persistant Hitter" Localization: "Two-Stirke Hitter" | D82: ='FULL Special Ability List'!D177 -> With two strikes (while using contact swing)... Contact: +10 | E82: ='FULL Special Ability List'!E177 -> 2ストライクに追い込まれたとき、ミート打ちのミート+10 | F82: ='FULL Special Ability List'!F177 -> "Survivor" | G82: ='FULL Special Ability List'!G177 -> おいこまれても粘ることができる
A83: ='FULL Special Ability List'!A178 -> ハイボールヒッター | B83: ='FULL Special Ability List'!B178 -> はいぼーるひったー (haibōru hittā) | C83: ='FULL Special Ability List'!C178 -> "High Ball Hitter" | D83: ='FULL Special Ability List'!D178 -> Making solid contact on pitches high in the zone becomes easier *Cannot be paired with ローボールヒッター (Lowball Hitter) or 低球必打 (Old Fashioned) | E83: ='FULL Special Ability List'!E178 -> 高めのボールを打つのが得意になる。ローボールヒッター、低球必打とは一緒につけられない | F83: ='FULL Special Ability List'!F178 -> "High Hit" | G83: ='FULL Special Ability List'!G178 -> 高めのボールを打つのが得意になる。ローボールヒッター、低球必打とは一緒につけられな
A84: ='FULL Special Ability List'!A180 -> パワーヒッター | B84: ='FULL Special Ability List'!B180 -> ぱわーひったー (pawā hittā) | C84: ='FULL Special Ability List'!C180 -> "Power Hitter" | D84: ='FULL Special Ability List'!D180 -> Homeruns are easier to come by when using a power swing *Cannot be paired with ラインドライブ (Line Drive) Ability | E84: ='FULL Special Ability List'!E180 -> 強振して打つとホームラン性の打球が出やすくなる | F84: ='FULL Special Ability List'!F180 -> "Slugger" | G84: ='FULL Special Ability List'!G180 -> ホームラン性の打球が出やすくなる
A85: ='FULL Special Ability List'!A181 -> バント◯ | B85: ='FULL Special Ability List'!B181 -> ばんと (banto) | C85: ='FULL Special Ability List'!C181 -> Literally: "Bunt" Localization: "Good Bunt" | D85: ='FULL Special Ability List'!D181 -> Bunting ability increases | E85: ='FULL Special Ability List'!E181 -> バントがゴロになりやすい。 | F85: ='FULL Special Ability List'!F181 -> "Bunt" | G85: ='FULL Special Ability List'!G181 -> バントがうまくなる
A86: ='FULL Special Ability List'!A182 -> バント職人 | B86: ='FULL Special Ability List'!B182 -> ばんとしょくにん (banto shokunin) | C86: ='FULL Special Ability List'!C182 -> "Bunt Artisan" | D86: ='FULL Special Ability List'!D182 -> Bunting ability greatly increases | E86: ='FULL Special Ability List'!E182 -> バントが非常にゴロになりやすい。 | F86: ='FULL Special Ability List'!F182 -> "Bunt Ace" | G86: ='FULL Special Ability List'!G182 -> バントがものすごくうまくなる
A87: ='FULL Special Ability List'!A184 -> プルヒッター | B87: ='FULL Special Ability List'!B184 -> ぷるひったー (puru hittā) | C87: ='FULL Special Ability List'!C184 -> "Pull Hitter" | D87: ='FULL Special Ability List'!D184 -> Power to the pull side is increased *Cannot be paired with 広角打法 (Spray Hitter), or 広角砲 (Sprinkler) | E87: ='FULL Special Ability List'!E184 -> 強振で引っ張ると強い打球が飛ぶようになる。広角打法、広角砲とは一緒につけられない。 | F87: ='FULL Special Ability List'!F184 -> "Pull Hit" | G87: ='FULL Special Ability List'!G184 -> 強振で引っ張ると強い打球が飛ぶようになる
A88: ='FULL Special Ability List'!A185 -> プレッシャーラン | B88: ='FULL Special Ability List'!B185 -> ぷれっしゃーらん (puresshā ran) | C88: ='FULL Special Ability List'!C185 -> "Pressure Run" | D88: ='FULL Special Ability List'!D185 -> If the opportunity arises, player slides hard into second base to attempt to break up a double play | E88: ='FULL Special Ability List'!E185 -> 併殺になありそうなタイミングで一塁走者が二塁にスライディングしたとき、相手野手の一塁送球が悪送球になることがある | F88: ='FULL Special Ability List'!F185 -> "Takeout" | G88: ='FULL Special Ability List'!G185 -> 二塁にすべり込むときに悪送球を誘うようになる
A89: ='FULL Special Ability List'!A186 -> ヘッドスライディング | B89: ='FULL Special Ability List'!B186 -> へっどすらいでぃんぐ (heddo suraidingu) | C89: ='FULL Special Ability List'!C186 -> "Headfirst Slide" | D89: ='FULL Special Ability List'!D186 -> Will side head-first into a base when the situation calls for it *Either into first base (with 一塁 version), OR into second, third, and home (with 二、三、満塁 version) | E89: ='FULL Special Ability List'!E186 -> きわどいときベースに頭からすべり込む | F89: ='FULL Special Ability List'!F186 -> "Diver" | G89: ='FULL Special Ability List'!G186 -> きわどいときベースに頭からすべり込む
A90: ='FULL Special Ability List'!A187 -> ホーム死守 | B90: ='FULL Special Ability List'!B187 -> ほーむししゅ (hōmu shishu) | C90: ='FULL Special Ability List'!C187 -> "Home Defense" | D90: ='FULL Special Ability List'!D187 -> The catcher shall not be moved *Lowers the chances of ホーム突入 (Storming Home) and 重戦車 (Heavy Tank) abilities from activating | E90: ='FULL Special Ability List'!E187 -> 捕手のとき、相手走者の「ホーム突入」および「重戦車」の発生確率を下げる | F90: ='FULL Special Ability List'!F187 -> "Blocker" | G90: ='FULL Special Ability List'!G187 -> 捕手のとき、ホーム突入、重戦車の発動確率を50％にする
A91: ='FULL Special Ability List'!A188 -> ホーム突入 | B91: ='FULL Special Ability List'!B188 -> ほーむとつにゅう (hōmu totsunyū) | C91: ='FULL Special Ability List'!C188 -> "Storming Home" | D91: ='FULL Special Ability List'!D188 -> When running home... slide hard to try and make the catcher drop the ball | E91: ='FULL Special Ability List'!E188 -> 走者のとき、本塁でクロスプレイが発生した際、相手捕手がでボールをこぼすことがある | F91: ='FULL Special Ability List'!F188 -> "Trucker" | G91: ='FULL Special Ability List'!G188 -> 走者のとき、本塁でのクロスプレー時に、捕手が25％の確率でボールをこぼす
A92: ='FULL Special Ability List'!A189 -> マルチ弾 | B92: ='FULL Special Ability List'!B189 -> まるちだん (maruchi dan) | C92: ='FULL Special Ability List'!C189 -> Literally: "Multi-Bullet" Localization: "Multi-Homer" | D92: ='FULL Special Ability List'!D189 -> After having already hit a homerun... Power: +10 | E92: ='FULL Special Ability List'!E189 -> その試合でホームランを打っているとパワー+10（2本目以降は無効） | F92: ='FULL Special Ability List'!F189 -> "Hotshot" | G92: ='FULL Special Ability List'!G189 -> ホームランを打っているとパワーが上がる
A93: ='FULL Special Ability List'!A190 -> 満塁男 | B93: ='FULL Special Ability List'!B190 -> まんるいおとこ (manrui otoko) | C93: ='FULL Special Ability List'!C190 -> Literally: "Bases Loaded Man" Localization: "Bases Loaded Slugger" | D93: ='FULL Special Ability List'!D190 -> With bases loaded... Contact: +15 Power: +15 | E93: ='FULL Special Ability List'!E190 -> 満塁のとき、ミート+15、パワー+15 | F93: ='FULL Special Ability List'!F190 -> "Slam Fan" | G93: ='FULL Special Ability List'!G190 -> 満塁のときにパワーとミートが上がる
A94: ='FULL Special Ability List'!A193 -> ムード◯ | B94: ='FULL Special Ability List'!B193 -> むーど (mūdo) | C94: ='FULL Special Ability List'!C193 -> "Good Mood" | D94: ='FULL Special Ability List'!D193 -> If there are more players with Good Mood on the bench than there are players with Bad Mood, all batters are granted... Contact: +5 Power: +5 | E94: ='FULL Special Ability List'!E193 -> 味方野手のミート+5、パワー+5 | F94: ='FULL Special Ability List'!F193 -> "Morale" | G94: ='FULL Special Ability List'!G193 -> チームのムードが良くなり、能力があがる。ムード✕とは一緒につけられない
A95: ='FULL Special Ability List'!A194 -> ラインドライブ | B95: ='FULL Special Ability List'!B194 -> らいんどらいぶ (rain doraibu) | C95: ='FULL Special Ability List'!C194 -> "Line Drive" | D95: ='FULL Special Ability List'!D194 -> Becomes easier to hit a line drive with a power swing *Cannot be paired with Power Hitter or Artist abilities | E95: ='FULL Special Ability List'!E194 -> 強振で打った際にライナー性の打球が出やすくなる（ゴロは除く）。パワーヒッター、アーチストとは一緒につけられない | F95: ='FULL Special Ability List'!F194 -> "Line Drive" | G95: ='FULL Special Ability List'!G194 -> ライナー製の打球が出やすくなる。パワーヒッター、アーチストとは一緒につけられない
A96: ='FULL Special Ability List'!A195 -> リベンジ | B96: ='FULL Special Ability List'!B195 -> りべんじ (ribenji) | C96: ='FULL Special Ability List'!C195 -> "Revenge" | D96: ='FULL Special Ability List'!D195 -> If a batter failed to record a hit in their previous at-bat and is facing the same pitcher... Contact: +10 | E96: ='FULL Special Ability List'!E195 -> 前の打席で抑えられた投手が相手のとき、ミート+10 | F96: ='FULL Special Ability List'!F195 -> "Revenge" | G96: ='FULL Special Ability List'!G195 -> 前の打席で抑えられていると、次の打席で打力が上がる
A97: ='FULL Special Ability List'!A196 -> レーザービーム | B97: ='FULL Special Ability List'!B196 -> れーざーびーむ (rēzā bīmū) | C97: ='FULL Special Ability List'!C196 -> "Laser Beam" | D97: ='FULL Special Ability List'!D196 -> The speed of an outfielder's throw back into the infield will be increased and its trajectory low | E97: ='FULL Special Ability List'!E196 -> 外野守備時に軌道が低く速い送球をする | F97: ='FULL Special Ability List'!F196 -> "Laser" | G97: ='FULL Special Ability List'!G196 -> とても鋭い送球ができるようになる
A98: ='FULL Special Ability List'!A197 -> ローボールヒッター | B98: ='FULL Special Ability List'!B197 -> ろーぼーるひったー (rō bōru hittā) | C98: ='FULL Special Ability List'!C197 -> "Low Ball Hitter" | D98: ='FULL Special Ability List'!D197 -> Making solid contact on pitches on the lower edge of the zone becomes easier *Cannot be paired with ハイボールヒッター (High Ball Hitter) or 高球必打 (7 and 7) | E98: ='FULL Special Ability List'!E197 -> 低めのボールを打つのが得意になる。ハイボールヒッター、高球必打とは一緒につけられない | F98: ='FULL Special Ability List'!F197 -> "Low Hit" | G98: ='FULL Special Ability List'!G197 -> 低めのボールを打つのが得意になる。ハイボールヒッター、高球必打とは一緒につけられない
A99: ='FULL Special Ability List'!A199 -> (チーム)キラー | B99: ='FULL Special Ability List'!B199 -> (ちーむ)きらー ([chīmu] kirā) | C99: ='FULL Special Ability List'!C199 -> "(Team) Killer" | D99: ='FULL Special Ability List'!D199 -> When playing against the team in parentheses... Contact: +10 Power: +5 [Pennant / MyLife Ability] | E99: ='FULL Special Ability List'!E199 -> カッコ内に記載されたチームとの対戦時に、ミート+10、パワー+5 | F99: ='FULL Special Ability List'!F199 | G99: ='FULL Special Ability List'!G199 -> カッコ内に記載されたチームとの対戦時に、ミート+10、パワー+5
A100: ='FULL Special Ability List'!A200 | B100: ='FULL Special Ability List'!B200 | C100: ='FULL Special Ability List'!C200 | D100: ='FULL Special Ability List'!D200 | E100: ='FULL Special Ability List'!E200 | F100: ='FULL Special Ability List'!F200 | G100: ='FULL Special Ability List'!G200
A101: Fielder Ranked Abilities (A - G)
A102: ='FULL Special Ability List'!A202 | B102: ='FULL Special Ability List'!B202 | C102: ='FULL Special Ability List'!C202 | D102: ='FULL Special Ability List'!D202 | E102: ='FULL Special Ability List'!E202 | F102: ='FULL Special Ability List'!F202 | G102: ='FULL Special Ability List'!G202
A103: ='FULL Special Ability List'!A203 -> キャッチャー | B103: ='FULL Special Ability List'!B203 -> きゃっちゃー (kyacchā) | C103: ='FULL Special Ability List'!C203 -> "Catcher" | D103: ='FULL Special Ability List'!D203 -> Determines how well a catcher can handle their pitcher [Catcher Only] A: Pitcher Control +10, Stamina Consumption -10 (and if in Poor (blue) or Very Poor (purple) condition: Top Speed +2 km/h) B: Pitcher Control +5, Stamina Consumption -5 (and if in Poor (blue) or Very Poor (purple) condition: Top Speed +2 km/h) C: Pitcher Control +2, Stamina Consumption -2 D: Neutral E: Pitcher Control -2, Stamina Consumption +2 F: Pitcher Control -5, Stamina Consumption +5 G: Pitcher Control -25, Stamina Consumption +20 | E103: ='FULL Special Ability List'!E203 -> ピッチャーの能力をうまく引き出せるかどうか✕〜◎までの4段階ある | F103: ='FULL Special Ability List'!F203 -> "Catcher" | G103: ='FULL Special Ability List'!G203 -> ピッチャーの能力をうまく引き出せるかどうかA〜Gまでの7段階ある
A104: ='FULL Special Ability List'!A204 -> ケガしにくさ | B104: ='FULL Special Ability List'!B204 -> けがしにくさ (kega shinikusa) | C104: ='FULL Special Ability List'!C204 -> Literally: "Injury Difficulty" Localization: "Durability" | D104: ='FULL Special Ability List'!D204 -> Determines the likelihood of the fielder being injured *Also applicable for pitchers [A is least likely, G is most likely] | E104: ='FULL Special Ability List'!E204 -> ケガをしにくいかどうか、A〜Gまでの7段階ある | F104: ='FULL Special Ability List'!F204 -> "Grit" | G104: ='FULL Special Ability List'!G204 -> ケガをしにくいかどうか、A〜Gまでの7段階ある
A105: ='FULL Special Ability List'!A205 -> 送球 | B105: ='FULL Special Ability List'!B205 -> そうきゅう (sōkyū) | C105: ='FULL Special Ability List'!C205 -> "Throwing" | D105: ='FULL Special Ability List'!D205 -> Determines a fielder's accuracy when throwing to a base [A is most accurate, G is least accurate] | E105: ='FULL Special Ability List'!E205 -> 送球がそれにくいかどうか、A〜Gまでの7段階ある | F105: ='FULL Special Ability List'!F205 -> "Throwing" | G105: ='FULL Special Ability List'!G205 -> 送球がそれにくいかどうか、A〜Gまでの7段階ある
A106: ='FULL Special Ability List'!A206 -> 走塁 | B106: ='FULL Special Ability List'!B206 -> そうるい (sōrui) | C106: ='FULL Special Ability List'!C206 -> "Baserunning" | D106: ='FULL Special Ability List'!D206 -> Determines the speed a player runs the bases *Does not affect speed when stealing a base [A is quickest, G is slowest] *A also disables head-first sliding into third base | E106: ='FULL Special Ability List'!E206 -> 走塁がうまいかどうか、A〜Gまでの7段階ある | F106: ='FULL Special Ability List'!F206 -> "Runner" | G106: ='FULL Special Ability List'!G206 -> 走塁がうまいかどうか、A〜Gまでの7段階ある
A107: ='FULL Special Ability List'!A207 -> 対左投手 | B107: ='FULL Special Ability List'!B207 -> たいひだりとうしゅ (tai hidari tōshu) | C107: ='FULL Special Ability List'!C207 -> "vs. Lefty Pitcher" | D107: ='FULL Special Ability List'!D207 -> When facing a left-handed pitcher... A: Contact +15, Power +10 B: Contact +8, Power +5 C: Contact +5, Power +2 D: Neutral E: Contact -5, Power -2 F: Contact -8, Power -5 G: Contact -15, Power -10 | E107: ='FULL Special Ability List'!E207 -> 左のピッチャーに対して強いかどうか、A〜Gまでの7段階ある | F107: ='FULL Special Ability List'!F207 -> "vs. LHP" | G107: ='FULL Special Ability List'!G207 -> 左のピッチャーに対して強いかどうか、A〜Gまでの7段階ある
A108: ='FULL Special Ability List'!A208 -> チャンス | B108: ='FULL Special Ability List'!B208 -> ちゃんす (chansu) | C108: ='FULL Special Ability List'!C208 -> Literally: "Chance" Localization: "Clutch" | D108: ='FULL Special Ability List'!D208 -> When batting while there are runners in scoring position... A: Contact +15, Power +10 B: Contact +8, Power +5 C: Contact +5, Power +2 D: Neutral E: Contact -5, Power -2 F: Contact -8, Power -5 G: Contact -15, Power -10 | E108: ='FULL Special Ability List'!E208 -> チャンスのときの勝負強さ、A〜Gまでの7段階ある | F108: ='FULL Special Ability List'!F208 -> "Clutch" | G108: ='FULL Special Ability List'!G208 -> チャンスのときの勝負強さ、A〜Gまでの7段階ある
A109: ='FULL Special Ability List'!A209 -> 盗塁 | B109: ='FULL Special Ability List'!B209 -> とうるい (tōrui) | C109: ='FULL Special Ability List'!C209 -> "Stealing" | D109: ='FULL Special Ability List'!D209 -> Determines the speed a player runs when stealing a base *Does not affect speed when baserunning with a ball in play [A is quickest, G is slowest] | E109: ='FULL Special Ability List'!E209 -> 盗塁がうまいかどうか、A〜Gまでの7段階ある | F109: ='FULL Special Ability List'!F209 -> "Stealing" | G109: ='FULL Special Ability List'!G209 -> 盗塁がうまいかどうか、A〜Gまでの7段階ある
A111: Fielder Red Abilities
...

Sheet OB-Exclusive Special Abilities
A1: パワフルプロ野球2024-2025 OB-Exclusive Special Ability List (Translated to English by tweav) Presented in Japanese Syllabary Order (五十音順) Ability Descriptions / Numerical Data from: game8 OB Ability Information from: seesaawiki
H2: Copy code: " = 'FULL Ability List'! [Cell letter/Number]"
A9: Ability Name (Japanese) | B9: Ability Name (Hiragana + Romaji) | C9: Ability Name (English) | D9: Description (English) | E9: Description (Japanese) | F9: WBSC English Translation | G9: In-Game Description (Japanese)
A11: Pitcher Gold Abilities
A13: 神の子 OB: Masahiro Tanaka [田中将大], Rakuten Eagles Gold Equivalent: 勝利の星 (Lucky Star) | B13: かみのこ (kami no ko) | C13: Literally: "Child of God" or "Prodigy" Colloquially: Self-explanatory, perhaps. Tanaka is a pitching prodigy from an early age - striking out an astounding 458 batters in his high school career (the current all-time record), with 35 wins and 3 losses in 57 games pitched (over 329.2 innings) and an ERA of 1.31. He also hit 13 homeruns... Localization: "Kami-no-ko" | D13: When actively pitching, Tanaka's team's lineup will benefit from both +5 Contact and +5 Power | E13: 登板中、味方打者のミート+5、パワー+5 | F13: ='FULL Special Ability List'!F16 -> N/A | G13: ='FULL Special Ability List'!G16 -> 登板するとぐっと勝ちを呼び込む
A14: ケンカ投法 OB: Osamu Higashio [東尾修], [Seibu Lions] Gold Equivalent: 内角無双 (Painter) | B14: けんかとうほう (kenka tōhō) | C14: Literally: "Brawling Pitching Style" Colloquially: Osamu Higashio is the NPB's all-time leader in HBP. He was known for his aggressive style of pitching to the inside corner and his headstrong personality. Localization: "Kenka Tōhō" | D14: Osamu Higashio's control on the inner edge of the plate is elite. How he chooses to use that elite control, however... | E14: 内角への投球時、コントロールが良くなり球威も大きく上がる | F14: ='FULL Special Ability List'!F23 -> N/A | G14: ='FULL Special Ability List'!G23 -> 内角に投げたときにコントロールがすごく良くなる
A15: 草魂 OB: Keishi Suzuki [鈴木啓示], Kintetsu Buffaloes Gold Equivalent: 不屈の魂 (Indomitable Soul) | B15: そうこん (sōkon) | C15: Literally: "Grass Soul" Colloquially: This is Keishi Suzuki's motto and a phrase he is widely known for. It is derived from the word 「雑草魂」(zassōdamashi), meaning "The tenacity (or stubborness) of weeds." In other words, this is a phrase to represent Suzuki's unflappable sensibilty Localization: "Sōkon" | D15: Keishi Suzuki will not be rattled | E15: 動揺状態にほとんどならない | F15: ='FULL Special Ability List'!F28 -> N/A | G15: ='FULL Special Ability List'!G28 -> 打ちこまれてもすごく動揺しにくい
A17: Fielder Gold Abilities
A19: 牛若丸 OB: Yoshio Yoshida [吉田義男], Hanshin Tigers Gold Equivalent: 魔術師 (Magician) | B19: うしわかまる (ushiwakamaru) | C19: Literally: "Young, Round Cow (or Bull)" Colloquially: Ushiwakamaru was the birth name of one of Japan's most famous samurai: Minamoto no Yoshitsune, a man enshrouded in legend and myth. Yoshio Yoshida was granted the nickname for his prodigious defensive work at shortstop and obsession with perfecting the craft. Localization: "Ushiwakamaru" | D19: Yoshio Yoshida's range at shortstop is nothing short of legendary now almost 60 years from his final playing days. Swift of foot and quick of hand, nothing hit to the left side of the infield will get by him | E19: 守備時に送球速度と背走速度が上がり、動き出しも早くなる | F19: ='FULL Special Ability List'!F56 -> N/A | G19: ='FULL Special Ability List'!G56 -> 魔術的な守備をみせる
A20: 小坂ゾーン OB: Makoto Kosaka [小坂誠], Chiba Lotte Marines Gold Equivalent: 魔術師 (Magician) | B20: こさかぞーん (kosaka zōn) | C20: Literally: "Kosaka Zone" Colloquially: Makoto Kosaka is a shortstop par excellence. He is the all time leader for the Chiba Lotte Marines in defensive win shares, and led the NPB in range factor for 7 consecutive years starting from 1997. From 1998 - 2003, he had a range factor over 5 Localization: "Kosaka Zone" | D20: Makoto Kosaka's speed combined with his incredible range at short will stop anything hit in his direction | E20: 守備時に送球速度と背走速度が上がり、動き出しも早くなる | F20: ='FULL Special Ability List'!F70 -> N/A | G20: ='FULL Special Ability List'!G70 -> 魔術的な守備をみせる
A21: 世界の王 OB: Sadaharu Oh [王貞治], Yomiuri Giants Gold Equivalent: アーチスト (Artist) | B21: せかいのおう (sekai-no-ō) | C21: Literally: "King of the World" Colloquially: Sadaharu Oh. The world's leader in career homeruns at an astounding 868. Not to be overshadowed by that record are the rest of his counting and rate stats... Over 22 years and 11,866, Oh finished his career with a triple slash of .301/.446/.634 with 2,786 hits (422 of which were doubles), 2,390 walks to just 1,319 stikeouts (a 1.81 BB/K ratio) and an incredible 5,862 total bases (which would put him sixth all-time behind Barry Bonds and ahead of Ty Cobb, for an MLB comparison). Localization: "Sekai-no-Oh" | D21: Sadaharu Oh (王) is the King (王), literally! Expect trouble when he steps up to the plate | E21: 強振して打つと、ホームラン性の打球がかなり出やすくなる。ラインドライブとは一緒につけられない | F21: ='FULL Special Ability List'!F77 -> N/A | G21: ='FULL Special Ability List'!G77 -> ホームラン性の打球がとても出やすい
A22: 世界の代打王 OB: Yaushiro Takai [高井保弘], Hankyū Braves Gold Equivalent: 代打の神様 (God of Pinch Hitting) | B22: せかいのだいだおう (sekai-no-daida ō) | C22: Localization: "Pinch Hitting King of the World" Colloquially: Primarily used as a bench bat for the Hankyū Braves, Yasuhiro Takai holds the pinch-hit homerun world record (27) to this day. Localization: "Sekai-no-Daida Ō" | D22: Pitcher's take note when Yasuhiro Takai steps into the on-deck circle. When Takai enters the game as a pinch hitter, he receives... Contact: +25 Power: +20 | E22: 代打として打席に立ったとき、ミート+25、パワー+20 | F22: ='FULL Special Ability List'!F78 -> N/A | G22: ='FULL Special Ability List'!G78 -> 代打のときに打力がすごく上がる
A23: 世界の盗塁王 OB: Yutaka Fukumoto [福本豊], Hankyū Braves Gold Equivalent: 電光石火 (Lightning Speed) | B23: せかいのとうるいおう (sekai-no-tōrui ō) | C23: Literally: "Stolen Base King of the World" Colloquially: Yutaka Fukumoto is Japan's all-time leader in stolen bases, swiping 1,065 over his 20 year career with the Hankyū Braves. In addition to this - he holds the single season record at 106 stolen bases (set in 1972). He wasn't just a threat on the basepaths, however, as he also holds the Japanese record for leadoff homeruns at 41 and retired with a career .291/.380/.440 triple slash across 10,130 plate appearances. Also - he's a YouTuber. Localization: "Sekai-no-Tōrui Ō" | D23: Yutaka Fukumoto is Japan's King of Stolen Bases. Worldwide, his 1,065 career bases stolen sit behind only one other person - Rickey Henderson. Regardless where he is on the basepaths... expect him to end up on third When Fukumoto is on base... Pitcher Control: -10 Stamina Consumption Increased | E23: 盗塁時の走力が大きく上がる。また塁上が一塁または一・三塁の状況で一塁走者のとき、相手投手のコントロール-10、スタミナ消費量増 | F23: ='FULL Special Ability List'!F79 -> N/A | G23: ='FULL Special Ability List'!G79 -> 盗塁がものすごくうまく、投手に動揺を与える
A24: 打撃の神様 OB: Tetsuharu Kawakami [川上哲治], Yomiuri Giants Gold Equivalent: 安打製造機 (Hit Machine) | B24: だげきのかみさま (dageki-no-kamisama) | C24: Literally: "God of Batting" Colloquially: Dubbed the "God of Batting" in his youth, Tetsuharu Kawakmi lived up to expectations by becoming the first player in NPB history to reach 2,000 hits. He was known for his power to all fields (dubbed "Bullet Liners" [弾丸ライナー]). Later in his career, he was known for his "Texas Leaguer" hits (soft fly balls that land in between the infelders and outfielders) due to a bad hip that sapped his power. He holds the NPB's second highest career batting average all time at .314 behind only Isao Harimoto's .319. Localization: "Dageki-no-Kamisama" | D24: It's best to assume a hit is en-route when Tetsuharu Kawakami steps up to the plate | E24: ミート打ちのとき、ヒット性の打球がかなり出やすくなる。 | F24: ='FULL Special Ability List'!F81 -> N/A | G24: ='FULL Special Ability List'!G81 -> ヒット性の打球がとても出やすい
A25: 忍者 OB: Ryosuke Kikuchi [菊池涼介], Hiroshima Carp Gold Equivalent: 魔術師 (Magician) | B25: にんじゃ (ninja) | C25: Literally: "A Person Trained in Ninjutsu" (in other words... a Ninja) Colloquially: Ryosuke Kikuchi, still an active player at the time of writing (July 2024), is something of a wizard in the field. Or perhaps, it should be said he's a ninja. He holds the single season NPB record for assists at second base with 535 and had 569 consecutive opportunities without an error (also an NPB record). He won 10 consecutive gold gloves from 2013 - 2022. Though he is in the twilight of his career, his accolades as Hiroshima's second baseman are second-to-none Localization: "Ninja" | D25: With a range so impressive it's almost as he teleports to the ball, anything hit in the area of Ryosuke Kikuchi will be dealt with with ease | E25: 守備時に送球速度と背走速度が上がり、動き出しも早くなる | F25: ='FULL Special Ability List'!F88 -> N/A | G25: ='FULL Special Ability List'!G88 -> 魔術的な守備をみせる
A27: Pitcher Special Abilities
A29: 雑草魂 OB: Koji Uehara [上原浩治], Yomiuri Giants Equivalent: 打たれ強さ (Poise) | B29: ざっそうだましい (zassoudamashii) | C29: Literally: "The Tenacity of Weeds" Colloquially: Like Keichi Suzuki before him, Koji Uehara's favorite saying was 雑草魂 ("the tenacity of weeds"). Though he has since risen to greatness both in Japan and the United States, Uehara initially was a complete unknown as a player with aspirations of becoming a PE teacher. He failed the entrance exam. But even so, he continued on and eventually was admitted to Osaka University of Health and Sciences, where he joined the baseball team as a bit of a side activity. Through all his stuggles, he never gave up and continued to grow and develop. Just as a weed will sprout no matter what stands in its way, Uehara became a star despite the hardships. And now - he's a YouTuber. Localization: "Zassoudamashii" | D29: Despite it all, Koji Uehara shall not be rattled *...He has a B in this | E29: 打たれたときに動揺しにくいかどうか、A~Gまでの7段階ある。 | F29: ='FULL Special Ability List'!F108 -> N/A | G29: ='FULL Special Ability List'!G108 -> 打たれると動揺しにくいか
A30: 大魔神 OB: Kazuhiro Sasaki [佐々木主浩], Yokohama BayStars Equivalent: 威圧感 (Intimidator) | B30: だいまじん (daimajin) | C30: Litrally: "Great Evil God" Colloquially: Like a devil was Kazuhiro Sasaki to opposing lineups. So much so, that in 1994, a reporter following the Yomiuri Giants declared him to be as such 「悪魔の守護神」Couple that with his supposed resemblence to Daiei's kaiju - Daimajin - and a nickname befitting the demon was born. Localization: "Daimajin" | D30: When Sasaki enters the game, opposing lineups quiver in fear... Opposing batters when facing Sasaki as a closer: Contact: -20 Power: -20 | E30: 2番手以降で登板時、相手打者のミート-20、パワー-20 | F30: ='FULL Special Ability List'!F112 -> N/A | G30: ='FULL Special Ability List'!G112 -> 打者に威圧感を与える
A31: 小さな大投手 OB: Masanori Ishikawa [石川雅規], Tokyo Yakult Swallows Equivalent: ケガしにくさ (Durability) | B31: ちいさなだいとうしゅ (chīsana daitōshu) | C31: Literally: "Small (but) Large Pitcher" Colloquially: This one is a bit self-explanatory. Masanori Ishikawa, currently in the midst of his 23rd NPB season as of 2024 at age 44, is 167 cm (~5'6"). Despite that... he's just kept on going. With over 3,200 career innings pitched, Ishikawa's career is something of a marvel. Localization: "Chīsana Daitōshu" | D31: Ishakawa's arm just won't quit. *...He has a B in this | E31: ✕〜◎までの4段階あり、◯、◎は体力消費が軽減される | F31: ='FULL Special Ability List'!F118 -> N/A | G31: ='FULL Special Ability List'!G118 -> ケガをしにくいか
A32: 平成の怪物 OB: Daisuke Matsuzaka [松坂大輔], Seibu Lions Equivalent: ノビ (Fastball Spin Rate) | B32: へいせいのかいぶつ (heisei-no-kaibutsu) | C32: Literally: "Monster of the Heisei Era" Colloquially: Daisuke Matsuzaka was a big deal. Touted as a super prospect in the 1990s (the "Heisei Era" is January 1989 - April 2019; the years Akihiro held the title of Japanese Emperor) when he was tearing through high school (he was the first high school pitcher to throw a pitch that hit 150 km/h at Koshien), Matsuzaka made short work of his ascent to relevance and dominance in the NPB. In 1999, at only 18 years old, Matsuzaka would post a 16-5 record over 24 starts with a 2.60 ERA, 1.172 WHIP, and 151 strikeouts to easily take Rookie of the Year honors. He would only continue to ascend from there before transitioning over to the MLB in 2007... Also, he's a YouTuber. Localization: "Heisei-no-Kaibutsu" | D32: Daisuke Matsuzaka's fastball was something of legend. The "Gyroball," as it was... exaggerated as such *...He has a B in this | E32: ストレートのノビが良いかどうか、A〜Gまでの7段階ある | F32: ='FULL Special Ability List'!F125 -> N/A | G32: ='FULL Special Ability List'!G125 -> ストレートのノビが良いか
A33: 炎のストッパー OB: Tsunemi Tsuda [津田恒実], Hiroshima Toyo Carp Equivalent: 闘志 (Fighting Spirit) | B33: ほのおのすとっぱー (honō-no-sutoppā) | C33: Literally: "Flame Stopper" Colloquially: A true fireman known for his explosive fastball, Tsunemi Tsuda would do whatever was required of him coming out of the bullpen. Tragically, his career was cut short by bouts of intense illness eventually revealed to be hydrocephalus, of which he would pass away from in 1993 at just 32 years old. But, during his brief peak - Tsuda was a force to be reckoned with. Localization: "Honō-no-Sutoppā" | D33: Tsuda will put the fire out, no matter the batter | E33: スタミナ切れ状態ではなく、自責点0以下で同点か勝っているときにボールが重くなり、動揺状態になりにくくなる。また、相手打者の威圧感無効化 | F33: ='FULL Special Ability List'!F126 -> N/A | G33: ='FULL Special Ability List'!G126 -> 投資あふれる投球をする
A34: 幕張の防波堤 OB: Masahide Kobayashi [小林雅英], Chiba Lotte Marines Equivalent: 要所◯ ([Decisive]) | B34: まくはりのぼうはてい (makuhari-no-bōhatei) | C34: Literally: "Makuhari's Breakwater" Colloquially: Makuhari - Japan's "city of the future" - is where the Chiba Lotte Marines call home. It's also where Masahide Kobayashi called home for 9 years and dominated the mound. His best season would come in 2002, where he would post a 0.83 ERA with 37 saves and a miniscule WHIP of just 0.738. When he stepped on the rubber, the game was as good as over. Localization: "Makuhari-no-Bōhatei" | D34: If the game is on the line, Kobayashi will get it done | E34: 試合終盤でリードしており、走者が生還すると同点か逆転の場面で、球速+2km/h、コントロール+5 | F34: ='FULL Special Ability List'!F127 -> N/A | G34: ='FULL Special Ability List'!G127 -> 勝利のかかった大事な場面で投手能力が上がる
A35: 負けないエース OB: Kazumi Saitoh [斎藤和巳], Fukuoka SoftBank Hawks Equivalent: 勝ち運 (Winner's Luck) | B35: まけないえーす (makenai ēsu) | C35: Literally: "Unbeatable Ace" Colloquially: Kazumi had a career plagued (and shortened) by injuries. But when he was on, he was untouchable. The winner of two Sawamura Awards in his short career, Saitoh would post an obscene .775 winning percentage as a starter (career record of 79-23). His finest season coming in 2006, where he would go 18-3 with a 1.75 ERA over 201 innings (with 205 strikeouts) with 8 complete games (5 of which were shutouts) en route to the pitching Triple Crown and the Sawamura. Unfortunately, the next season would be his final of his playing days after dealing with repeated shoulder injuries. He's now the coach for the Hawks' shi-gun (fourth string) team. And... he's also a YouTuber. Localization: "Makenai Ēsu" | D35: When Saitoh is pitching, his lineup will show up to get him the win | E35: 登板中、味方打者のパワー+5 | F35: ='FULL Special Ability List'!F128 -> N/A | G35: ='FULL Special Ability List'!G128 -> 登板すると勝ちを呼び込む
A36: 燃える男 OB: Senichi Hoshino [星野仙一], Chunichi Dragons Equivalent: 闘志 (Fighting Spirit) | B36: もえるおとこ (moeru otoko) | C36: Literally: "Fired Up Man" Colloquially: Initially promised to be drafted by the Giants, Senichi Hoshino fell to the Dragons when they renegged on their word. Since then, Hoshino has been a man of the people - a true Giants Hater. His outspoken personality and willingness to do whatever it takes for the win endeared him to the public. Even more impressively, he levied his grudge against the Giants to help the Dragons deny them their chance at a 10th consecutive Japan Series title, beating them en route to the 1974 finals. Though they would eventually lose to the Lotte Orions, Hoshino's heroics would not be forgotten Localization: "Moeru Otoko" | D36: The passion flows from Senichi Hoshino whenever he takes the mound.Whenever he's pitching, the air in the stadium will change... | E36: スタミナ切れ状態ではなく、自責点0以下で同点か勝っているときにボールが重くなり、動揺状態になりにくくなる。また、相手打者の威圧感無効化 | F36: ='FULL Special Ability List'!F130 -> N/A | G36: ='FULL Special Ability List'!G130 -> 闘志あふれる投球をする
A37: ロケットボーイズ OB: Hirotoshi Ishii [石井弘寿], Tokyo Yakult Swallows OB: Ryota Igarashi [五十嵐亮太], Tokyo Yakult Swallows Equivalent: 球速安定 (Constant Speed) | B37: ろけっとぼーいず (roketto bōizu) | C37: Literally: "Rocket Boys" Colloquially: In the early 2000s, the Yakult bullpen was graced by speed. It held both the fastest throwing right-handed pitcher - Ryota Igarashi (158 km/h) and the fastest throwing left-handed pitcher - Hirotoshi Ishii (155 km/h). Together, these two were known as the "Rocket Boys," dubbed as such in 2002 after fantastic seasons from the both of them. Ishii: 1.51 ERA over 89.2 innings with a 0.836 WHIP; Igarashi: 2.08 ERA over 78 innings with a 0.859 WHIP. Localization: "Roketto Bōizu" | D37: The game is in good hands when either flamethrower steps out of Yakult's bullpen | E37: 平均球速+2km/h | F37: ='FULL Special Ability List'!F133 -> N/A | G37: ='FULL Special Ability List'!G133 -> 安定して球速を出せる
A39: Fielder Special Abilities
A41: アニキ OB: Tomoaki Kanemoto [金本知憲], Hanshin Tigers Equivalent: ムード◯ (Good Mood) | B41: あにき (aniki) | C41: Litrerally: "Older Brother" Colloquially: Tomoaki Kanemoto was more than just an iron man (played 1,492 consecutive games and, even more impressively, 13,686 conseutive innings), he was an older brother figure to the team's younger players, staff, and even officials. Well respected for both his resume accrued on the field and his actions off of it, Kanemoto was a true aniki. Localization: "Aniki" | D41: Kanemoto will make anyone around him feel better. In doing so, he'll make them play better too! | E41: 味方野手のミート+5、パワー+5 | F41: ='FULL Special Ability List'!F149 -> N/A | G41: ='FULL Special Ability List'!G149 -> チームのムードを良くする
A42: アライバ OB: Masahiro Araki [荒木雅博], Chunichi Dragons OB: Hirokazu Ibata [井端弘和], Chunichi Dragons Equivalent: 守備職人 (Defensive Artisan) | B42: あらいば (araiba) | C42: Literally: "Ara-Iba" (for ARAki and IBAta) Colloquially: In the late 90s through the 00s, the Chunichi Dragons enjoyed an electric pair in the middle of the diamond. Second baseman Masahiro Araki and shortstop Hirokazu Ibata were both wizards in the field. So much so that their combined efforts have been immortalized, with them being called the "Araiba Duo" 「アライバコンビ」due to sharing the middle infield and typically batting first and second in the lineup. They even have their own dedicated Wikipedia page speaking on their defensive exploits. Localizaiton: "Ara-Iba (Combo)" | D42: Have no fear if something is hit up the middle for these Dragons. They'll handle it with aplomb | E42: 守備時に、送球速度と背走速度が上がる | F42: ='FULL Special Ability List'!F150 -> N/A | G42: ='FULL Special Ability List'!G150 -> 守備のとき熟練の技をみせる
A43: おかわり君 OB: Takeya Nakamura [中村剛也], Saitama Seibu Lions Equivalent: マルチ弾 (Multi-Homer) | B43: おかわりくん (okawari-kun) | C43: Literally: "Mr. Second Helping" Colloquially: Takeya Nakamura is... a bigger guy. He's also a monster with a bat in hand. Still playing at age 40 (as of 2024), Nakamura is the active leader in homeruns at 490 career round-trippers. He's as likely to take a second helping of a jog around the bases as he is a, uh... meal Localization: "Okawari-kun" | D43: If Nakamura hits a homerun, pitchers beware - a second may be coming soon | E43: その試合でホームランを打っているとパワー+10（2本目以降は無効） | F43: ='FULL Special Ability List'!F155 -> N/A | G43: ='FULL Special Ability List'!G155 -> ホームランを打っているとパワーが上がる
A44: 絶好調男 OB: Kiyoshi Nakahata [中畑清], Yomiuri Giants Equivalent: ムード◯ | B44: ぜっこうちょうおとこ (zekkōchō otoko) | C44: Literally: "Man In Perfect Form" Colloquially: No matter how he's feeling, Kiyoshi Nakahata will give you his best. Or, at least, he'll say he's at his best 「絶好調！」is how he's doing no matter what. That positive energy is infectious. Localization: "Zekkōchō Otoko" | D44: Kiyoshi Nakahata's positive personality rubs off on all of those he's around - to positive effect! | E44: 味方野手のミート+5、パワー+5 | F44: ='FULL Special Ability List'!F167 -> N/A | G44: ='FULL Special Ability List'!G167 -> チームのムードを良くする
A45: 小さな大打者 OB: Tsutomu Wakamatsu [若松勉], Tokyo Yakult Swallows Equivalent: アベレージヒッター (Contact Hitter) | B45: ちいさなだいだしゃ (chīsana daidasha) | C45: Literally: "Small (but) Large Batter" Colloquially: Like Masanori Ishikawa earlier on this list, this one is a bit self-explanatory. Like Ishikawa too, Tsutomu Wakamatsu is only 168 cm (5'6"). Despite this, he finished his 19 year career with 2,173 hits, 220 homeruns, and a .319/.375/.481 triple slash. .319 is the highest career batting average in the NPB of all time. Localization: "Chīsana Daidasha" | D45: Despite his small frame, Tsutomu Wakamatsu is a big time hitter. Expect him to slap a single or double when he steps up to the plate | E45: ミート打ちのとき、ヒット性の打球が出やすくなる。 | F45: ='FULL Special Ability List'!F173 -> N/A | G45: ='FULL Special Ability List'!G173 -> ヒット性の打球が出やすい
A46: バックスクリーン男 OB: Takahiro Ikeyama [池山隆寛], Tokyo Yakult Swallows Equivalent: パワーヒッター (Power Hitter) | B46: ばっくすくりーんおとこ (bakkusukurīn otoko) | C46: Literally: "Batter's Eye Man" Colloquially: Big swings. Bit hits. Big strikeouts. That was Takahiro Ikeyama's game, particularly novel as a shortstop in the 80s/90s NPB. Hitting 30+ homeruns in 5 straight seasons from 1988 - 1992, he finished his career with 304 homers and 1,462 streikouts. Dead center... look out. Localization: "Bakkusukurīn Otoko" | D46: Ikeyama's a huge swinger. With that comes strikeouts, but also... lots of power | E46: 強振して打つとホームラン性の打球が出やすくなる | F46: ='FULL Special Ability List'!F179 -> N/A | G46: ='FULL Special Ability List'!G179 -> ホームラン性の打球が出やすい
A47: 不惑の大砲 OB: Hiromitsu Kadota [門田博光], Nankai Hawks Equivalent: パワーヒッター (Power Hitter) | B47: ふわくのたいほう (fuwaku-no-taihō) | C47: Literally: "The Over-Forty Cannon" Colloquially: It's no small feat to simply play any professional sport into your 40s. Hiromatsu Kadota did so, and did so with great success, until he was 44. In fact, it can be argued that the best season of his career was his age-40 season in 1988, where he put up a .311/.429/.633 triple slash with 44 homeruns and 125 RBI, 98 walks, and only 82 strikeouts en route to an MVP, becoming the oldest player to win the award in the NPB. He would continue being productive up until even his final season at age 44 in 1992, where he would put up a respectable .773 OPS over 65 games played. Localization: "Fuwaku-no-Taihō" | D47: Age doesn't matter when it comes to the "Over-40 Cannon." Old Man Strength is in full swing when Kadota steps up to the plate | E47: 強振して打つとホームラン性の打球が出やすくなる | F47: ='FULL Special Ability List'!F183 -> N/A | G47: ='FULL Special Ability List'!G183 -> ホームラン性の打球が出やすい
A48: ミスター OB: Shigeo Nagashima [長嶋茂雄], Yomiuri Giants Equivalent: 威圧感 (Intimidator) | B48: みすたー (misutā) | C48: Literally: "Mister" Colloquially: Short for 「ミスタープロ野球」("Mr. Pro Baseball"). Shigeo Nagashima was one of the finest complete-players the NPB has ever seen. As an essential part of the Giants' "V9" team, Nagashima is the encapsulation of a "Pro Player." He led the Central League in hits 10 times, and batting average 6 times. Retired with 444 homeruns, 190 stolen bases, a .305/.379./.540 triple slash, and 2471 hits. His incredible on-the-field resume transcended the Giants hate, garnering him respect even from other fanbases (hence him just being... "Mister") Localization: "Misutā" | D48: Pitchers will have trouble no matter what they may try against Nagashima | E48: 相手投手の球速-2km/h、コントロール-10、スタミナ消費量+15。自分の前の打者のときは、相手投手の球速-2km/h、コントロール-10、スタミナ消費量+10 | F48: ='FULL Special Ability List'!F191 -> N/A | G48: ='FULL Special Ability List'!G191 -> 投手に威圧感を与える
A49: Mr... 赤ヘル OB: Koji Yamamoto [山本浩二], Hiroshima Toyo Carp イーグルス OB: Koichi Isobe [磯部公一], Tohoku Rakuten Golden Eagles スワローズ OB: Norichika Aoki [青木宣親], Tokyo Yakult Swallows OB: Tsutomu Wakamatsu [若松勉], Tokyo Yakult Swallows OB: Atsuya Furuta [古田敦也], Tokyo Yakult Swallows OB: Takahiro Ikeyama [池山隆寛], Tokyo Yakult Swallows OB: Akinori Iwamura [岩村明憲], Tokyo Yakult Swallows OB: Tetsuto Yamada [山田哲人], Tokyo Yakult Swallows タイガース OB: Fumio Fujimura [藤村富美男], Osaka Tigers OB: Masayuki Kakefu [掛布雅之], Hanshin Tigers OB: Koichi Tabuchi [田淵幸一], Hanshin Tigers ドラゴンズ OB: Kazuyoshi Tatsunami [立浪和義], Chunichi Dragons OB: Morimichi Takagi [高木守道], Chunichi Dragons パーフェクト OB: Hiromi Makihara [槇原寛己], Yomiuri Giants ファイターズ OB: Yukio Tanaka [田中幸雄], Hokkaido Nippon-Ham Fighters ブルーウェーブ OB: Yasuo Fujii [藤井康雄], Orix Braves [his OB is specifically from 1990, one year before the team would be called the Blue Wave] ブレーブス OB: Atsushi Nagaike [長池徳士], Hankyu Braves ホークス OB: Hiroki Kokubo [小久保裕紀], Fukuoka Daiei Hawks Equivalent: ムード◯ (Good Mood) | B49: Mr... あかへる (aka heru) いーぐるす (īgurusu) すわろーず (suwarōzu) たいがーす (taigāsu) どらごんず (doragonzu) ぱーふぇくと (pāfekuto) ふぁいたーず (faitāzu) ぶるーうぇーぶ (burūēbu) ぶれーぶす (burēbusu) ほーくす (hōkusu) | C49: Mr... "Red Helmet" "Eagles" "Swallows" "Tigers" "Dragons" "Perfect" "Fighters" "Blue Wave" "Braves" "Hawks" | D49: Each of these Misters best represent their teams. What they stand for, who they are, what they accomplished... They embody the spirit of their team. And, in all cases, were excellent playes in their own rights. Or in Hiromi Makihara's case - threw a perfect game | E49: It's always a mood booster to have a special teammate. So much so that you'll want to play better just to keep up | F49: ='FULL Special Ability List'!F192 -> N/A | G49: ='FULL Special Ability List'!G192 -> チームのムードを良くする
A50: 若大将 OB: Tatsunori Hara [原辰徳], Yomiuri Giants Equivalent: ムード◯ | B50: わかたいしょう (wakataishō) | C50: Literally: "Young Commander" Colloquially: Having his first stint as manager starting at just age 41, Hara was the "Young Commander" 「若大将」which is a name that has followed him since his playing days. 若大将 is a (somewhat) common Japanese nickname used for an heir apparent to take over as a manager or leader. Localization: "Wakataishō" | D50: Hara led the Giants as a player and as a manager for over 40 years. Players get a boost in mood when he's around | E50: 味方野手のミート+5、パワー+5 | F50: ='FULL Special Ability List'!F198 -> N/A | G50: ='FULL Special Ability List'!G198 -> チームのムードを良くする
A52: Pitcher Red Abilities
A54: 悲劇のエース OB: Tomohiro Kuroki [黒木知宏], Chiba Lotte Marines Equivalent: 負け運 (Loser's Luck) | B54: ひげきのえーす (higeki-no-ēsu) | C54: Literally: "Tragic Ace" Colloquially: On July 7, 1998, the Chiba Lotte Marines were playing the Orix Blue Wave with aspirations to end an abysmal 16-game losign streak. All was looking well as they took a 2-run lead into the 9th, with young arm Tomohiro Kuroki on the mound looking to notch a complete game win. But disaster would strike with two outs, as Kuroki would allow two runs to score and the Blue Wave to tie the game. Overwhelmed with disappointment and affected by dehydration, Kuroki crumbled on the mound in tears. The Marines would go on to lose that game to give themselves the dubious record of most consecutive losses in the NPB at 17. From that day on, Kuroki would be known as the "Tragic Ace" Localization: "Higeki-no-Ēsu" | D54: Sometimes your team just doesn't have it. Despite his best efforts, Kuroki can't do it all... | E54: 登板中、味方打者のパワー-5 | F54: ='FULL Special Ability List'!F223 -> N/A | G54: ='FULL Special Ability List'!G223 -> 登板すると勝ちにめぐまれない

Sheet HiraganaKatakana Chart
A1: Hiragana Chart (平仮名) Read Right -> Left
A2: Photo
A4: n | B4: w- | C4: r- | D4: y- | E4: m- | F4: p- | G4: b- | H4: h- | I4: n- | J4: d- | K4: t- | L4: z- | M4: s- | N4: g- | O4: k-
A5: ん | B5: わ | C5: ら | D5: や | E5: ま | F5: ぱ | G5: ば | H5: は | I5: な | J5: だ | K5: た | L5: ざ | M5: さ | N5: が | O5: か | P5: あ | Q5: -a
B6: ゐ (archaic) | C6: り | E6: み | F6: ぴ | G6: び | H6: ひ | I6: に | J6: ぢ (ji/di) | K6: ち (chi) | L6: じ (ji) | M6: し (shi) | N6: ぎ | O6: き | P6: い | Q6: -i
C7: る | D7: ゆ | E7: む | F7: ぷ | G7: ぶ | H7: ふ (fu) | I7: ぬ | J7: づ (tzu/dzu) | K7: つ (tsu) | L7: ず | M7: す | N7: ぐ | O7: く | P7: う | Q7: -u
B8: ゑ (archaic) | C8: れ | E8: め | F8: ぺ | G8: べ | H8: へ | I8: ね | J8: で | K8: て | L8: ぜ | M8: せ | N8: げ | O8: け | P8: え | Q8: -e
B9: を (o) | C9: ろ | D9: よ | E9: も | F9: ぽ | G9: ぼ | H9: ほ | I9: の | J9: ど | K9: と | L9: ぞ | M9: そ | N9: ご | O9: こ | P9: お | Q9: -o
A11: Katakana Chart (カタカナ) Read Right -> Left
A12: Photo
A14: n | B14: w- | C14: r- | D14: y- | E14: m- | F14: p- | G14: b- | H14: h- | I14: n- | J14: d- | K14: t- | L14: z- | M14: s- | N14: g- | O14: k-
A15: ン | B15: ワ | C15: ラ | D15: ヤ | E15: マ | F15: パ | G15: バ | H15: ハ | I15: ナ | J15: ダ | K15: タ | L15: ザ | M15: サ | N15: ガ | O15: カ | P15: ア | Q15: -a
B16: ヰ (archaic) | C16: リ | E16: ミ | F16: ピ | G16: ビ | H16: ヒ | I16: ニ | J16: ヂ (ji/di) | K16: チ (chi) | L16: ジ (ji) | M16: シ (shi) | N16: ギ | O16: キ | P16: イ | Q16: -i
C17: ル | D17: ユ | E17: ム | F17: プ | G17: ブ | H17: フ (fu) | I17: ヌ | J17: ヅ (tzu/dzu) | K17: ツ (tsu) | L17: ズ | M17: ス | N17: グ | O17: ク | P17: ウ | Q17: -u
B18: ヱ (archaic) | C18: レ | E18: メ | F18: ぺ | G18: べ | H18: ヘ | I18: ネ | J18: デ | K18: テ | L18: ゼ | M18: セ | N18: ゲ | O18: ケ | P18: エ | Q18: -e
B19: ヲ (unused) | C19: ロ | D19: ヨ | E19: モ | F19: ポ | G19: ボ | H19: ホ | I19: ノ | J19: ド | K19: ト | L19: ゾ | M19: ソ | N19: ゴ | O19: コ | P19: オ | Q19: -o
A21: Yōon Charts (拗音)
A22: Link
B24: Katakana | M24: Hiragana
C25: ャ ya | D25: ュ yu | E25: ョ yo | N25: ゃ ya | O25: ゅ yu | P25: ょ yo
B26: キ ki | C26: キャ kya | D26: キュ kyu | E26: キョ kyo | M26: き ki | N26: きゃ kya | O26: きゅ kyu | P26: きょ kyo
B27: シ shi | C27: シャ sha | D27: シュ shu | E27: ショ sho | M27: し shi | N27: しゃ sha | O27: しゅ shu | P27: しょ sho
B28: チ chi | C28: チャ cha | D28: チュ chu | E28: チョ cho | M28: ち chi | N28: ちゃ cha | O28: ちゅ chu | P28: ちょ cho
B29: ニ ni | C29: ニャ nya | D29: ニュ nyu | E29: ニョ nyo | M29: に ni | N29: にゃ nya | O29: にゅ nyu | P29: にょ nyo
B30: ヒ hi | C30: ヒャ hya | D30: ヒュ hyu | E30: ヒョ hyo | M30: ひ hi | N30: ひゃ hya | O30: ひゅ hyu | P30: ひょ hyo
B31: ミ mi | C31: ミャ mya | D31: ミュ myu | E31: ミョ myo | M31: み mi | N31: みゃ mya | O31: みゅ myu | P31: みょ myo
B32: リ ri | C32: リャ rya | D32: リュ ryu | E32: リョ ryo | M32: り ri | N32: りゃ rya | O32: りゅ ryu | P32: りょ ryo
B33: ギ gi | C33: ギャ gya | D33: ギュ gyu | E33: ギョ gyo | M33: ぎ gi | N33: ぎゃ gya | O33: ぎゅ gyu | P33: ぎょ gyo
B34: ジ ji | C34: ジャ ja | D34: ジュ ju | E34: ジョ jo | M34: じ ji | N34: じゃ ja | O34: じゅ ju | P34: じょ jo
B35: ビ bi | C35: ビャ bya | D35: ビュ byu | E35: ビョ byo | M35: び bi | N35: びゃ bya | O35: びゅ byu | P35: びょ byo
B36: ピ pi | C36: ピャ pya | D36: ピュ pyu | E36: ピョ pyo | M36: ぴ pi | N36: ぴゃ pya | O36: ぴゅ hyu | P36: ぴょ pyo
